BEGIN:VCALENDAR
VERSION:2.0
PRODID:-//candle.fmph.uniba.sk//NONSGML kigkonsult.se iCalcreator 2.16.12//
METHOD:PUBLISH
X-WR-CALNAME:LF-ULChB
X-WR-CALDESC:Rozvrh hodín vyexportovaný pomocou Candle\, https://github.com
 /fmfi-svt/candle
X-WR-TIMEZONE:Europe/Bratislava
BEGIN:VEVENT
UID:lesson(235)-semester(022026-052026)-candle@candle.fmph.uniba.sk
DTSTAMP:20260424T212416Z
CATEGORIES:Labák
DESCRIPTION:Labák\n\nVyučujúci:\n - LFUK\n
DTSTART;TZID=Europe/Bratislava:20260216T073000
DTEND;TZID=Europe/Bratislava:20260216T092000
LOCATION:LF-ULChB
RRULE:FREQ=WEEKLY;UNTIL=20260523T000000Z
SUMMARY:Základy biochémie
END:VEVENT
BEGIN:VEVENT
UID:lesson(236)-semester(022026-052026)-candle@candle.fmph.uniba.sk
DTSTAMP:20260424T212416Z
CATEGORIES:Prednáška
DESCRIPTION:Prednáška\n\nVyučujúci:\n - LFUK\n
DTSTART;TZID=Europe/Bratislava:20260216T093000
DTEND;TZID=Europe/Bratislava:20260216T112000
LOCATION:LF-ULChB
RRULE:FREQ=WEEKLY;UNTIL=20260523T000000Z
SUMMARY:Základy biochémie
END:VEVENT
END:VCALENDAR
