BEGIN:VCALENDAR
VERSION:2.0
PRODID:-//candle.fmph.uniba.sk//NONSGML kigkonsult.se iCalcreator 2.16.12//
METHOD:PUBLISH
X-WR-CALNAME:I-H6
X-WR-CALDESC:Rozvrh hodín vyexportovaný pomocou Candle\, https://github.com
 /fmfi-svt/candle
X-WR-TIMEZONE:Europe/Bratislava
BEGIN:VEVENT
UID:lesson(35)-semester(022026-052026)-candle@candle.fmph.uniba.sk
DTSTAMP:20260424T212429Z
CATEGORIES:Prednáška
DESCRIPTION:Prednáška\n\nVyučujúci:\n - D. Bezáková\n - M. Tomcsányiová\n
DTSTART;TZID=Europe/Bratislava:20260216T081000
DTEND;TZID=Europe/Bratislava:20260216T094000
LOCATION:I-H6
RRULE:FREQ=WEEKLY;UNTIL=20260523T000000Z
SUMMARY:Úvod do riešenia informatických úloh
END:VEVENT
BEGIN:VEVENT
UID:lesson(398)-semester(022026-052026)-candle@candle.fmph.uniba.sk
DTSTAMP:20260424T212429Z
CATEGORIES:Cvičenie
DESCRIPTION:Cvičenie\n\nVyučujúci:\n - S. Sekereš\n
DTSTART;TZID=Europe/Bratislava:20260216T095000
DTEND;TZID=Europe/Bratislava:20260216T112000
LOCATION:I-H6
RRULE:FREQ=WEEKLY;UNTIL=20260523T000000Z
SUMMARY:Databázy a analýza dát
END:VEVENT
BEGIN:VEVENT
UID:lesson(258)-semester(022026-052026)-candle@candle.fmph.uniba.sk
DTSTAMP:20260424T212429Z
CATEGORIES:Kurz
DESCRIPTION:Kurz\n\nVyučujúci:\n - M. Winczer\n
DTSTART;TZID=Europe/Bratislava:20260216T113000
DTEND;TZID=Europe/Bratislava:20260216T130000
LOCATION:I-H6
RRULE:FREQ=WEEKLY;UNTIL=20260523T000000Z
SUMMARY:Základy programovania (2)
END:VEVENT
BEGIN:VEVENT
UID:lesson(646)-semester(022026-052026)-candle@candle.fmph.uniba.sk
DTSTAMP:20260424T212429Z
CATEGORIES:Cvičenie
DESCRIPTION:Cvičenie\n\nVyučujúci:\n - L. Rosová\n
DTSTART;TZID=Europe/Bratislava:20260216T163000
DTEND;TZID=Europe/Bratislava:20260216T180000
LOCATION:I-H6
RRULE:FREQ=WEEKLY;UNTIL=20260523T000000Z
SUMMARY:Analýza a vizualizácia dát
END:VEVENT
BEGIN:VEVENT
UID:lesson(251)-semester(022026-052026)-candle@candle.fmph.uniba.sk
DTSTAMP:20260424T212429Z
CATEGORIES:Cvičenie
DESCRIPTION:Cvičenie\n\nVyučujúci:\n - A. Blaho\n - D. Bezáková\n - Š. Póco
 š\n
DTSTART;TZID=Europe/Bratislava:20260217T081000
DTEND;TZID=Europe/Bratislava:20260217T094000
LOCATION:I-H6
RRULE:FREQ=WEEKLY;UNTIL=20260523T000000Z
SUMMARY:Programovanie (2)
END:VEVENT
BEGIN:VEVENT
UID:lesson(538)-semester(022026-052026)-candle@candle.fmph.uniba.sk
DTSTAMP:20260424T212429Z
CATEGORIES:Cvičenie
DESCRIPTION:Cvičenie\n\nVyučujúci:\n - M. Matok\n - V. Hlaváč\n - A. Raving
 er\n
DTSTART;TZID=Europe/Bratislava:20260217T095000
DTEND;TZID=Europe/Bratislava:20260217T112000
LOCATION:I-H6
RRULE:FREQ=WEEKLY;UNTIL=20260523T000000Z
SUMMARY:Programovanie (2) v Jave
END:VEVENT
BEGIN:VEVENT
UID:lesson(670)-semester(022026-052026)-candle@candle.fmph.uniba.sk
DTSTAMP:20260424T212429Z
CATEGORIES:Cvičenie
DESCRIPTION:Cvičenie\n\nVyučujúci:\n - P. Náther\n - B. Zigo\n
DTSTART;TZID=Europe/Bratislava:20260217T113000
DTEND;TZID=Europe/Bratislava:20260217T130000
LOCATION:I-H6
RRULE:FREQ=WEEKLY;UNTIL=20260523T000000Z
SUMMARY:Štatistické metódy v umelej inteligencii
END:VEVENT
BEGIN:VEVENT
UID:lesson(671)-semester(022026-052026)-candle@candle.fmph.uniba.sk
DTSTAMP:20260424T212429Z
CATEGORIES:Cvičenie
DESCRIPTION:Cvičenie\n\nVyučujúci:\n - P. Náther\n - B. Zigo\n
DTSTART;TZID=Europe/Bratislava:20260217T113000
DTEND;TZID=Europe/Bratislava:20260217T130000
LOCATION:I-H6
RRULE:FREQ=WEEKLY;UNTIL=20260523T000000Z
SUMMARY:Artificial Intelligence
END:VEVENT
BEGIN:VEVENT
UID:lesson(273)-semester(022026-052026)-candle@candle.fmph.uniba.sk
DTSTAMP:20260424T212429Z
CATEGORIES:Cvičenie
DESCRIPTION:Cvičenie\n\nVyučujúci:\n - F. Gyárfáš\n - I. Uhliarik\n - A. Ši
 mko\n
DTSTART;TZID=Europe/Bratislava:20260217T131000
DTEND;TZID=Europe/Bratislava:20260217T144000
LOCATION:I-H6
RRULE:FREQ=WEEKLY;UNTIL=20260523T000000Z
SUMMARY:Extrémne programovanie
END:VEVENT
BEGIN:VEVENT
UID:lesson(648)-semester(022026-052026)-candle@candle.fmph.uniba.sk
DTSTAMP:20260424T212429Z
CATEGORIES:Cvičenie
DESCRIPTION:Cvičenie\n\nVyučujúci:\n - M. Makovník\n
DTSTART;TZID=Europe/Bratislava:20260217T145000
DTEND;TZID=Europe/Bratislava:20260217T162000
LOCATION:I-H6
RRULE:FREQ=WEEKLY;UNTIL=20260523T000000Z
SUMMARY:Úvod do počítačovej grafiky
END:VEVENT
BEGIN:VEVENT
UID:lesson(649)-semester(022026-052026)-candle@candle.fmph.uniba.sk
DTSTAMP:20260424T212429Z
CATEGORIES:Cvičenie
DESCRIPTION:Cvičenie\n\nVyučujúci:\n - M. Makovník\n
DTSTART;TZID=Europe/Bratislava:20260217T145000
DTEND;TZID=Europe/Bratislava:20260217T162000
LOCATION:I-H6
RRULE:FREQ=WEEKLY;UNTIL=20260523T000000Z
SUMMARY:Počítačová grafika (2)
END:VEVENT
BEGIN:VEVENT
UID:lesson(639)-semester(022026-052026)-candle@candle.fmph.uniba.sk
DTSTAMP:20260424T212429Z
CATEGORIES:Cvičenie
DESCRIPTION:Cvičenie\n\nVyučujúci:\n - M. Barla\n - T. Kramár\n
DTSTART;TZID=Europe/Bratislava:20260217T163000
DTEND;TZID=Europe/Bratislava:20260217T180000
LOCATION:I-H6
RRULE:FREQ=WEEKLY;UNTIL=20260523T000000Z
SUMMARY:Databázy (2)
END:VEVENT
BEGIN:VEVENT
UID:lesson(274)-semester(022026-052026)-candle@candle.fmph.uniba.sk
DTSTAMP:20260424T212429Z
CATEGORIES:Cvičenie
DESCRIPTION:Cvičenie\n\nVyučujúci:\n - I. Uhliarik\n - T. Bíla\n
DTSTART;TZID=Europe/Bratislava:20260217T181000
DTEND;TZID=Europe/Bratislava:20260217T194000
LOCATION:I-H6
RRULE:FREQ=WEEKLY;UNTIL=20260523T000000Z
SUMMARY:Linux pre používateľov
END:VEVENT
BEGIN:VEVENT
UID:lesson(266)-semester(022026-052026)-candle@candle.fmph.uniba.sk
DTSTAMP:20260424T212429Z
CATEGORIES:Kurz
DESCRIPTION:Kurz\n\nVyučujúci:\n - J. Šiška\n - A. Šimko\n
DTSTART;TZID=Europe/Bratislava:20260218T090000
DTEND;TZID=Europe/Bratislava:20260218T111500
LOCATION:I-H6
RRULE:FREQ=WEEKLY;UNTIL=20260523T000000Z
SUMMARY:Princípy počítačov - operačné systémy
END:VEVENT
BEGIN:VEVENT
UID:lesson(505)-semester(022026-052026)-candle@candle.fmph.uniba.sk
DTSTAMP:20260424T212429Z
CATEGORIES:Cvičenie
DESCRIPTION:Cvičenie\n\nVyučujúci:\n - Ľ. Salanci\n
DTSTART;TZID=Europe/Bratislava:20260218T113000
DTEND;TZID=Europe/Bratislava:20260218T130000
LOCATION:I-H6
RRULE:FREQ=WEEKLY;UNTIL=20260523T000000Z
SUMMARY:Programovanie (2)
END:VEVENT
BEGIN:VEVENT
UID:lesson(269)-semester(022026-052026)-candle@candle.fmph.uniba.sk
DTSTAMP:20260424T212429Z
CATEGORIES:Labák
DESCRIPTION:Labák\n\nVyučujúci:\n - J. Kľuka\n - J. Šiška\n
DTSTART;TZID=Europe/Bratislava:20260218T131000
DTEND;TZID=Europe/Bratislava:20260218T144000
LOCATION:I-H6
RRULE:FREQ=WEEKLY;UNTIL=20260523T000000Z
SUMMARY:Logika pre informatikov
END:VEVENT
BEGIN:VEVENT
UID:lesson(537)-semester(022026-052026)-candle@candle.fmph.uniba.sk
DTSTAMP:20260424T212429Z
CATEGORIES:Cvičenie
DESCRIPTION:Cvičenie\n\nVyučujúci:\n - D. Bernát\n - J. Janáček\n - P. Groc
 hal\n
DTSTART;TZID=Europe/Bratislava:20260218T145000
DTEND;TZID=Europe/Bratislava:20260218T162000
LOCATION:I-H6
RRULE:FREQ=WEEKLY;UNTIL=20260523T000000Z
SUMMARY:Systémové programovanie
END:VEVENT
BEGIN:VEVENT
UID:lesson(641)-semester(022026-052026)-candle@candle.fmph.uniba.sk
DTSTAMP:20260424T212429Z
CATEGORIES:Cvičenie
DESCRIPTION:Cvičenie\n\nVyučujúci:\n - I. Bečková\n - C. Pizarroso Troncoso
 \n
DTSTART;TZID=Europe/Bratislava:20260218T163000
DTEND;TZID=Europe/Bratislava:20260218T180000
LOCATION:I-H6
RRULE:FREQ=WEEKLY;UNTIL=20260523T000000Z
SUMMARY:Neurónové siete
END:VEVENT
BEGIN:VEVENT
UID:lesson(591)-semester(022026-052026)-candle@candle.fmph.uniba.sk
DTSTAMP:20260424T212429Z
CATEGORIES:Cvičenie
DESCRIPTION:Cvičenie\n\nPoznámka: každý druhý týždeň\, rozdelí vyučujúci\n
 \nVyučujúci:\n - R. Hurtiš\n
DTSTART;TZID=Europe/Bratislava:20260218T181000
DTEND;TZID=Europe/Bratislava:20260218T194000
LOCATION:I-H6
RRULE:FREQ=WEEKLY;UNTIL=20260523T000000Z
SUMMARY:Metódy voľnej optimalizácie
END:VEVENT
BEGIN:VEVENT
UID:lesson(253)-semester(022026-052026)-candle@candle.fmph.uniba.sk
DTSTAMP:20260424T212429Z
CATEGORIES:Cvičenie
DESCRIPTION:Cvičenie\n\nVyučujúci:\n - A. Blaho\n - A. Hrušecká\n - Š. Póco
 š\n
DTSTART;TZID=Europe/Bratislava:20260219T081000
DTEND;TZID=Europe/Bratislava:20260219T094000
LOCATION:I-H6
RRULE:FREQ=WEEKLY;UNTIL=20260523T000000Z
SUMMARY:Programovanie (2)
END:VEVENT
BEGIN:VEVENT
UID:lesson(255)-semester(022026-052026)-candle@candle.fmph.uniba.sk
DTSTAMP:20260424T212429Z
CATEGORIES:Cvičenie
DESCRIPTION:Cvičenie\n\nVyučujúci:\n - R. Hrušecký\n - A. Hrušecká\n - Ľ. J
 ašková\n - M. Čujdíková\n
DTSTART;TZID=Europe/Bratislava:20260219T095000
DTEND;TZID=Europe/Bratislava:20260219T112000
LOCATION:I-H6
RRULE:FREQ=WEEKLY;UNTIL=20260523T000000Z
SUMMARY:Webové aplikácie (1)
END:VEVENT
BEGIN:VEVENT
UID:lesson(256)-semester(022026-052026)-candle@candle.fmph.uniba.sk
DTSTAMP:20260424T212429Z
CATEGORIES:Cvičenie
DESCRIPTION:Cvičenie\n\nVyučujúci:\n - R. Hrušecký\n - A. Hrušecká\n - M. Č
 ujdíková\n - Ľ. Jašková\n
DTSTART;TZID=Europe/Bratislava:20260219T113000
DTEND;TZID=Europe/Bratislava:20260219T130000
LOCATION:I-H6
RRULE:FREQ=WEEKLY;UNTIL=20260523T000000Z
SUMMARY:Webové aplikácie (1)
END:VEVENT
BEGIN:VEVENT
UID:lesson(400)-semester(022026-052026)-candle@candle.fmph.uniba.sk
DTSTAMP:20260424T212429Z
CATEGORIES:Cvičenie
DESCRIPTION:Cvičenie\n\nVyučujúci:\n - B. Stehlíková\n
DTSTART;TZID=Europe/Bratislava:20260219T131000
DTEND;TZID=Europe/Bratislava:20260219T144000
LOCATION:I-H6
RRULE:FREQ=WEEKLY;UNTIL=20260523T000000Z
SUMMARY:Metódy riešenia úloh z pravdepodobnosti a štatistiky
END:VEVENT
BEGIN:VEVENT
UID:lesson(399)-semester(022026-052026)-candle@candle.fmph.uniba.sk
DTSTAMP:20260424T212429Z
CATEGORIES:Cvičenie
DESCRIPTION:Cvičenie\n\nVyučujúci:\n - B. Stehlíková\n
DTSTART;TZID=Europe/Bratislava:20260219T131000
DTEND;TZID=Europe/Bratislava:20260219T144000
LOCATION:I-H6
RRULE:FREQ=WEEKLY;UNTIL=20260523T000000Z
SUMMARY:Riešenie úloh z pravdepodobnosti a štatistiky v jazyku R
END:VEVENT
BEGIN:VEVENT
UID:lesson(355)-semester(022026-052026)-candle@candle.fmph.uniba.sk
DTSTAMP:20260424T212429Z
CATEGORIES:Prednáška
DESCRIPTION:Prednáška\n\nVyučujúci:\n - B. Brejová\n - T. Vinař\n - A. Gafu
 rov\n
DTSTART;TZID=Europe/Bratislava:20260219T145000
DTEND;TZID=Europe/Bratislava:20260219T153500
LOCATION:I-H6
RRULE:FREQ=WEEKLY;UNTIL=20260523T000000Z
SUMMARY:Manažment dát
END:VEVENT
BEGIN:VEVENT
UID:lesson(356)-semester(022026-052026)-candle@candle.fmph.uniba.sk
DTSTAMP:20260424T212429Z
CATEGORIES:Cvičenie
DESCRIPTION:Cvičenie\n\nVyučujúci:\n - B. Brejová\n - T. Vinař\n - A. Gafur
 ov\n
DTSTART;TZID=Europe/Bratislava:20260219T154000
DTEND;TZID=Europe/Bratislava:20260219T171000
LOCATION:I-H6
RRULE:FREQ=WEEKLY;UNTIL=20260523T000000Z
SUMMARY:Manažment dát
END:VEVENT
BEGIN:VEVENT
UID:lesson(267)-semester(022026-052026)-candle@candle.fmph.uniba.sk
DTSTAMP:20260424T212429Z
CATEGORIES:Cvičenie
DESCRIPTION:Cvičenie\n\nVyučujúci:\n - P. Borovanský\n - A. Šimko\n - A. Lú
 čny\n - F. Kerák\n
DTSTART;TZID=Europe/Bratislava:20260219T172000
DTEND;TZID=Europe/Bratislava:20260219T193500
LOCATION:I-H6
RRULE:FREQ=WEEKLY;UNTIL=20260523T000000Z
SUMMARY:Programovanie (4)
END:VEVENT
BEGIN:VEVENT
UID:lesson(643)-semester(022026-052026)-candle@candle.fmph.uniba.sk
DTSTAMP:20260424T212429Z
CATEGORIES:Cvičenie
DESCRIPTION:Cvičenie\n\nVyučujúci:\n - M. Halaj\n - B. Zigo\n
DTSTART;TZID=Europe/Bratislava:20260220T081000
DTEND;TZID=Europe/Bratislava:20260220T094000
LOCATION:I-H6
RRULE:FREQ=WEEKLY;UNTIL=20260523T000000Z
SUMMARY:Vizualizácia dát
END:VEVENT
BEGIN:VEVENT
UID:lesson(353)-semester(022026-052026)-candle@candle.fmph.uniba.sk
DTSTAMP:20260424T212429Z
CATEGORIES:Cvičenie
DESCRIPTION:Cvičenie\n\nPoznámka: raz za dva týždne\n\nVyučujúci:\n - J. Ja
 náček\n - D. Bernát\n
DTSTART;TZID=Europe/Bratislava:20260220T113000
DTEND;TZID=Europe/Bratislava:20260220T130000
LOCATION:I-H6
RRULE:FREQ=WEEKLY;UNTIL=20260523T000000Z
SUMMARY:Počítačové siete (1)
END:VEVENT
BEGIN:VEVENT
UID:lesson(647)-semester(022026-052026)-candle@candle.fmph.uniba.sk
DTSTAMP:20260424T212429Z
CATEGORIES:Cvičenie
DESCRIPTION:Cvičenie\n\nVyučujúci:\n - L. Rosová\n
DTSTART;TZID=Europe/Bratislava:20260220T131000
DTEND;TZID=Europe/Bratislava:20260220T144000
LOCATION:I-H6
RRULE:FREQ=WEEKLY;UNTIL=20260523T000000Z
SUMMARY:Základy spracovania a vizualizácie dát
END:VEVENT
END:VCALENDAR
