BEGIN:VCALENDAR
VERSION:2.0
PRODID:-//candle.fmph.uniba.sk//NONSGML kigkonsult.se iCalcreator 2.16.12//
METHOD:PUBLISH
X-WR-CALNAME:I-H4
X-WR-CALDESC:Rozvrh hodín vyexportovaný pomocou Candle\, https://github.com
 /fmfi-svt/candle
X-WR-TIMEZONE:Europe/Bratislava
BEGIN:VEVENT
UID:lesson(86)-semester(022026-052026)-candle@candle.fmph.uniba.sk
DTSTAMP:20260424T193135Z
CATEGORIES:Výber/Vol
DESCRIPTION:Výber/Vol\n\nVyučujúci:\n - L. Budinská\n
DTSTART;TZID=Europe/Bratislava:20260217T095000
DTEND;TZID=Europe/Bratislava:20260217T112000
LOCATION:I-H4
RRULE:FREQ=WEEKLY;UNTIL=20260523T000000Z
SUMMARY:Programátorské súťaže
END:VEVENT
BEGIN:VEVENT
UID:lesson(77)-semester(022026-052026)-candle@candle.fmph.uniba.sk
DTSTAMP:20260424T193135Z
CATEGORIES:Kurz
DESCRIPTION:Kurz\n\nVyučujúci:\n - M. Wagner\n
DTSTART;TZID=Europe/Bratislava:20260218T095000
DTEND;TZID=Europe/Bratislava:20260218T120500
LOCATION:I-H4
RRULE:FREQ=WEEKLY;UNTIL=20260523T000000Z
SUMMARY:Počítačové siete v školskom prostredí
END:VEVENT
BEGIN:VEVENT
UID:lesson(87)-semester(022026-052026)-candle@candle.fmph.uniba.sk
DTSTAMP:20260424T193135Z
CATEGORIES:Kurz
DESCRIPTION:Kurz\n\nVyučujúci:\n - M. Winczer\n
DTSTART;TZID=Europe/Bratislava:20260218T140000
DTEND;TZID=Europe/Bratislava:20260218T153000
LOCATION:I-H4
RRULE:FREQ=WEEKLY;UNTIL=20260523T000000Z
SUMMARY:Metódy tvorby efektívnych algoritmov
END:VEVENT
BEGIN:VEVENT
UID:lesson(44)-semester(022026-052026)-candle@candle.fmph.uniba.sk
DTSTAMP:20260424T193135Z
CATEGORIES:Výber/Vol
DESCRIPTION:Výber/Vol\n\nVyučujúci:\n - M. Tomcsányiová\n
DTSTART;TZID=Europe/Bratislava:20260218T181000
DTEND;TZID=Europe/Bratislava:20260218T194000
LOCATION:I-H4
RRULE:FREQ=WEEKLY;UNTIL=20260523T000000Z
SUMMARY:Príprava úloh pre informatické súťaže
END:VEVENT
BEGIN:VEVENT
UID:lesson(257)-semester(022026-052026)-candle@candle.fmph.uniba.sk
DTSTAMP:20260424T193135Z
CATEGORIES:Cvičenie
DESCRIPTION:Cvičenie\n\nVyučujúci:\n - M. Winczer\n
DTSTART;TZID=Europe/Bratislava:20260219T131000
DTEND;TZID=Europe/Bratislava:20260219T144000
LOCATION:I-H4
RRULE:FREQ=WEEKLY;UNTIL=20260523T000000Z
SUMMARY:Základy programovania (2)
END:VEVENT
END:VCALENDAR
