BEGIN:VCALENDAR
VERSION:2.0
PRODID:-//candle.fmph.uniba.sk//NONSGML kigkonsult.se iCalcreator 2.16.12//
METHOD:PUBLISH
X-WR-CALNAME:I-23
X-WR-CALDESC:Rozvrh hodín vyexportovaný pomocou Candle\, https://github.com
 /fmfi-svt/candle
X-WR-TIMEZONE:Europe/Bratislava
BEGIN:VEVENT
UID:lesson(8)-semester(022026-052026)-candle@candle.fmph.uniba.sk
DTSTAMP:20260424T193128Z
CATEGORIES:Seminár
DESCRIPTION:Seminár\n\nVyučujúci:\n - Z. Černeková\n - V. Kocur\n - Z. Berg
 er Haladová\n - M. Madaras\n - L. Gajdošech\n - F. Jafari\n - M. Halaj\n -
  M. Mok\n - C. Pizarroso Troncoso\n - M. Thakar\n
DTSTART;TZID=Europe/Bratislava:20260216T095000
DTEND;TZID=Europe/Bratislava:20260216T112000
LOCATION:I-23
RRULE:FREQ=WEEKLY;UNTIL=20260523T000000Z
SUMMARY:Seminár počítačového videnia
END:VEVENT
BEGIN:VEVENT
UID:lesson(1162)-semester(022026-052026)-candle@candle.fmph.uniba.sk
DTSTAMP:20260424T193128Z
CATEGORIES:Seminár
DESCRIPTION:Seminár\n\nVyučujúci:\n - T. Jajcayová\n - A. Mihálik\n
DTSTART;TZID=Europe/Bratislava:20260216T140000
DTEND;TZID=Europe/Bratislava:20260216T153000
LOCATION:I-23
RRULE:FREQ=WEEKLY;UNTIL=20260523T000000Z
SUMMARY:Akademické podporné centrum
END:VEVENT
BEGIN:VEVENT
UID:lesson(565)-semester(022026-052026)-candle@candle.fmph.uniba.sk
DTSTAMP:20260424T193128Z
CATEGORIES:Prednáška
DESCRIPTION:Prednáška\n\nVyučujúci:\n - K. Malinovská\n - Z. Černeková\n
DTSTART;TZID=Europe/Bratislava:20260217T095000
DTEND;TZID=Europe/Bratislava:20260217T112000
LOCATION:I-23
RRULE:FREQ=WEEKLY;UNTIL=20260523T000000Z
SUMMARY:Human and Machine Vision
END:VEVENT
BEGIN:VEVENT
UID:lesson(1172)-semester(022026-052026)-candle@candle.fmph.uniba.sk
DTSTAMP:20260424T193128Z
CATEGORIES:Seminár
DESCRIPTION:Seminár\n\nVyučujúci:\n - T. Jajcayová\n - J. Pastorek\n - P. K
 ollár\n
DTSTART;TZID=Europe/Bratislava:20260217T113000
DTEND;TZID=Europe/Bratislava:20260217T130000
LOCATION:I-23
RRULE:FREQ=WEEKLY;UNTIL=20260523T000000Z
SUMMARY:Seminár
END:VEVENT
BEGIN:VEVENT
UID:lesson(9)-semester(022026-052026)-candle@candle.fmph.uniba.sk
DTSTAMP:20260424T193128Z
CATEGORIES:Seminár
DESCRIPTION:Seminár\n\nVyučujúci:\n - R. Ďurikovič\n - A. Mihálik\n - F. Dr
 áček\n
DTSTART;TZID=Europe/Bratislava:20260217T131000
DTEND;TZID=Europe/Bratislava:20260217T144000
LOCATION:I-23
RRULE:FREQ=WEEKLY;UNTIL=20260523T000000Z
SUMMARY:Seminár YACGS
END:VEVENT
BEGIN:VEVENT
UID:lesson(938)-semester(022026-052026)-candle@candle.fmph.uniba.sk
DTSTAMP:20260424T193128Z
CATEGORIES:Prednáška
DESCRIPTION:Prednáška\n\nVyučujúci:\n - Z. Černeková\n
DTSTART;TZID=Europe/Bratislava:20260217T145000
DTEND;TZID=Europe/Bratislava:20260217T162000
LOCATION:I-23
RRULE:FREQ=WEEKLY;UNTIL=20260523T000000Z
SUMMARY:Spracovanie videa
END:VEVENT
BEGIN:VEVENT
UID:lesson(561)-semester(022026-052026)-candle@candle.fmph.uniba.sk
DTSTAMP:20260424T193128Z
CATEGORIES:Kurz
DESCRIPTION:Kurz\n\nVyučujúci:\n - B. Cimrová\n
DTSTART;TZID=Europe/Bratislava:20260218T095000
DTEND;TZID=Europe/Bratislava:20260218T120500
LOCATION:I-23
RRULE:FREQ=WEEKLY;UNTIL=20260523T000000Z
SUMMARY:Modern Methods in Brain Research
END:VEVENT
BEGIN:VEVENT
UID:lesson(568)-semester(022026-052026)-candle@candle.fmph.uniba.sk
DTSTAMP:20260424T193128Z
CATEGORIES:Kurz
DESCRIPTION:Kurz\n\nVyučujúci:\n - B. Cimrová\n - M. Takáč\n
DTSTART;TZID=Europe/Bratislava:20260218T131000
DTEND;TZID=Europe/Bratislava:20260218T161000
LOCATION:I-23
RRULE:FREQ=WEEKLY;UNTIL=20260523T000000Z
SUMMARY:Master&#039\;s Thesis Seminar
END:VEVENT
BEGIN:VEVENT
UID:lesson(293)-semester(022026-052026)-candle@candle.fmph.uniba.sk
DTSTAMP:20260424T193128Z
CATEGORIES:Seminár
DESCRIPTION:Seminár\n\nVyučujúci:\n - B. Brejová\n - T. Vinař\n
DTSTART;TZID=Europe/Bratislava:20260218T172000
DTEND;TZID=Europe/Bratislava:20260218T185000
LOCATION:I-23
RRULE:FREQ=WEEKLY;UNTIL=20260523T000000Z
SUMMARY:Seminár z bioinformatiky (4)
END:VEVENT
BEGIN:VEVENT
UID:lesson(292)-semester(022026-052026)-candle@candle.fmph.uniba.sk
DTSTAMP:20260424T193128Z
CATEGORIES:Seminár
DESCRIPTION:Seminár\n\nVyučujúci:\n - B. Brejová\n - T. Vinař\n
DTSTART;TZID=Europe/Bratislava:20260218T172000
DTEND;TZID=Europe/Bratislava:20260218T185000
LOCATION:I-23
RRULE:FREQ=WEEKLY;UNTIL=20260523T000000Z
SUMMARY:Seminár z bioinformatiky (2)
END:VEVENT
BEGIN:VEVENT
UID:lesson(960)-semester(022026-052026)-candle@candle.fmph.uniba.sk
DTSTAMP:20260424T193128Z
CATEGORIES:Prednáška
DESCRIPTION:Prednáška\n\nVyučujúci:\n - A. Mihálik\n
DTSTART;TZID=Europe/Bratislava:20260219T095000
DTEND;TZID=Europe/Bratislava:20260219T112000
LOCATION:I-23
RRULE:FREQ=WEEKLY;UNTIL=20260523T000000Z
SUMMARY:Grafika v reálnom čase a výpočty na GPU
END:VEVENT
BEGIN:VEVENT
UID:lesson(564)-semester(022026-052026)-candle@candle.fmph.uniba.sk
DTSTAMP:20260424T193128Z
CATEGORIES:Cvičenie
DESCRIPTION:Cvičenie\n\nVyučujúci:\n - K. Malinovská\n
DTSTART;TZID=Europe/Bratislava:20260219T140000
DTEND;TZID=Europe/Bratislava:20260219T153000
LOCATION:I-23
RRULE:FREQ=WEEKLY;UNTIL=20260523T000000Z
SUMMARY:Computational Cognitive Neuroscience
END:VEVENT
BEGIN:VEVENT
UID:lesson(933)-semester(022026-052026)-candle@candle.fmph.uniba.sk
DTSTAMP:20260424T193128Z
CATEGORIES:Výber/Vol
DESCRIPTION:Výber/Vol\n\nVyučujúci:\n - J. Pukancová\n
DTSTART;TZID=Europe/Bratislava:20260220T095000
DTEND;TZID=Europe/Bratislava:20260220T112000
LOCATION:I-23
RRULE:FREQ=WEEKLY;UNTIL=20260523T000000Z
SUMMARY:Tvorivé písanie
END:VEVENT
END:VCALENDAR
