BEGIN:VCALENDAR
VERSION:2.0
PRODID:-//candle.fmph.uniba.sk//NONSGML kigkonsult.se iCalcreator 2.16.12//
METHOD:PUBLISH
X-WR-CALNAME:G-213
X-WR-CALDESC:Rozvrh hodín vyexportovaný pomocou Candle\, https://github.com
 /fmfi-svt/candle
X-WR-TIMEZONE:Europe/Bratislava
BEGIN:VEVENT
UID:lesson(1076)-semester(022026-052026)-candle@candle.fmph.uniba.sk
DTSTAMP:20260424T193224Z
CATEGORIES:Cvičenie
DESCRIPTION:Cvičenie\n\nVyučujúci:\n - PriFUK\n
DTSTART;TZID=Europe/Bratislava:20260220T145000
DTEND;TZID=Europe/Bratislava:20260220T153500
LOCATION:G-213
RRULE:FREQ=WEEKLY;UNTIL=20260523T000000Z
SUMMARY:Základy geológie
END:VEVENT
END:VCALENDAR
