BEGIN:VCALENDAR
VERSION:2.0
PRODID:-//candle.fmph.uniba.sk//NONSGML kigkonsult.se iCalcreator 2.16.12//
METHOD:PUBLISH
X-WR-CALNAME:FIF-ST324
X-WR-CALDESC:Rozvrh hodín vyexportovaný pomocou Candle\, https://github.com
 /fmfi-svt/candle
X-WR-TIMEZONE:Europe/Bratislava
BEGIN:VEVENT
UID:lesson(196)-semester(022026-052026)-candle@candle.fmph.uniba.sk
DTSTAMP:20260425T030303Z
CATEGORIES:Prednáška
DESCRIPTION:Prednáška\n\nPoznámka: ST214\n\nVyučujúci:\n - FiFUK\n
DTSTART;TZID=Europe/Bratislava:20260217T113000
DTEND;TZID=Europe/Bratislava:20260217T121500
LOCATION:FIF-ST324
RRULE:FREQ=WEEKLY;UNTIL=20260523T000000Z
SUMMARY:Mediálna výchova
END:VEVENT
BEGIN:VEVENT
UID:lesson(197)-semester(022026-052026)-candle@candle.fmph.uniba.sk
DTSTAMP:20260425T030303Z
CATEGORIES:Seminár
DESCRIPTION:Seminár\n\nPoznámka: ST214\n\nVyučujúci:\n - FiFUK\n
DTSTART;TZID=Europe/Bratislava:20260217T122000
DTEND;TZID=Europe/Bratislava:20260217T130500
LOCATION:FIF-ST324
RRULE:FREQ=WEEKLY;UNTIL=20260523T000000Z
SUMMARY:Mediálna výchova
END:VEVENT
END:VCALENDAR
