BEGIN:VCALENDAR
VERSION:2.0
PRODID:-//candle.fmph.uniba.sk//NONSGML kigkonsult.se iCalcreator 2.16.12//
METHOD:PUBLISH
X-WR-CALNAME:FIF-S519
X-WR-CALDESC:Rozvrh hodín vyexportovaný pomocou Candle\, https://github.com
 /fmfi-svt/candle
X-WR-TIMEZONE:Europe/Bratislava
BEGIN:VEVENT
UID:lesson(160)-semester(022026-052026)-candle@candle.fmph.uniba.sk
DTSTAMP:20260425T135019Z
CATEGORIES:Seminár
DESCRIPTION:Seminár\n\nVyučujúci:\n - FiFUK\n
DTSTART;TZID=Europe/Bratislava:20260216T150000
DTEND;TZID=Europe/Bratislava:20260216T163000
LOCATION:FIF-S519
RRULE:FREQ=WEEKLY;UNTIL=20260523T000000Z
SUMMARY:Sociálna a politická filozofia
END:VEVENT
BEGIN:VEVENT
UID:lesson(198)-semester(022026-052026)-candle@candle.fmph.uniba.sk
DTSTAMP:20260425T135019Z
CATEGORIES:Prednáška
DESCRIPTION:Prednáška\n\nVyučujúci:\n - FiFUK\n
DTSTART;TZID=Europe/Bratislava:20260217T131500
DTEND;TZID=Europe/Bratislava:20260217T140000
LOCATION:FIF-S519
RRULE:FREQ=WEEKLY;UNTIL=20260523T000000Z
SUMMARY:Logická sémantika
END:VEVENT
BEGIN:VEVENT
UID:lesson(200)-semester(022026-052026)-candle@candle.fmph.uniba.sk
DTSTAMP:20260425T135019Z
CATEGORIES:Seminár
DESCRIPTION:Seminár\n\nVyučujúci:\n - FiFUK\n
DTSTART;TZID=Europe/Bratislava:20260217T140500
DTEND;TZID=Europe/Bratislava:20260217T153500
LOCATION:FIF-S519
RRULE:FREQ=WEEKLY;UNTIL=20260523T000000Z
SUMMARY:Logická sémantika
END:VEVENT
BEGIN:VEVENT
UID:lesson(170)-semester(022026-052026)-candle@candle.fmph.uniba.sk
DTSTAMP:20260425T135019Z
CATEGORIES:Prednáška
DESCRIPTION:Prednáška\n\nVyučujúci:\n - FiFUK\n
DTSTART;TZID=Europe/Bratislava:20260218T131500
DTEND;TZID=Europe/Bratislava:20260218T140000
LOCATION:FIF-S519
RRULE:FREQ=WEEKLY;UNTIL=20260523T000000Z
SUMMARY:Vybrané problémy z feministickej filozofie
END:VEVENT
BEGIN:VEVENT
UID:lesson(171)-semester(022026-052026)-candle@candle.fmph.uniba.sk
DTSTAMP:20260425T135019Z
CATEGORIES:Seminár
DESCRIPTION:Seminár\n\nVyučujúci:\n - FiFUK\n
DTSTART;TZID=Europe/Bratislava:20260218T140500
DTEND;TZID=Europe/Bratislava:20260218T145000
LOCATION:FIF-S519
RRULE:FREQ=WEEKLY;UNTIL=20260523T000000Z
SUMMARY:Vybrané problémy z feministickej filozofie
END:VEVENT
BEGIN:VEVENT
UID:lesson(172)-semester(022026-052026)-candle@candle.fmph.uniba.sk
DTSTAMP:20260425T135019Z
CATEGORIES:Prednáška
DESCRIPTION:Prednáška\n\nVyučujúci:\n - FiFUK\n
DTSTART;TZID=Europe/Bratislava:20260218T150000
DTEND;TZID=Europe/Bratislava:20260218T154500
LOCATION:FIF-S519
RRULE:FREQ=WEEKLY;UNTIL=20260523T000000Z
SUMMARY:Sociálna a politická filozofia
END:VEVENT
BEGIN:VEVENT
UID:lesson(175)-semester(022026-052026)-candle@candle.fmph.uniba.sk
DTSTAMP:20260425T135019Z
CATEGORIES:Prednáška
DESCRIPTION:Prednáška\n\nVyučujúci:\n - FiFUK\n
DTSTART;TZID=Europe/Bratislava:20260218T155000
DTEND;TZID=Europe/Bratislava:20260218T172000
LOCATION:FIF-S519
RRULE:FREQ=WEEKLY;UNTIL=20260523T000000Z
SUMMARY:Dejiny filozofie 4: Nemecký idealizmus a filozofia 19. storočia
END:VEVENT
BEGIN:VEVENT
UID:lesson(178)-semester(022026-052026)-candle@candle.fmph.uniba.sk
DTSTAMP:20260425T135019Z
CATEGORIES:Seminár
DESCRIPTION:Seminár\n\nVyučujúci:\n - FiFUK\n
DTSTART;TZID=Europe/Bratislava:20260218T173500
DTEND;TZID=Europe/Bratislava:20260218T182000
LOCATION:FIF-S519
RRULE:FREQ=WEEKLY;UNTIL=20260523T000000Z
SUMMARY:Dejiny filozofie 4: Nemecký idealizmus a filozofia 19. storočia
END:VEVENT
BEGIN:VEVENT
UID:lesson(179)-semester(022026-052026)-candle@candle.fmph.uniba.sk
DTSTAMP:20260425T135019Z
CATEGORIES:Prednáška
DESCRIPTION:Prednáška\n\nVyučujúci:\n - FiFUK\n
DTSTART;TZID=Europe/Bratislava:20260219T094500
DTEND;TZID=Europe/Bratislava:20260219T103000
LOCATION:FIF-S519
RRULE:FREQ=WEEKLY;UNTIL=20260523T000000Z
SUMMARY:Rodové štúdiá
END:VEVENT
BEGIN:VEVENT
UID:lesson(180)-semester(022026-052026)-candle@candle.fmph.uniba.sk
DTSTAMP:20260425T135019Z
CATEGORIES:Seminár
DESCRIPTION:Seminár\n\nVyučujúci:\n - FiFUK\n
DTSTART;TZID=Europe/Bratislava:20260219T103500
DTEND;TZID=Europe/Bratislava:20260219T112000
LOCATION:FIF-S519
RRULE:FREQ=WEEKLY;UNTIL=20260523T000000Z
SUMMARY:Rodové štúdiá
END:VEVENT
BEGIN:VEVENT
UID:lesson(187)-semester(022026-052026)-candle@candle.fmph.uniba.sk
DTSTAMP:20260425T135019Z
CATEGORIES:Prednáška
DESCRIPTION:Prednáška\n\nVyučujúci:\n - FiFUK\n
DTSTART;TZID=Europe/Bratislava:20260219T164000
DTEND;TZID=Europe/Bratislava:20260219T172500
LOCATION:FIF-S519
RRULE:FREQ=WEEKLY;UNTIL=20260523T000000Z
SUMMARY:Argumentácia vo filozofii
END:VEVENT
BEGIN:VEVENT
UID:lesson(188)-semester(022026-052026)-candle@candle.fmph.uniba.sk
DTSTAMP:20260425T135019Z
CATEGORIES:Seminár
DESCRIPTION:Seminár\n\nVyučujúci:\n - FiFUK\n
DTSTART;TZID=Europe/Bratislava:20260219T173500
DTEND;TZID=Europe/Bratislava:20260219T182000
LOCATION:FIF-S519
RRULE:FREQ=WEEKLY;UNTIL=20260523T000000Z
SUMMARY:Argumentácia vo filozofii
END:VEVENT
END:VCALENDAR
