BEGIN:VCALENDAR
VERSION:2.0
PRODID:-//candle.fmph.uniba.sk//NONSGML kigkonsult.se iCalcreator 2.16.12//
METHOD:PUBLISH
X-WR-CALNAME:FIF-S2
X-WR-CALDESC:Rozvrh hodín vyexportovaný pomocou Candle\, https://github.com
 /fmfi-svt/candle
X-WR-TIMEZONE:Europe/Bratislava
BEGIN:VEVENT
UID:lesson(195)-semester(022026-052026)-candle@candle.fmph.uniba.sk
DTSTAMP:20260425T010337Z
CATEGORIES:Prednáška
DESCRIPTION:Prednáška\n\nVyučujúci:\n - FiFUK\n
DTSTART;TZID=Europe/Bratislava:20260217T080000
DTEND;TZID=Europe/Bratislava:20260217T093000
LOCATION:FIF-S2
RRULE:FREQ=WEEKLY;UNTIL=20260523T000000Z
SUMMARY:Pedagogická diagnostika
END:VEVENT
BEGIN:VEVENT
UID:lesson(165)-semester(022026-052026)-candle@candle.fmph.uniba.sk
DTSTAMP:20260425T010337Z
CATEGORIES:Seminár
DESCRIPTION:Seminár\n\nVyučujúci:\n - FiFUK\n
DTSTART;TZID=Europe/Bratislava:20260217T150000
DTEND;TZID=Europe/Bratislava:20260217T163000
LOCATION:FIF-S2
RRULE:FREQ=WEEKLY;UNTIL=20260523T000000Z
SUMMARY:Metodologické základy vedeckého výskumu
END:VEVENT
BEGIN:VEVENT
UID:lesson(189)-semester(022026-052026)-candle@candle.fmph.uniba.sk
DTSTAMP:20260425T010337Z
CATEGORIES:Prednáška
DESCRIPTION:Prednáška\n\nVyučujúci:\n - FiFUK\n
DTSTART;TZID=Europe/Bratislava:20260220T094500
DTEND;TZID=Europe/Bratislava:20260220T111500
LOCATION:FIF-S2
RRULE:FREQ=WEEKLY;UNTIL=20260523T000000Z
SUMMARY:Všeobecná didaktika
END:VEVENT
END:VCALENDAR
