BEGIN:VCALENDAR
VERSION:2.0
PRODID:-//candle.fmph.uniba.sk//NONSGML kigkonsult.se iCalcreator 2.16.12//
METHOD:PUBLISH
X-WR-CALNAME:FIF-N427
X-WR-CALDESC:Rozvrh hodín vyexportovaný pomocou Candle\, https://github.com
 /fmfi-svt/candle
X-WR-TIMEZONE:Europe/Bratislava
BEGIN:VEVENT
UID:lesson(181)-semester(022026-052026)-candle@candle.fmph.uniba.sk
DTSTAMP:20260424T193143Z
CATEGORIES:Cvičenie
DESCRIPTION:Cvičenie\n\nVyučujúci:\n - FiFUK\n
DTSTART;TZID=Europe/Bratislava:20260219T094500
DTEND;TZID=Europe/Bratislava:20260219T111500
LOCATION:FIF-N427
RRULE:FREQ=WEEKLY;UNTIL=20260523T000000Z
SUMMARY:Odborná angličtina 4
END:VEVENT
END:VCALENDAR
