BEGIN:VCALENDAR
VERSION:2.0
PRODID:-//candle.fmph.uniba.sk//NONSGML kigkonsult.se iCalcreator 2.16.12//
METHOD:PUBLISH
X-WR-CALNAME:FIF-N416
X-WR-CALDESC:Rozvrh hodín vyexportovaný pomocou Candle\, https://github.com
 /fmfi-svt/candle
X-WR-TIMEZONE:Europe/Bratislava
BEGIN:VEVENT
UID:lesson(173)-semester(022026-052026)-candle@candle.fmph.uniba.sk
DTSTAMP:20260425T221412Z
CATEGORIES:Prednáška
DESCRIPTION:Prednáška\n\nVyučujúci:\n - FiFUK\n
DTSTART;TZID=Europe/Bratislava:20260218T150000
DTEND;TZID=Europe/Bratislava:20260218T154500
LOCATION:FIF-N416
RRULE:FREQ=WEEKLY;UNTIL=20260523T000000Z
SUMMARY:Základy sociológie pre nesociológov
END:VEVENT
BEGIN:VEVENT
UID:lesson(174)-semester(022026-052026)-candle@candle.fmph.uniba.sk
DTSTAMP:20260425T221412Z
CATEGORIES:Seminár
DESCRIPTION:Seminár\n\nVyučujúci:\n - FiFUK\n
DTSTART;TZID=Europe/Bratislava:20260218T155000
DTEND;TZID=Europe/Bratislava:20260218T163500
LOCATION:FIF-N416
RRULE:FREQ=WEEKLY;UNTIL=20260523T000000Z
SUMMARY:Základy sociológie pre nesociológov
END:VEVENT
BEGIN:VEVENT
UID:lesson(207)-semester(022026-052026)-candle@candle.fmph.uniba.sk
DTSTAMP:20260425T221412Z
CATEGORIES:Seminár
DESCRIPTION:Seminár\n\nVyučujúci:\n - FiFUK\n
DTSTART;TZID=Europe/Bratislava:20260219T080000
DTEND;TZID=Europe/Bratislava:20260219T093000
LOCATION:FIF-N416
RRULE:FREQ=WEEKLY;UNTIL=20260523T000000Z
SUMMARY:Aquinas - Theory of Law
END:VEVENT
BEGIN:VEVENT
UID:lesson(212)-semester(022026-052026)-candle@candle.fmph.uniba.sk
DTSTAMP:20260425T221412Z
CATEGORIES:Prednáška
DESCRIPTION:Prednáška\n\nVyučujúci:\n - FiFUK\n
DTSTART;TZID=Europe/Bratislava:20260219T131500
DTEND;TZID=Europe/Bratislava:20260219T140000
LOCATION:FIF-N416
RRULE:FREQ=WEEKLY;UNTIL=20260523T000000Z
SUMMARY:Sociológia detstva a mladosti
END:VEVENT
BEGIN:VEVENT
UID:lesson(213)-semester(022026-052026)-candle@candle.fmph.uniba.sk
DTSTAMP:20260425T221412Z
CATEGORIES:Seminár
DESCRIPTION:Seminár\n\nVyučujúci:\n - FiFUK\n
DTSTART;TZID=Europe/Bratislava:20260219T140500
DTEND;TZID=Europe/Bratislava:20260219T145000
LOCATION:FIF-N416
RRULE:FREQ=WEEKLY;UNTIL=20260523T000000Z
SUMMARY:Sociológia detstva a mladosti
END:VEVENT
END:VCALENDAR
