BEGIN:VCALENDAR
VERSION:2.0
PRODID:-//candle.fmph.uniba.sk//NONSGML kigkonsult.se iCalcreator 2.16.12//
METHOD:PUBLISH
X-WR-CALNAME:FIF-N306
X-WR-CALDESC:Rozvrh hodín vyexportovaný pomocou Candle\, https://github.com
 /fmfi-svt/candle
X-WR-TIMEZONE:Europe/Bratislava
BEGIN:VEVENT
UID:lesson(185)-semester(022026-052026)-candle@candle.fmph.uniba.sk
DTSTAMP:20260424T193137Z
CATEGORIES:Prednáška
DESCRIPTION:Prednáška\n\nVyučujúci:\n - FiFUK\n
DTSTART;TZID=Europe/Bratislava:20260219T113000
DTEND;TZID=Europe/Bratislava:20260219T121500
LOCATION:FIF-N306
RRULE:FREQ=WEEKLY;UNTIL=20260523T000000Z
SUMMARY:Novoveká filozofia: od Kuzánskeho po Hegela
END:VEVENT
BEGIN:VEVENT
UID:lesson(184)-semester(022026-052026)-candle@candle.fmph.uniba.sk
DTSTAMP:20260424T193137Z
CATEGORIES:Seminár
DESCRIPTION:Seminár\n\nVyučujúci:\n - FiFUK\n
DTSTART;TZID=Europe/Bratislava:20260219T122000
DTEND;TZID=Europe/Bratislava:20260219T130500
LOCATION:FIF-N306
RRULE:FREQ=WEEKLY;UNTIL=20260523T000000Z
SUMMARY:Novoveká filozofia: od Kuzánskeho po Hegela
END:VEVENT
END:VCALENDAR
