BEGIN:VCALENDAR
VERSION:2.0
PRODID:-//candle.fmph.uniba.sk//NONSGML kigkonsult.se iCalcreator 2.16.12//
METHOD:PUBLISH
X-WR-CALNAME:FIF-G362
X-WR-CALDESC:Rozvrh hodín vyexportovaný pomocou Candle\, https://github.com
 /fmfi-svt/candle
X-WR-TIMEZONE:Europe/Bratislava
BEGIN:VEVENT
UID:lesson(176)-semester(022026-052026)-candle@candle.fmph.uniba.sk
DTSTAMP:20260425T221412Z
CATEGORIES:Prednáška
DESCRIPTION:Prednáška\n\nVyučujúci:\n - FiFUK\n
DTSTART;TZID=Europe/Bratislava:20260218T164000
DTEND;TZID=Europe/Bratislava:20260218T172500
LOCATION:FIF-G362
RRULE:FREQ=WEEKLY;UNTIL=20260523T000000Z
SUMMARY:Úvod do estetiky pre neestetikov 2
END:VEVENT
BEGIN:VEVENT
UID:lesson(177)-semester(022026-052026)-candle@candle.fmph.uniba.sk
DTSTAMP:20260425T221412Z
CATEGORIES:Seminár
DESCRIPTION:Seminár\n\nVyučujúci:\n - FiFUK\n
DTSTART;TZID=Europe/Bratislava:20260218T173500
DTEND;TZID=Europe/Bratislava:20260218T182000
LOCATION:FIF-G362
RRULE:FREQ=WEEKLY;UNTIL=20260523T000000Z
SUMMARY:Úvod do estetiky pre neestetikov 2
END:VEVENT
BEGIN:VEVENT
UID:lesson(1130)-semester(022026-052026)-candle@candle.fmph.uniba.sk
DTSTAMP:20260425T221412Z
CATEGORIES:Seminár
DESCRIPTION:Seminár\n\nPoznámka: G-315\n\nVyučujúci:\n - FiFUK\n
DTSTART;TZID=Europe/Bratislava:20260219T094500
DTEND;TZID=Europe/Bratislava:20260219T111500
LOCATION:FIF-G362
RRULE:FREQ=WEEKLY;UNTIL=20260523T000000Z
SUMMARY:Korektívna výslovnosť
END:VEVENT
END:VCALENDAR
