BEGIN:VCALENDAR
VERSION:2.0
PRODID:-//candle.fmph.uniba.sk//NONSGML kigkonsult.se iCalcreator 2.16.12//
METHOD:PUBLISH
X-WR-CALNAME:FIF-G209
X-WR-CALDESC:Rozvrh hodín vyexportovaný pomocou Candle\, https://github.com
 /fmfi-svt/candle
X-WR-TIMEZONE:Europe/Bratislava
BEGIN:VEVENT
UID:lesson(193)-semester(022026-052026)-candle@candle.fmph.uniba.sk
DTSTAMP:20260425T135026Z
CATEGORIES:Prednáška
DESCRIPTION:Prednáška\n\nPoznámka: G-210\n\nVyučujúci:\n - FiFUK\n
DTSTART;TZID=Europe/Bratislava:20260216T113000
DTEND;TZID=Europe/Bratislava:20260216T121500
LOCATION:FIF-G209
RRULE:FREQ=WEEKLY;UNTIL=20260523T000000Z
SUMMARY:Rodové aspekty výchovy a socializácie
END:VEVENT
BEGIN:VEVENT
UID:lesson(194)-semester(022026-052026)-candle@candle.fmph.uniba.sk
DTSTAMP:20260425T135026Z
CATEGORIES:Seminár
DESCRIPTION:Seminár\n\nPoznámka: G-210\n\nVyučujúci:\n - FiFUK\n
DTSTART;TZID=Europe/Bratislava:20260216T122000
DTEND;TZID=Europe/Bratislava:20260216T130500
LOCATION:FIF-G209
RRULE:FREQ=WEEKLY;UNTIL=20260523T000000Z
SUMMARY:Rodové aspekty výchovy a socializácie
END:VEVENT
BEGIN:VEVENT
UID:lesson(158)-semester(022026-052026)-candle@candle.fmph.uniba.sk
DTSTAMP:20260425T135026Z
CATEGORIES:Prednáška
DESCRIPTION:Prednáška\n\nPoznámka: G-210\n\nVyučujúci:\n - FiFUK\n
DTSTART;TZID=Europe/Bratislava:20260216T131500
DTEND;TZID=Europe/Bratislava:20260216T140000
LOCATION:FIF-G209
RRULE:FREQ=WEEKLY;UNTIL=20260523T000000Z
SUMMARY:Vybrané kapitoly zo života a diela J. A. Komenského
END:VEVENT
BEGIN:VEVENT
UID:lesson(159)-semester(022026-052026)-candle@candle.fmph.uniba.sk
DTSTAMP:20260425T135026Z
CATEGORIES:Seminár
DESCRIPTION:Seminár\n\nPoznámka: G-210\n\nVyučujúci:\n - FiFUK\n
DTSTART;TZID=Europe/Bratislava:20260216T140500
DTEND;TZID=Europe/Bratislava:20260216T145000
LOCATION:FIF-G209
RRULE:FREQ=WEEKLY;UNTIL=20260523T000000Z
SUMMARY:Vybrané kapitoly zo života a diela J. A. Komenského
END:VEVENT
BEGIN:VEVENT
UID:lesson(161)-semester(022026-052026)-candle@candle.fmph.uniba.sk
DTSTAMP:20260425T135026Z
CATEGORIES:Seminár
DESCRIPTION:Seminár\n\nPoznámka: G-211\n\nVyučujúci:\n - FiFUK\n
DTSTART;TZID=Europe/Bratislava:20260217T080000
DTEND;TZID=Europe/Bratislava:20260217T093000
LOCATION:FIF-G209
RRULE:FREQ=WEEKLY;UNTIL=20260523T000000Z
SUMMARY:Kapitoly zo svetovej literatúry pre učiteľov 2
END:VEVENT
BEGIN:VEVENT
UID:lesson(162)-semester(022026-052026)-candle@candle.fmph.uniba.sk
DTSTAMP:20260425T135026Z
CATEGORIES:Seminár
DESCRIPTION:Seminár\n\nPoznámka: G-211\n\nVyučujúci:\n - FiFUK\n
DTSTART;TZID=Europe/Bratislava:20260217T094500
DTEND;TZID=Europe/Bratislava:20260217T111500
LOCATION:FIF-G209
RRULE:FREQ=WEEKLY;UNTIL=20260523T000000Z
SUMMARY:Kapitoly zo svetovej literatúry pre učiteľov 2
END:VEVENT
END:VCALENDAR
