BEGIN:VCALENDAR
VERSION:2.0
PRODID:-//candle.fmph.uniba.sk//NONSGML kigkonsult.se iCalcreator 2.16.12//
METHOD:PUBLISH
X-WR-CALNAME:FIF-G114
X-WR-CALDESC:Rozvrh hodín vyexportovaný pomocou Candle\, https://github.com
 /fmfi-svt/candle
X-WR-TIMEZONE:Europe/Bratislava
BEGIN:VEVENT
UID:lesson(1135)-semester(022026-052026)-candle@candle.fmph.uniba.sk
DTSTAMP:20260424T193127Z
CATEGORIES:Seminár
DESCRIPTION:Seminár\n\nPoznámka: G-113\n\nVyučujúci:\n - FiFUK\n
DTSTART;TZID=Europe/Bratislava:20260216T094500
DTEND;TZID=Europe/Bratislava:20260216T111500
LOCATION:FIF-G114
RRULE:FREQ=WEEKLY;UNTIL=20260523T000000Z
SUMMARY:Metodické prístupy k výučbe gramatiky a slovnej zásoby
END:VEVENT
BEGIN:VEVENT
UID:lesson(1137)-semester(022026-052026)-candle@candle.fmph.uniba.sk
DTSTAMP:20260424T193127Z
CATEGORIES:Seminár
DESCRIPTION:Seminár\n\nPoznámka: G-113\n\nVyučujúci:\n - FiFUK\n
DTSTART;TZID=Europe/Bratislava:20260216T113000
DTEND;TZID=Europe/Bratislava:20260216T130000
LOCATION:FIF-G114
RRULE:FREQ=WEEKLY;UNTIL=20260523T000000Z
SUMMARY:Metodické prístupy k výučbe ústneho jazykového prejavu
END:VEVENT
BEGIN:VEVENT
UID:lesson(1117)-semester(022026-052026)-candle@candle.fmph.uniba.sk
DTSTAMP:20260424T193127Z
CATEGORIES:Seminár
DESCRIPTION:Seminár\n\nPoznámka: G-113\n\nVyučujúci:\n - FiFUK\n
DTSTART;TZID=Europe/Bratislava:20260217T131500
DTEND;TZID=Europe/Bratislava:20260217T144500
LOCATION:FIF-G114
RRULE:FREQ=WEEKLY;UNTIL=20260523T000000Z
SUMMARY:Interkultúrne komunikačné kompetencie: orientácia v globálnej rozma
 nitosti
END:VEVENT
BEGIN:VEVENT
UID:lesson(1142)-semester(022026-052026)-candle@candle.fmph.uniba.sk
DTSTAMP:20260424T193127Z
CATEGORIES:Seminár
DESCRIPTION:Seminár\n\nPoznámka: G-113\n\nVyučujúci:\n - FiFUK\n
DTSTART;TZID=Europe/Bratislava:20260217T150000
DTEND;TZID=Europe/Bratislava:20260217T163000
LOCATION:FIF-G114
RRULE:FREQ=WEEKLY;UNTIL=20260523T000000Z
SUMMARY:Didaktika anglického jazyka a literatúry 2
END:VEVENT
BEGIN:VEVENT
UID:lesson(1119)-semester(022026-052026)-candle@candle.fmph.uniba.sk
DTSTAMP:20260424T193127Z
CATEGORIES:Seminár
DESCRIPTION:Seminár\n\nVyučujúci:\n - FiFUK\n
DTSTART;TZID=Europe/Bratislava:20260217T150000
DTEND;TZID=Europe/Bratislava:20260217T163000
LOCATION:FIF-G114
RRULE:FREQ=WEEKLY;UNTIL=20260523T000000Z
SUMMARY:Populárna kultúra anglofónnych oblastí
END:VEVENT
BEGIN:VEVENT
UID:lesson(1124)-semester(022026-052026)-candle@candle.fmph.uniba.sk
DTSTAMP:20260424T193127Z
CATEGORIES:Seminár
DESCRIPTION:Seminár\n\nPoznámka: G-113\n\nVyučujúci:\n - FiFUK\n
DTSTART;TZID=Europe/Bratislava:20260218T094500
DTEND;TZID=Europe/Bratislava:20260218T111500
LOCATION:FIF-G114
RRULE:FREQ=WEEKLY;UNTIL=20260523T000000Z
SUMMARY:Morfológia a syntax
END:VEVENT
BEGIN:VEVENT
UID:lesson(1110)-semester(022026-052026)-candle@candle.fmph.uniba.sk
DTSTAMP:20260424T193127Z
CATEGORIES:Seminár
DESCRIPTION:Seminár\n\nVyučujúci:\n - FiFUK\n
DTSTART;TZID=Europe/Bratislava:20260218T094500
DTEND;TZID=Europe/Bratislava:20260218T111500
LOCATION:FIF-G114
RRULE:FREQ=WEEKLY;UNTIL=20260523T000000Z
SUMMARY:Jazykové semináre
END:VEVENT
BEGIN:VEVENT
UID:lesson(1111)-semester(022026-052026)-candle@candle.fmph.uniba.sk
DTSTAMP:20260424T193127Z
CATEGORIES:Seminár
DESCRIPTION:Seminár\n\nVyučujúci:\n - FiFUK\n
DTSTART;TZID=Europe/Bratislava:20260218T113000
DTEND;TZID=Europe/Bratislava:20260218T130000
LOCATION:FIF-G114
RRULE:FREQ=WEEKLY;UNTIL=20260523T000000Z
SUMMARY:Jazykové semináre
END:VEVENT
BEGIN:VEVENT
UID:lesson(1146)-semester(022026-052026)-candle@candle.fmph.uniba.sk
DTSTAMP:20260424T193127Z
CATEGORIES:Seminár
DESCRIPTION:Seminár\n\nVyučujúci:\n - FiFUK\n
DTSTART;TZID=Europe/Bratislava:20260218T150000
DTEND;TZID=Europe/Bratislava:20260218T163000
LOCATION:FIF-G114
RRULE:FREQ=WEEKLY;UNTIL=20260523T000000Z
SUMMARY:Experiment v románe
END:VEVENT
BEGIN:VEVENT
UID:lesson(1114)-semester(022026-052026)-candle@candle.fmph.uniba.sk
DTSTAMP:20260424T193127Z
CATEGORIES:Seminár
DESCRIPTION:Seminár\n\nPoznámka: G-113\n\nVyučujúci:\n - FiFUK\n
DTSTART;TZID=Europe/Bratislava:20260219T095000
DTEND;TZID=Europe/Bratislava:20260219T112000
LOCATION:FIF-G114
RRULE:FREQ=WEEKLY;UNTIL=20260523T000000Z
SUMMARY:Jazykové semináre
END:VEVENT
BEGIN:VEVENT
UID:lesson(1147)-semester(022026-052026)-candle@candle.fmph.uniba.sk
DTSTAMP:20260424T193127Z
CATEGORIES:Seminár
DESCRIPTION:Seminár\n\nPoznámka: G-113\n\nVyučujúci:\n - FiFUK\n
DTSTART;TZID=Europe/Bratislava:20260219T113000
DTEND;TZID=Europe/Bratislava:20260219T130000
LOCATION:FIF-G114
RRULE:FREQ=WEEKLY;UNTIL=20260523T000000Z
SUMMARY:Americké divadlo a spoločnosť
END:VEVENT
BEGIN:VEVENT
UID:lesson(1133)-semester(022026-052026)-candle@candle.fmph.uniba.sk
DTSTAMP:20260424T193127Z
CATEGORIES:Seminár
DESCRIPTION:Seminár\n\nPoznámka: G-113\n\nVyučujúci:\n - FiFUK\n
DTSTART;TZID=Europe/Bratislava:20260219T150000
DTEND;TZID=Europe/Bratislava:20260219T163000
LOCATION:FIF-G114
RRULE:FREQ=WEEKLY;UNTIL=20260523T000000Z
SUMMARY:Populárna kultúra anglofónnych oblastí
END:VEVENT
END:VCALENDAR
