BEGIN:VCALENDAR
VERSION:2.0
PRODID:-//candle.fmph.uniba.sk//NONSGML kigkonsult.se iCalcreator 2.16.12//
METHOD:PUBLISH
X-WR-CALNAME:FIF-G10
X-WR-CALDESC:Rozvrh hodín vyexportovaný pomocou Candle\, https://github.com
 /fmfi-svt/candle
X-WR-TIMEZONE:Europe/Bratislava
BEGIN:VEVENT
UID:lesson(1134)-semester(022026-052026)-candle@candle.fmph.uniba.sk
DTSTAMP:20260425T221413Z
CATEGORIES:Seminár
DESCRIPTION:Seminár\n\nVyučujúci:\n - FiFUK\n
DTSTART;TZID=Europe/Bratislava:20260217T113000
DTEND;TZID=Europe/Bratislava:20260217T130000
LOCATION:FIF-G10
RRULE:FREQ=WEEKLY;UNTIL=20260523T000000Z
SUMMARY:Anglický román 18. storočia
END:VEVENT
BEGIN:VEVENT
UID:lesson(1118)-semester(022026-052026)-candle@candle.fmph.uniba.sk
DTSTAMP:20260425T221413Z
CATEGORIES:Seminár
DESCRIPTION:Seminár\n\nVyučujúci:\n - FiFUK\n
DTSTART;TZID=Europe/Bratislava:20260217T131500
DTEND;TZID=Europe/Bratislava:20260217T144500
LOCATION:FIF-G10
RRULE:FREQ=WEEKLY;UNTIL=20260523T000000Z
SUMMARY:Reálie Austrálie a Nového Zélandu
END:VEVENT
BEGIN:VEVENT
UID:lesson(1125)-semester(022026-052026)-candle@candle.fmph.uniba.sk
DTSTAMP:20260425T221413Z
CATEGORIES:Seminár
DESCRIPTION:Seminár\n\nVyučujúci:\n - FiFUK\n
DTSTART;TZID=Europe/Bratislava:20260218T094500
DTEND;TZID=Europe/Bratislava:20260218T111500
LOCATION:FIF-G10
RRULE:FREQ=WEEKLY;UNTIL=20260523T000000Z
SUMMARY:Kanadská poviedka 20. storočia
END:VEVENT
BEGIN:VEVENT
UID:lesson(1126)-semester(022026-052026)-candle@candle.fmph.uniba.sk
DTSTAMP:20260425T221413Z
CATEGORIES:Seminár
DESCRIPTION:Seminár\n\nVyučujúci:\n - FiFUK\n
DTSTART;TZID=Europe/Bratislava:20260218T113000
DTEND;TZID=Europe/Bratislava:20260218T130000
LOCATION:FIF-G10
RRULE:FREQ=WEEKLY;UNTIL=20260523T000000Z
SUMMARY:Úvod do írskych štúdií 2
END:VEVENT
BEGIN:VEVENT
UID:lesson(1128)-semester(022026-052026)-candle@candle.fmph.uniba.sk
DTSTAMP:20260425T221413Z
CATEGORIES:Seminár
DESCRIPTION:Seminár\n\nVyučujúci:\n - FiFUK\n
DTSTART;TZID=Europe/Bratislava:20260218T131500
DTEND;TZID=Europe/Bratislava:20260218T144500
LOCATION:FIF-G10
RRULE:FREQ=WEEKLY;UNTIL=20260523T000000Z
SUMMARY:Írsky jazyk a kultúra 2
END:VEVENT
BEGIN:VEVENT
UID:lesson(1131)-semester(022026-052026)-candle@candle.fmph.uniba.sk
DTSTAMP:20260425T221413Z
CATEGORIES:Seminár
DESCRIPTION:Seminár\n\nVyučujúci:\n - FiFUK\n
DTSTART;TZID=Europe/Bratislava:20260219T113000
DTEND;TZID=Europe/Bratislava:20260219T130000
LOCATION:FIF-G10
RRULE:FREQ=WEEKLY;UNTIL=20260523T000000Z
SUMMARY:Úvod do írskych štúdií 2
END:VEVENT
BEGIN:VEVENT
UID:lesson(1132)-semester(022026-052026)-candle@candle.fmph.uniba.sk
DTSTAMP:20260425T221413Z
CATEGORIES:Seminár
DESCRIPTION:Seminár\n\nVyučujúci:\n - FiFUK\n
DTSTART;TZID=Europe/Bratislava:20260219T131500
DTEND;TZID=Europe/Bratislava:20260219T144500
LOCATION:FIF-G10
RRULE:FREQ=WEEKLY;UNTIL=20260523T000000Z
SUMMARY:Írsky jazyk a kultúra 2
END:VEVENT
END:VCALENDAR
