BEGIN:VCALENDAR
VERSION:2.0
PRODID:-//candle.fmph.uniba.sk//NONSGML kigkonsult.se iCalcreator 2.16.12//
METHOD:PUBLISH
X-WR-CALNAME:F2-s167
X-WR-CALDESC:Rozvrh hodín vyexportovaný pomocou Candle\, https://github.com
 /fmfi-svt/candle
X-WR-TIMEZONE:Europe/Bratislava
BEGIN:VEVENT
UID:lesson(828)-semester(022026-052026)-candle@candle.fmph.uniba.sk
DTSTAMP:20260425T030304Z
CATEGORIES:Prednáška
DESCRIPTION:Prednáška\n\nVyučujúci:\n - M. Janda\n
DTSTART;TZID=Europe/Bratislava:20260217T090000
DTEND;TZID=Europe/Bratislava:20260217T103000
LOCATION:F2-s167
RRULE:FREQ=WEEKLY;UNTIL=20260523T000000Z
SUMMARY:Optická a laserová spektroskopia
END:VEVENT
BEGIN:VEVENT
UID:lesson(829)-semester(022026-052026)-candle@candle.fmph.uniba.sk
DTSTAMP:20260425T030304Z
CATEGORIES:Cvičenie
DESCRIPTION:Cvičenie\n\nVyučujúci:\n - M. Janda\n
DTSTART;TZID=Europe/Bratislava:20260217T104000
DTEND;TZID=Europe/Bratislava:20260217T112500
LOCATION:F2-s167
RRULE:FREQ=WEEKLY;UNTIL=20260523T000000Z
SUMMARY:Optická a laserová spektroskopia
END:VEVENT
BEGIN:VEVENT
UID:lesson(832)-semester(022026-052026)-candle@candle.fmph.uniba.sk
DTSTAMP:20260425T030304Z
CATEGORIES:Prednáška
DESCRIPTION:Prednáška\n\nVyučujúci:\n - Z. Machala\n - V. Medvecká\n - M. K
 las\n
DTSTART;TZID=Europe/Bratislava:20260217T131000
DTEND;TZID=Europe/Bratislava:20260217T144000
LOCATION:F2-s167
RRULE:FREQ=WEEKLY;UNTIL=20260523T000000Z
SUMMARY:Bioaplikácie plazmy
END:VEVENT
BEGIN:VEVENT
UID:lesson(825)-semester(022026-052026)-candle@candle.fmph.uniba.sk
DTSTAMP:20260425T030304Z
CATEGORIES:Kurz
DESCRIPTION:Kurz\n\nVyučujúci:\n - M. Morvová\n - R. Cimerman\n
DTSTART;TZID=Europe/Bratislava:20260218T090000
DTEND;TZID=Europe/Bratislava:20260218T103000
LOCATION:F2-s167
RRULE:FREQ=WEEKLY;UNTIL=20260523T000000Z
SUMMARY:Obnoviteľné zdroje energie
END:VEVENT
BEGIN:VEVENT
UID:lesson(826)-semester(022026-052026)-candle@candle.fmph.uniba.sk
DTSTAMP:20260425T030304Z
CATEGORIES:Prednáška
DESCRIPTION:Prednáška\n\nVyučujúci:\n - K. Hensel\n
DTSTART;TZID=Europe/Bratislava:20260219T095000
DTEND;TZID=Europe/Bratislava:20260219T112000
LOCATION:F2-s167
RRULE:FREQ=WEEKLY;UNTIL=20260523T000000Z
SUMMARY:Technológie na ochranu ovzdušia
END:VEVENT
BEGIN:VEVENT
UID:lesson(827)-semester(022026-052026)-candle@candle.fmph.uniba.sk
DTSTAMP:20260425T030304Z
CATEGORIES:Prednáška
DESCRIPTION:Prednáška\n\nVyučujúci:\n - K. Hensel\n
DTSTART;TZID=Europe/Bratislava:20260219T140000
DTEND;TZID=Europe/Bratislava:20260219T153000
LOCATION:F2-s167
RRULE:FREQ=WEEKLY;UNTIL=20260523T000000Z
SUMMARY:Katalýza a zelené aplikácie
END:VEVENT
END:VCALENDAR
