BEGIN:VCALENDAR
VERSION:2.0
PRODID:-//candle.fmph.uniba.sk//NONSGML kigkonsult.se iCalcreator 2.16.12//
METHOD:PUBLISH
X-WR-CALNAME:F2-s125
X-WR-CALDESC:Rozvrh hodín vyexportovaný pomocou Candle\, https://github.com
 /fmfi-svt/candle
X-WR-TIMEZONE:Europe/Bratislava
BEGIN:VEVENT
UID:lesson(592)-semester(022026-052026)-candle@candle.fmph.uniba.sk
DTSTAMP:20260424T212357Z
CATEGORIES:Labák
DESCRIPTION:Labák\n\nVyučujúci:\n - M. Mereš\n - I. Szarka\n - J. Zeman\n
DTSTART;TZID=Europe/Bratislava:20260216T090000
DTEND;TZID=Europe/Bratislava:20260216T120000
LOCATION:F2-s125
RRULE:FREQ=WEEKLY;UNTIL=20260523T000000Z
SUMMARY:Špeciálne praktikum z jadrovej fyziky (1)
END:VEVENT
BEGIN:VEVENT
UID:lesson(581)-semester(022026-052026)-candle@candle.fmph.uniba.sk
DTSTAMP:20260424T212357Z
CATEGORIES:Labák
DESCRIPTION:Labák\n\nVyučujúci:\n - M. Ješkovský\n - B. Andel\n
DTSTART;TZID=Europe/Bratislava:20260216T095000
DTEND;TZID=Europe/Bratislava:20260216T120500
LOCATION:F2-s125
RRULE:FREQ=WEEKLY;UNTIL=20260523T000000Z
SUMMARY:Praktikum z atómovej a jadrovej fyziky
END:VEVENT
BEGIN:VEVENT
UID:lesson(583)-semester(022026-052026)-candle@candle.fmph.uniba.sk
DTSTAMP:20260424T212357Z
CATEGORIES:Labák
DESCRIPTION:Labák\n\nVyučujúci:\n - M. Ješkovský\n - J. Zeman\n
DTSTART;TZID=Europe/Bratislava:20260217T140000
DTEND;TZID=Europe/Bratislava:20260217T161500
LOCATION:F2-s125
RRULE:FREQ=WEEKLY;UNTIL=20260523T000000Z
SUMMARY:Praktikum z atómovej a jadrovej fyziky
END:VEVENT
BEGIN:VEVENT
UID:lesson(582)-semester(022026-052026)-candle@candle.fmph.uniba.sk
DTSTAMP:20260424T212357Z
CATEGORIES:Labák
DESCRIPTION:Labák\n\nVyučujúci:\n - T. Eckertová\n - M. Pikna\n
DTSTART;TZID=Europe/Bratislava:20260218T095000
DTEND;TZID=Europe/Bratislava:20260218T120500
LOCATION:F2-s125
RRULE:FREQ=WEEKLY;UNTIL=20260523T000000Z
SUMMARY:Praktikum z atómovej a jadrovej fyziky
END:VEVENT
BEGIN:VEVENT
UID:lesson(580)-semester(022026-052026)-candle@candle.fmph.uniba.sk
DTSTAMP:20260424T212357Z
CATEGORIES:Labák
DESCRIPTION:Labák\n\nVyučujúci:\n - I. Sýkora\n - T. Eckertová\n - I. Kontu
 ľ\n
DTSTART;TZID=Europe/Bratislava:20260219T104000
DTEND;TZID=Europe/Bratislava:20260219T125500
LOCATION:F2-s125
RRULE:FREQ=WEEKLY;UNTIL=20260523T000000Z
SUMMARY:Praktikum z rádiometrie a spektrometrie
END:VEVENT
END:VCALENDAR
