BEGIN:VCALENDAR
VERSION:2.0
PRODID:-//candle.fmph.uniba.sk//NONSGML kigkonsult.se iCalcreator 2.16.12//
METHOD:PUBLISH
X-WR-CALNAME:F2-s109
X-WR-CALDESC:Rozvrh hodín vyexportovaný pomocou Candle\, https://github.com
 /fmfi-svt/candle
X-WR-TIMEZONE:Europe/Bratislava
BEGIN:VEVENT
UID:lesson(596)-semester(022026-052026)-candle@candle.fmph.uniba.sk
DTSTAMP:20260424T212413Z
CATEGORIES:Labák
DESCRIPTION:Labák\n\nVyučujúci:\n - M. Zvarík\n - M. Babincová\n
DTSTART;TZID=Europe/Bratislava:20260217T154000
DTEND;TZID=Europe/Bratislava:20260217T175500
LOCATION:F2-s109
RRULE:FREQ=WEEKLY;UNTIL=20260523T000000Z
SUMMARY:Špeciálne praktikum z biomedicínskej fyziky (2)
END:VEVENT
END:VCALENDAR
