BEGIN:VCALENDAR
VERSION:2.0
PRODID:-//candle.fmph.uniba.sk//NONSGML kigkonsult.se iCalcreator 2.16.12//
METHOD:PUBLISH
X-WR-CALNAME:F2-T3
X-WR-CALDESC:Rozvrh hodín vyexportovaný pomocou Candle\, https://github.com
 /fmfi-svt/candle
X-WR-TIMEZONE:Europe/Bratislava
BEGIN:VEVENT
UID:lesson(597)-semester(022026-052026)-candle@candle.fmph.uniba.sk
DTSTAMP:20260425T121022Z
CATEGORIES:Cvičenie
DESCRIPTION:Cvičenie\n\nVyučujúci:\n - F. Pastierovič\n
DTSTART;TZID=Europe/Bratislava:20260217T145000
DTEND;TZID=Europe/Bratislava:20260217T162000
LOCATION:F2-T3
RRULE:FREQ=WEEKLY;UNTIL=20260523T000000Z
SUMMARY:Počítačová fyzika
END:VEVENT
BEGIN:VEVENT
UID:lesson(598)-semester(022026-052026)-candle@candle.fmph.uniba.sk
DTSTAMP:20260425T121022Z
CATEGORIES:Cvičenie
DESCRIPTION:Cvičenie\n\nVyučujúci:\n - F. Pastierovič\n
DTSTART;TZID=Europe/Bratislava:20260218T154000
DTEND;TZID=Europe/Bratislava:20260218T171000
LOCATION:F2-T3
RRULE:FREQ=WEEKLY;UNTIL=20260523T000000Z
SUMMARY:Počítačová fyzika
END:VEVENT
BEGIN:VEVENT
UID:lesson(674)-semester(022026-052026)-candle@candle.fmph.uniba.sk
DTSTAMP:20260425T121022Z
CATEGORIES:Cvičenie
DESCRIPTION:Cvičenie\n\nVyučujúci:\n - M. Gregor\n
DTSTART;TZID=Europe/Bratislava:20260219T095000
DTEND;TZID=Europe/Bratislava:20260219T112000
LOCATION:F2-T3
RRULE:FREQ=WEEKLY;UNTIL=20260523T000000Z
SUMMARY:Technické kreslenie CAD
END:VEVENT
BEGIN:VEVENT
UID:lesson(599)-semester(022026-052026)-candle@candle.fmph.uniba.sk
DTSTAMP:20260425T121022Z
CATEGORIES:Cvičenie
DESCRIPTION:Cvičenie\n\nVyučujúci:\n - D. Melicherová\n
DTSTART;TZID=Europe/Bratislava:20260220T090000
DTEND;TZID=Europe/Bratislava:20260220T103000
LOCATION:F2-T3
RRULE:FREQ=WEEKLY;UNTIL=20260523T000000Z
SUMMARY:Počítačová fyzika
END:VEVENT
END:VCALENDAR
