BEGIN:VCALENDAR
VERSION:2.0
PRODID:-//candle.fmph.uniba.sk//NONSGML kigkonsult.se iCalcreator 2.16.12//
METHOD:PUBLISH
X-WR-CALNAME:F2-283
X-WR-CALDESC:Rozvrh hodín vyexportovaný pomocou Candle\, https://github.com
 /fmfi-svt/candle
X-WR-TIMEZONE:Europe/Bratislava
BEGIN:VEVENT
UID:lesson(724)-semester(022026-052026)-candle@candle.fmph.uniba.sk
DTSTAMP:20260424T212453Z
CATEGORIES:Cvičenie
DESCRIPTION:Cvičenie\n\nVyučujúci:\n - V. Mirsalova\n
DTSTART;TZID=Europe/Bratislava:20260216T163000
DTEND;TZID=Europe/Bratislava:20260216T180000
LOCATION:F2-283
RRULE:FREQ=WEEKLY;UNTIL=20260523T000000Z
SUMMARY:Ruský jazyk (2)
END:VEVENT
BEGIN:VEVENT
UID:lesson(725)-semester(022026-052026)-candle@candle.fmph.uniba.sk
DTSTAMP:20260424T212453Z
CATEGORIES:Cvičenie
DESCRIPTION:Cvičenie\n\nVyučujúci:\n - V. Mirsalova\n
DTSTART;TZID=Europe/Bratislava:20260216T163000
DTEND;TZID=Europe/Bratislava:20260216T180000
LOCATION:F2-283
RRULE:FREQ=WEEKLY;UNTIL=20260523T000000Z
SUMMARY:Ruský jazyk (4)
END:VEVENT
BEGIN:VEVENT
UID:lesson(726)-semester(022026-052026)-candle@candle.fmph.uniba.sk
DTSTAMP:20260424T212453Z
CATEGORIES:Cvičenie
DESCRIPTION:Cvičenie\n\nVyučujúci:\n - V. Mirsalova\n
DTSTART;TZID=Europe/Bratislava:20260216T181000
DTEND;TZID=Europe/Bratislava:20260216T194000
LOCATION:F2-283
RRULE:FREQ=WEEKLY;UNTIL=20260523T000000Z
SUMMARY:Ruský jazyk (2)
END:VEVENT
BEGIN:VEVENT
UID:lesson(727)-semester(022026-052026)-candle@candle.fmph.uniba.sk
DTSTAMP:20260424T212453Z
CATEGORIES:Cvičenie
DESCRIPTION:Cvičenie\n\nVyučujúci:\n - V. Mirsalova\n
DTSTART;TZID=Europe/Bratislava:20260216T181000
DTEND;TZID=Europe/Bratislava:20260216T194000
LOCATION:F2-283
RRULE:FREQ=WEEKLY;UNTIL=20260523T000000Z
SUMMARY:Ruský jazyk (4)
END:VEVENT
BEGIN:VEVENT
UID:lesson(733)-semester(022026-052026)-candle@candle.fmph.uniba.sk
DTSTAMP:20260424T212453Z
CATEGORIES:Cvičenie
DESCRIPTION:Cvičenie\n\nVyučujúci:\n - A. Maďarová\n
DTSTART;TZID=Europe/Bratislava:20260217T081000
DTEND;TZID=Europe/Bratislava:20260217T094000
LOCATION:F2-283
RRULE:FREQ=WEEKLY;UNTIL=20260523T000000Z
SUMMARY:Nemecký jazyk (2)
END:VEVENT
BEGIN:VEVENT
UID:lesson(734)-semester(022026-052026)-candle@candle.fmph.uniba.sk
DTSTAMP:20260424T212453Z
CATEGORIES:Cvičenie
DESCRIPTION:Cvičenie\n\nVyučujúci:\n - A. Maďarová\n
DTSTART;TZID=Europe/Bratislava:20260217T095000
DTEND;TZID=Europe/Bratislava:20260217T112000
LOCATION:F2-283
RRULE:FREQ=WEEKLY;UNTIL=20260523T000000Z
SUMMARY:Nemecký jazyk (2)
END:VEVENT
BEGIN:VEVENT
UID:lesson(736)-semester(022026-052026)-candle@candle.fmph.uniba.sk
DTSTAMP:20260424T212453Z
CATEGORIES:Cvičenie
DESCRIPTION:Cvičenie\n\nVyučujúci:\n - A. Maďarová\n
DTSTART;TZID=Europe/Bratislava:20260217T113000
DTEND;TZID=Europe/Bratislava:20260217T130000
LOCATION:F2-283
RRULE:FREQ=WEEKLY;UNTIL=20260523T000000Z
SUMMARY:Nemecký jazyk (4)
END:VEVENT
BEGIN:VEVENT
UID:lesson(735)-semester(022026-052026)-candle@candle.fmph.uniba.sk
DTSTAMP:20260424T212453Z
CATEGORIES:Cvičenie
DESCRIPTION:Cvičenie\n\nVyučujúci:\n - A. Maďarová\n
DTSTART;TZID=Europe/Bratislava:20260217T113000
DTEND;TZID=Europe/Bratislava:20260217T130000
LOCATION:F2-283
RRULE:FREQ=WEEKLY;UNTIL=20260523T000000Z
SUMMARY:Nemecký jazyk (2)
END:VEVENT
BEGIN:VEVENT
UID:lesson(743)-semester(022026-052026)-candle@candle.fmph.uniba.sk
DTSTAMP:20260424T212453Z
CATEGORIES:Cvičenie
DESCRIPTION:Cvičenie\n\nVyučujúci:\n - V. Medárová\n
DTSTART;TZID=Europe/Bratislava:20260218T081000
DTEND;TZID=Europe/Bratislava:20260218T094000
LOCATION:F2-283
RRULE:FREQ=WEEKLY;UNTIL=20260523T000000Z
SUMMARY:Anglický jazyk (2)
END:VEVENT
BEGIN:VEVENT
UID:lesson(744)-semester(022026-052026)-candle@candle.fmph.uniba.sk
DTSTAMP:20260424T212453Z
CATEGORIES:Cvičenie
DESCRIPTION:Cvičenie\n\nVyučujúci:\n - Ľ. Kožehubová\n
DTSTART;TZID=Europe/Bratislava:20260218T113000
DTEND;TZID=Europe/Bratislava:20260218T130000
LOCATION:F2-283
RRULE:FREQ=WEEKLY;UNTIL=20260523T000000Z
SUMMARY:Anglický jazyk (4)
END:VEVENT
BEGIN:VEVENT
UID:lesson(745)-semester(022026-052026)-candle@candle.fmph.uniba.sk
DTSTAMP:20260424T212453Z
CATEGORIES:Cvičenie
DESCRIPTION:Cvičenie\n\nVyučujúci:\n - V. Mirsalova\n
DTSTART;TZID=Europe/Bratislava:20260218T131000
DTEND;TZID=Europe/Bratislava:20260218T144000
LOCATION:F2-283
RRULE:FREQ=WEEKLY;UNTIL=20260523T000000Z
SUMMARY:Ruský jazyk (2)
END:VEVENT
BEGIN:VEVENT
UID:lesson(746)-semester(022026-052026)-candle@candle.fmph.uniba.sk
DTSTAMP:20260424T212453Z
CATEGORIES:Cvičenie
DESCRIPTION:Cvičenie\n\nVyučujúci:\n - V. Mirsalova\n
DTSTART;TZID=Europe/Bratislava:20260218T131000
DTEND;TZID=Europe/Bratislava:20260218T144000
LOCATION:F2-283
RRULE:FREQ=WEEKLY;UNTIL=20260523T000000Z
SUMMARY:Ruský jazyk (4)
END:VEVENT
BEGIN:VEVENT
UID:lesson(752)-semester(022026-052026)-candle@candle.fmph.uniba.sk
DTSTAMP:20260424T212453Z
CATEGORIES:Cvičenie
DESCRIPTION:Cvičenie\n\nVyučujúci:\n - V. Medárová\n
DTSTART;TZID=Europe/Bratislava:20260219T081000
DTEND;TZID=Europe/Bratislava:20260219T094000
LOCATION:F2-283
RRULE:FREQ=WEEKLY;UNTIL=20260523T000000Z
SUMMARY:Anglický jazyk (4)
END:VEVENT
BEGIN:VEVENT
UID:lesson(753)-semester(022026-052026)-candle@candle.fmph.uniba.sk
DTSTAMP:20260424T212453Z
CATEGORIES:Cvičenie
DESCRIPTION:Cvičenie\n\nVyučujúci:\n - J. Kočvarová\n
DTSTART;TZID=Europe/Bratislava:20260219T095000
DTEND;TZID=Europe/Bratislava:20260219T112000
LOCATION:F2-283
RRULE:FREQ=WEEKLY;UNTIL=20260523T000000Z
SUMMARY:Anglický jazyk (2)
END:VEVENT
BEGIN:VEVENT
UID:lesson(751)-semester(022026-052026)-candle@candle.fmph.uniba.sk
DTSTAMP:20260424T212453Z
CATEGORIES:Cvičenie
DESCRIPTION:Cvičenie\n\nVyučujúci:\n - J. Kočvarová\n
DTSTART;TZID=Europe/Bratislava:20260219T131000
DTEND;TZID=Europe/Bratislava:20260219T144000
LOCATION:F2-283
RRULE:FREQ=WEEKLY;UNTIL=20260523T000000Z
SUMMARY:Doplňujúci kurz anglického jazyka (2)
END:VEVENT
END:VCALENDAR
