BEGIN:VCALENDAR
VERSION:2.0
PRODID:-//candle.fmph.uniba.sk//NONSGML kigkonsult.se iCalcreator 2.16.12//
METHOD:PUBLISH
X-WR-CALNAME:F2-051
X-WR-CALDESC:Rozvrh hodín vyexportovaný pomocou Candle\, https://github.com
 /fmfi-svt/candle
X-WR-TIMEZONE:Europe/Bratislava
BEGIN:VEVENT
UID:lesson(1002)-semester(022026-052026)-candle@candle.fmph.uniba.sk
DTSTAMP:20260424T212423Z
CATEGORIES:Prednáška
DESCRIPTION:Prednáška\n\nVyučujúci:\n - R. Pánek\n
DTSTART;TZID=Europe/Bratislava:20260216T090000
DTEND;TZID=Europe/Bratislava:20260216T103000
LOCATION:F2-051
RRULE:FREQ=WEEKLY;UNTIL=20260523T000000Z
SUMMARY:Vybrané kapitoly z vysokoteplotnej plazmy
END:VEVENT
BEGIN:VEVENT
UID:lesson(1003)-semester(022026-052026)-candle@candle.fmph.uniba.sk
DTSTAMP:20260424T212423Z
CATEGORIES:Prednáška
DESCRIPTION:Prednáška\n\nVyučujúci:\n - M. Janda\n
DTSTART;TZID=Europe/Bratislava:20260216T113000
DTEND;TZID=Europe/Bratislava:20260216T130000
LOCATION:F2-051
RRULE:FREQ=WEEKLY;UNTIL=20260523T000000Z
SUMMARY:Fyzika plazmy (2)
END:VEVENT
BEGIN:VEVENT
UID:lesson(1004)-semester(022026-052026)-candle@candle.fmph.uniba.sk
DTSTAMP:20260424T212423Z
CATEGORIES:Cvičenie
DESCRIPTION:Cvičenie\n\nVyučujúci:\n - M. Janda\n
DTSTART;TZID=Europe/Bratislava:20260216T131000
DTEND;TZID=Europe/Bratislava:20260216T135500
LOCATION:F2-051
RRULE:FREQ=WEEKLY;UNTIL=20260523T000000Z
SUMMARY:Fyzika plazmy (2)
END:VEVENT
BEGIN:VEVENT
UID:lesson(621)-semester(022026-052026)-candle@candle.fmph.uniba.sk
DTSTAMP:20260424T212423Z
CATEGORIES:Prednáška
DESCRIPTION:Prednáška\n\nVyučujúci:\n - M. Janda\n - D. Kováčik\n
DTSTART;TZID=Europe/Bratislava:20260217T113000
DTEND;TZID=Europe/Bratislava:20260217T130000
LOCATION:F2-051
RRULE:FREQ=WEEKLY;UNTIL=20260523T000000Z
SUMMARY:Úvod do fyziky plazmy a elektrických výbojov
END:VEVENT
BEGIN:VEVENT
UID:lesson(1005)-semester(022026-052026)-candle@candle.fmph.uniba.sk
DTSTAMP:20260424T212423Z
CATEGORIES:Prednáška
DESCRIPTION:Prednáška\n\nVyučujúci:\n - D. Kováčik\n - M. Klas\n
DTSTART;TZID=Europe/Bratislava:20260217T140000
DTEND;TZID=Europe/Bratislava:20260217T161500
LOCATION:F2-051
RRULE:FREQ=WEEKLY;UNTIL=20260523T000000Z
SUMMARY:Výboje v plynoch
END:VEVENT
BEGIN:VEVENT
UID:lesson(1006)-semester(022026-052026)-candle@candle.fmph.uniba.sk
DTSTAMP:20260424T212423Z
CATEGORIES:Prednáška
DESCRIPTION:Prednáška\n\nVyučujúci:\n - Š. Matejčík\n - L. Moravský\n
DTSTART;TZID=Europe/Bratislava:20260218T090000
DTEND;TZID=Europe/Bratislava:20260218T103000
LOCATION:F2-051
RRULE:FREQ=WEEKLY;UNTIL=20260523T000000Z
SUMMARY:Hmotnostná a iónová pohyblivostná spektrometria
END:VEVENT
BEGIN:VEVENT
UID:lesson(1007)-semester(022026-052026)-candle@candle.fmph.uniba.sk
DTSTAMP:20260424T212423Z
CATEGORIES:Prednáška
DESCRIPTION:Prednáška\n\nVyučujúci:\n - P. Papp\n - P. Čermák\n
DTSTART;TZID=Europe/Bratislava:20260218T104000
DTEND;TZID=Europe/Bratislava:20260218T121000
LOCATION:F2-051
RRULE:FREQ=WEEKLY;UNTIL=20260523T000000Z
SUMMARY:Teória molekulových spektier
END:VEVENT
BEGIN:VEVENT
UID:lesson(1008)-semester(022026-052026)-candle@candle.fmph.uniba.sk
DTSTAMP:20260424T212423Z
CATEGORIES:Prednáška
DESCRIPTION:Prednáška\n\nVyučujúci:\n - V. Medvecká\n - M. Janda\n
DTSTART;TZID=Europe/Bratislava:20260218T122000
DTEND;TZID=Europe/Bratislava:20260218T135000
LOCATION:F2-051
RRULE:FREQ=WEEKLY;UNTIL=20260523T000000Z
SUMMARY:Žiarenie plazmy
END:VEVENT
BEGIN:VEVENT
UID:lesson(1009)-semester(022026-052026)-candle@candle.fmph.uniba.sk
DTSTAMP:20260424T212423Z
CATEGORIES:Prednáška
DESCRIPTION:Prednáška\n\nVyučujúci:\n - Š. Matejčík\n - L. Moravský\n
DTSTART;TZID=Europe/Bratislava:20260218T140000
DTEND;TZID=Europe/Bratislava:20260218T153000
LOCATION:F2-051
RRULE:FREQ=WEEKLY;UNTIL=20260523T000000Z
SUMMARY:Elektrónová a iónová optika
END:VEVENT
BEGIN:VEVENT
UID:lesson(1010)-semester(022026-052026)-candle@candle.fmph.uniba.sk
DTSTAMP:20260424T212423Z
CATEGORIES:Prednáška
DESCRIPTION:Prednáška\n\nVyučujúci:\n - P. Čermák\n
DTSTART;TZID=Europe/Bratislava:20260219T090000
DTEND;TZID=Europe/Bratislava:20260219T103000
LOCATION:F2-051
RRULE:FREQ=WEEKLY;UNTIL=20260523T000000Z
SUMMARY:Optika
END:VEVENT
BEGIN:VEVENT
UID:lesson(1011)-semester(022026-052026)-candle@candle.fmph.uniba.sk
DTSTAMP:20260424T212423Z
CATEGORIES:Prednáška
DESCRIPTION:Prednáška\n\nVyučujúci:\n - P. Papp\n - J. Országh\n
DTSTART;TZID=Europe/Bratislava:20260219T104000
DTEND;TZID=Europe/Bratislava:20260219T121000
LOCATION:F2-051
RRULE:FREQ=WEEKLY;UNTIL=20260523T000000Z
SUMMARY:Spektroskopia elektrón-molekulových procesov
END:VEVENT
BEGIN:VEVENT
UID:lesson(1012)-semester(022026-052026)-candle@candle.fmph.uniba.sk
DTSTAMP:20260424T212423Z
CATEGORIES:Seminár
DESCRIPTION:Seminár\n\nVyučujúci:\n - Š. Matejčík\n - A. Zahoranová\n
DTSTART;TZID=Europe/Bratislava:20260219T122000
DTEND;TZID=Europe/Bratislava:20260219T135000
LOCATION:F2-051
RRULE:FREQ=WEEKLY;UNTIL=20260523T000000Z
SUMMARY:Diplomový seminár (2)
END:VEVENT
BEGIN:VEVENT
UID:lesson(1015)-semester(022026-052026)-candle@candle.fmph.uniba.sk
DTSTAMP:20260424T212423Z
CATEGORIES:Seminár
DESCRIPTION:Seminár\n\nVyučujúci:\n - Š. Matejčík\n - A. Zahoranová\n
DTSTART;TZID=Europe/Bratislava:20260219T140000
DTEND;TZID=Europe/Bratislava:20260219T144500
LOCATION:F2-051
RRULE:FREQ=WEEKLY;UNTIL=20260523T000000Z
SUMMARY:Seminár pracoviska (6)
END:VEVENT
BEGIN:VEVENT
UID:lesson(1014)-semester(022026-052026)-candle@candle.fmph.uniba.sk
DTSTAMP:20260424T212423Z
CATEGORIES:Seminár
DESCRIPTION:Seminár\n\nVyučujúci:\n - Š. Matejčík\n - A. Zahoranová\n
DTSTART;TZID=Europe/Bratislava:20260219T140000
DTEND;TZID=Europe/Bratislava:20260219T144500
LOCATION:F2-051
RRULE:FREQ=WEEKLY;UNTIL=20260523T000000Z
SUMMARY:Seminár pracoviska (4)
END:VEVENT
BEGIN:VEVENT
UID:lesson(1013)-semester(022026-052026)-candle@candle.fmph.uniba.sk
DTSTAMP:20260424T212423Z
CATEGORIES:Seminár
DESCRIPTION:Seminár\n\nVyučujúci:\n - Š. Matejčík\n - A. Zahoranová\n
DTSTART;TZID=Europe/Bratislava:20260219T140000
DTEND;TZID=Europe/Bratislava:20260219T144500
LOCATION:F2-051
RRULE:FREQ=WEEKLY;UNTIL=20260523T000000Z
SUMMARY:Seminár pracoviska (2)
END:VEVENT
BEGIN:VEVENT
UID:lesson(1016)-semester(022026-052026)-candle@candle.fmph.uniba.sk
DTSTAMP:20260424T212423Z
CATEGORIES:Seminár
DESCRIPTION:Seminár\n\nVyučujúci:\n - Š. Matejčík\n - A. Zahoranová\n
DTSTART;TZID=Europe/Bratislava:20260219T140000
DTEND;TZID=Europe/Bratislava:20260219T144500
LOCATION:F2-051
RRULE:FREQ=WEEKLY;UNTIL=20260523T000000Z
SUMMARY:Seminár pracoviska (8)
END:VEVENT
BEGIN:VEVENT
UID:lesson(694)-semester(022026-052026)-candle@candle.fmph.uniba.sk
DTSTAMP:20260424T212423Z
CATEGORIES:Prednáška
DESCRIPTION:Prednáška\n\nVyučujúci:\n - M. Janda\n - D. Kováčik\n
DTSTART;TZID=Europe/Bratislava:20260220T104000
DTEND;TZID=Europe/Bratislava:20260220T121000
LOCATION:F2-051
RRULE:FREQ=WEEKLY;UNTIL=20260523T000000Z
SUMMARY:Úvod do fyziky plazmy a elektrických výbojov
END:VEVENT
BEGIN:VEVENT
UID:lesson(695)-semester(022026-052026)-candle@candle.fmph.uniba.sk
DTSTAMP:20260424T212423Z
CATEGORIES:Cvičenie
DESCRIPTION:Cvičenie\n\nVyučujúci:\n - M. Janda\n - D. Kováčik\n
DTSTART;TZID=Europe/Bratislava:20260220T131000
DTEND;TZID=Europe/Bratislava:20260220T144000
LOCATION:F2-051
RRULE:FREQ=WEEKLY;UNTIL=20260523T000000Z
SUMMARY:Úvod do fyziky plazmy a elektrických výbojov
END:VEVENT
END:VCALENDAR
