BEGIN:VCALENDAR
VERSION:2.0
PRODID:-//candle.fmph.uniba.sk//NONSGML kigkonsult.se iCalcreator 2.16.12//
METHOD:PUBLISH
X-WR-CALNAME:F1
X-WR-CALDESC:Rozvrh hodín vyexportovaný pomocou Candle\, https://github.com
 /fmfi-svt/candle
X-WR-TIMEZONE:Europe/Bratislava
BEGIN:VEVENT
UID:lesson(225)-semester(022026-052026)-candle@candle.fmph.uniba.sk
DTSTAMP:20260424T175228Z
CATEGORIES:Prednáška
DESCRIPTION:Prednáška\n\nVyučujúci:\n - R. Kollár\n
DTSTART;TZID=Europe/Bratislava:20260216T081000
DTEND;TZID=Europe/Bratislava:20260216T094000
LOCATION:F1
RRULE:FREQ=WEEKLY;UNTIL=20260523T000000Z
SUMMARY:Matematická analýza (2)
END:VEVENT
BEGIN:VEVENT
UID:lesson(452)-semester(022026-052026)-candle@candle.fmph.uniba.sk
DTSTAMP:20260424T175228Z
CATEGORIES:Prednáška
DESCRIPTION:Prednáška\n\nVyučujúci:\n - Z. Kubáček\n
DTSTART;TZID=Europe/Bratislava:20260216T095000
DTEND;TZID=Europe/Bratislava:20260216T112000
LOCATION:F1
RRULE:FREQ=WEEKLY;UNTIL=20260523T000000Z
SUMMARY:Matematická analýza (2)
END:VEVENT
BEGIN:VEVENT
UID:lesson(462)-semester(022026-052026)-candle@candle.fmph.uniba.sk
DTSTAMP:20260424T175228Z
CATEGORIES:Prednáška
DESCRIPTION:Prednáška\n\nVyučujúci:\n - J. Babušíková\n
DTSTART;TZID=Europe/Bratislava:20260216T113000
DTEND;TZID=Europe/Bratislava:20260216T130000
LOCATION:F1
RRULE:FREQ=WEEKLY;UNTIL=20260523T000000Z
SUMMARY:Numerická matematika (1)
END:VEVENT
BEGIN:VEVENT
UID:lesson(497)-semester(022026-052026)-candle@candle.fmph.uniba.sk
DTSTAMP:20260424T175228Z
CATEGORIES:Prednáška
DESCRIPTION:Prednáška\n\nPoznámka: Univerzit tretieho veku\, každý druhý tý
 ždeň od 13.10.\n\nVyučujúci:\n - .KAFZMUcitel1\n
DTSTART;TZID=Europe/Bratislava:20260216T140000
DTEND;TZID=Europe/Bratislava:20260216T153000
LOCATION:F1
RRULE:FREQ=WEEKLY;UNTIL=20260523T000000Z
SUMMARY:Rezervácia - trvalá
END:VEVENT
BEGIN:VEVENT
UID:lesson(132)-semester(022026-052026)-candle@candle.fmph.uniba.sk
DTSTAMP:20260424T175228Z
CATEGORIES:Nezadaný typ
DESCRIPTION:Nezadaný typ\n\nVyučujúci:\n - \n
DTSTART;TZID=Europe/Bratislava:20260216T140000
DTEND;TZID=Europe/Bratislava:20260216T153000
LOCATION:F1
RRULE:FREQ=WEEKLY;UNTIL=20260523T000000Z
SUMMARY:Rezervácia - trvalá
END:VEVENT
BEGIN:VEVENT
UID:lesson(300)-semester(022026-052026)-candle@candle.fmph.uniba.sk
DTSTAMP:20260424T175228Z
CATEGORIES:Prednáška
DESCRIPTION:Prednáška\n\nVyučujúci:\n - J. Somorčík\n
DTSTART;TZID=Europe/Bratislava:20260217T081000
DTEND;TZID=Europe/Bratislava:20260217T094000
LOCATION:F1
RRULE:FREQ=WEEKLY;UNTIL=20260523T000000Z
SUMMARY:Ekonometria
END:VEVENT
BEGIN:VEVENT
UID:lesson(299)-semester(022026-052026)-candle@candle.fmph.uniba.sk
DTSTAMP:20260424T175228Z
CATEGORIES:Cvičenie
DESCRIPTION:Cvičenie\n\nVyučujúci:\n - R. Harman\n
DTSTART;TZID=Europe/Bratislava:20260217T095000
DTEND;TZID=Europe/Bratislava:20260217T112000
LOCATION:F1
RRULE:FREQ=WEEKLY;UNTIL=20260523T000000Z
SUMMARY:Analýza zhlukov a klasifikácia dát
END:VEVENT
BEGIN:VEVENT
UID:lesson(846)-semester(022026-052026)-candle@candle.fmph.uniba.sk
DTSTAMP:20260424T175228Z
CATEGORIES:Cvičenie
DESCRIPTION:Cvičenie\n\nVyučujúci:\n - M. Kollár\n
DTSTART;TZID=Europe/Bratislava:20260217T122000
DTEND;TZID=Europe/Bratislava:20260217T135000
LOCATION:F1
RRULE:FREQ=WEEKLY;UNTIL=20260523T000000Z
SUMMARY:Matematická analýza (2)
END:VEVENT
BEGIN:VEVENT
UID:lesson(313)-semester(022026-052026)-candle@candle.fmph.uniba.sk
DTSTAMP:20260424T175228Z
CATEGORIES:Kurz
DESCRIPTION:Kurz\n\nVyučujúci:\n - R. Böhm\n
DTSTART;TZID=Europe/Bratislava:20260217T145000
DTEND;TZID=Europe/Bratislava:20260217T162000
LOCATION:F1
RRULE:FREQ=WEEKLY;UNTIL=20260523T000000Z
SUMMARY:Matematické metódy fyziky (2)
END:VEVENT
BEGIN:VEVENT
UID:lesson(312)-semester(022026-052026)-candle@candle.fmph.uniba.sk
DTSTAMP:20260424T175228Z
CATEGORIES:Kurz
DESCRIPTION:Kurz\n\nVyučujúci:\n - R. Böhm\n
DTSTART;TZID=Europe/Bratislava:20260217T145000
DTEND;TZID=Europe/Bratislava:20260217T162000
LOCATION:F1
RRULE:FREQ=WEEKLY;UNTIL=20260523T000000Z
SUMMARY:Matematické metódy fyziky (2)
END:VEVENT
BEGIN:VEVENT
UID:lesson(426)-semester(022026-052026)-candle@candle.fmph.uniba.sk
DTSTAMP:20260424T175228Z
CATEGORIES:Prednáška
DESCRIPTION:Prednáška\n\nVyučujúci:\n - J. Pekár\n
DTSTART;TZID=Europe/Bratislava:20260217T163000
DTEND;TZID=Europe/Bratislava:20260217T180000
LOCATION:F1
RRULE:FREQ=WEEKLY;UNTIL=20260523T000000Z
SUMMARY:Úvod do teórie hier
END:VEVENT
BEGIN:VEVENT
UID:lesson(427)-semester(022026-052026)-candle@candle.fmph.uniba.sk
DTSTAMP:20260424T175228Z
CATEGORIES:Prednáška
DESCRIPTION:Prednáška\n\nVyučujúci:\n - J. Pekár\n
DTSTART;TZID=Europe/Bratislava:20260217T163000
DTEND;TZID=Europe/Bratislava:20260217T180000
LOCATION:F1
RRULE:FREQ=WEEKLY;UNTIL=20260523T000000Z
SUMMARY:Teória hier
END:VEVENT
BEGIN:VEVENT
UID:lesson(91)-semester(022026-052026)-candle@candle.fmph.uniba.sk
DTSTAMP:20260424T175228Z
CATEGORIES:Nezadaný typ
DESCRIPTION:Nezadaný typ\n\nVyučujúci:\n - \n
DTSTART;TZID=Europe/Bratislava:20260217T181000
DTEND;TZID=Europe/Bratislava:20260217T194000
LOCATION:F1
RRULE:FREQ=WEEKLY;UNTIL=20260523T000000Z
SUMMARY:písomky
END:VEVENT
BEGIN:VEVENT
UID:lesson(455)-semester(022026-052026)-candle@candle.fmph.uniba.sk
DTSTAMP:20260424T175228Z
CATEGORIES:Prednáška
DESCRIPTION:Prednáška\n\nVyučujúci:\n - K. Janková\n
DTSTART;TZID=Europe/Bratislava:20260218T113000
DTEND;TZID=Europe/Bratislava:20260218T130000
LOCATION:F1
RRULE:FREQ=WEEKLY;UNTIL=20260523T000000Z
SUMMARY:Pravdepodobnosť a štatistika (2)
END:VEVENT
BEGIN:VEVENT
UID:lesson(422)-semester(022026-052026)-candle@candle.fmph.uniba.sk
DTSTAMP:20260424T175228Z
CATEGORIES:Cvičenie
DESCRIPTION:Cvičenie\n\nVyučujúci:\n - M. Demetrian\n
DTSTART;TZID=Europe/Bratislava:20260218T131000
DTEND;TZID=Europe/Bratislava:20260218T144000
LOCATION:F1
RRULE:FREQ=WEEKLY;UNTIL=20260523T000000Z
SUMMARY:Základy matematiky (4)
END:VEVENT
BEGIN:VEVENT
UID:lesson(94)-semester(022026-052026)-candle@candle.fmph.uniba.sk
DTSTAMP:20260424T175228Z
CATEGORIES:Nezadaný typ
DESCRIPTION:Nezadaný typ\n\nVyučujúci:\n - \n
DTSTART;TZID=Europe/Bratislava:20260218T181000
DTEND;TZID=Europe/Bratislava:20260218T194000
LOCATION:F1
RRULE:FREQ=WEEKLY;UNTIL=20260523T000000Z
SUMMARY:písomky
END:VEVENT
BEGIN:VEVENT
UID:lesson(431)-semester(022026-052026)-candle@candle.fmph.uniba.sk
DTSTAMP:20260424T175228Z
CATEGORIES:Prednáška
DESCRIPTION:Prednáška\n\nVyučujúci:\n - D. Ševčovič\n
DTSTART;TZID=Europe/Bratislava:20260219T081000
DTEND;TZID=Europe/Bratislava:20260219T094000
LOCATION:F1
RRULE:FREQ=WEEKLY;UNTIL=20260523T000000Z
SUMMARY:Matematická analýza (4)
END:VEVENT
END:VCALENDAR
