BEGIN:VCALENDAR
VERSION:2.0
PRODID:-//candle.fmph.uniba.sk//NONSGML kigkonsult.se iCalcreator 2.16.12//
METHOD:PUBLISH
X-WR-CALNAME:F1-oJF
X-WR-CALDESC:Rozvrh hodín vyexportovaný pomocou Candle\, https://github.com
 /fmfi-svt/candle
X-WR-TIMEZONE:Europe/Bratislava
BEGIN:VEVENT
UID:lesson(622)-semester(022026-052026)-candle@candle.fmph.uniba.sk
DTSTAMP:20260424T193209Z
CATEGORIES:Prednáška
DESCRIPTION:Prednáška\n\nVyučujúci:\n - R. Böhm\n
DTSTART;TZID=Europe/Bratislava:20260216T113000
DTEND;TZID=Europe/Bratislava:20260216T130000
LOCATION:F1-oJF
RRULE:FREQ=WEEKLY;UNTIL=20260523T000000Z
SUMMARY:Molekulová fyzika
END:VEVENT
BEGIN:VEVENT
UID:lesson(919)-semester(022026-052026)-candle@candle.fmph.uniba.sk
DTSTAMP:20260424T193209Z
CATEGORIES:Prednáška
DESCRIPTION:Prednáška\n\nVyučujúci:\n - J. Kaizer\n
DTSTART;TZID=Europe/Bratislava:20260217T095000
DTEND;TZID=Europe/Bratislava:20260217T112000
LOCATION:F1-oJF
RRULE:FREQ=WEEKLY;UNTIL=20260523T000000Z
SUMMARY:Jadrová energetika
END:VEVENT
BEGIN:VEVENT
UID:lesson(920)-semester(022026-052026)-candle@candle.fmph.uniba.sk
DTSTAMP:20260424T193209Z
CATEGORIES:Prednáška
DESCRIPTION:Prednáška\n\nVyučujúci:\n - I. Kontuľ\n - M. Ješkovský\n - P. P
 ovinec\n
DTSTART;TZID=Europe/Bratislava:20260219T131000
DTEND;TZID=Europe/Bratislava:20260219T135500
LOCATION:F1-oJF
RRULE:FREQ=WEEKLY;UNTIL=20260523T000000Z
SUMMARY:Jadrovoenergetické zdroje\, environmentálny impakt a ochrana pred ž
 iarením
END:VEVENT
BEGIN:VEVENT
UID:lesson(921)-semester(022026-052026)-candle@candle.fmph.uniba.sk
DTSTAMP:20260424T193209Z
CATEGORIES:Seminár
DESCRIPTION:Seminár\n\nVyučujúci:\n - P. Povinec\n
DTSTART;TZID=Europe/Bratislava:20260219T140000
DTEND;TZID=Europe/Bratislava:20260219T144500
LOCATION:F1-oJF
RRULE:FREQ=WEEKLY;UNTIL=20260523T000000Z
SUMMARY:Jadrovoenergetické zdroje\, environmentálny impakt a ochrana pred ž
 iarením
END:VEVENT
BEGIN:VEVENT
UID:lesson(922)-semester(022026-052026)-candle@candle.fmph.uniba.sk
DTSTAMP:20260424T193209Z
CATEGORIES:Prednáška
DESCRIPTION:Prednáška\n\nVyučujúci:\n - S. Tokár\n - P. Bartoš\n
DTSTART;TZID=Europe/Bratislava:20260220T090000
DTEND;TZID=Europe/Bratislava:20260220T103000
LOCATION:F1-oJF
RRULE:FREQ=WEEKLY;UNTIL=20260523T000000Z
SUMMARY:Pokročilá fyzika vysokých energií
END:VEVENT
BEGIN:VEVENT
UID:lesson(924)-semester(022026-052026)-candle@candle.fmph.uniba.sk
DTSTAMP:20260424T193209Z
CATEGORIES:Prednáška
DESCRIPTION:Prednáška\n\nVyučujúci:\n - J. Masarik\n - R. Breier\n
DTSTART;TZID=Europe/Bratislava:20260220T104000
DTEND;TZID=Europe/Bratislava:20260220T121000
LOCATION:F1-oJF
RRULE:FREQ=WEEKLY;UNTIL=20260523T000000Z
SUMMARY:Astročasticová fyzika
END:VEVENT
BEGIN:VEVENT
UID:lesson(2051)-semester(022026-052026)-candle@candle.fmph.uniba.sk
DTSTAMP:20260424T193209Z
CATEGORIES:Labák
DESCRIPTION:Labák\n\nVyučujúci:\n - I. Sýkora\n - I. Kontuľ\n - T. Eckertov
 á\n
DTSTART;TZID=Europe/Bratislava:20260220T140000
DTEND;TZID=Europe/Bratislava:20260220T161500
LOCATION:F1-oJF
RRULE:FREQ=WEEKLY;UNTIL=20260523T000000Z
SUMMARY:Praktikum z radiačného monitoringu
END:VEVENT
END:VCALENDAR
