BEGIN:VCALENDAR
VERSION:2.0
PRODID:-//candle.fmph.uniba.sk//NONSGML kigkonsult.se iCalcreator 2.16.12//
METHOD:PUBLISH
X-WR-CALNAME:F1-360
X-WR-CALDESC:Rozvrh hodín vyexportovaný pomocou Candle\, https://github.com
 /fmfi-svt/candle
X-WR-TIMEZONE:Europe/Bratislava
BEGIN:VEVENT
UID:lesson(1053)-semester(022026-052026)-candle@candle.fmph.uniba.sk
DTSTAMP:20260424T212402Z
CATEGORIES:Prednáška
DESCRIPTION:Prednáška\n\nVyučujúci:\n - M. Vozár\n
DTSTART;TZID=Europe/Bratislava:20260216T113000
DTEND;TZID=Europe/Bratislava:20260216T130000
LOCATION:F1-360
RRULE:FREQ=WEEKLY;UNTIL=20260523T000000Z
SUMMARY:Aplikačný softvér v meteorológii
END:VEVENT
BEGIN:VEVENT
UID:lesson(1054)-semester(022026-052026)-candle@candle.fmph.uniba.sk
DTSTAMP:20260424T212402Z
CATEGORIES:Cvičenie
DESCRIPTION:Cvičenie\n\nVyučujúci:\n - M. Vozár\n
DTSTART;TZID=Europe/Bratislava:20260216T131000
DTEND;TZID=Europe/Bratislava:20260216T135500
LOCATION:F1-360
RRULE:FREQ=WEEKLY;UNTIL=20260523T000000Z
SUMMARY:Aplikačný softvér v meteorológii
END:VEVENT
BEGIN:VEVENT
UID:lesson(815)-semester(022026-052026)-candle@candle.fmph.uniba.sk
DTSTAMP:20260424T212402Z
CATEGORIES:Labák
DESCRIPTION:Labák\n\nVyučujúci:\n - M. Šinger\n
DTSTART;TZID=Europe/Bratislava:20260216T163000
DTEND;TZID=Europe/Bratislava:20260216T193000
LOCATION:F1-360
RRULE:FREQ=WEEKLY;UNTIL=20260523T000000Z
SUMMARY:Praktikum zo synoptickej meteorológie (2)
END:VEVENT
BEGIN:VEVENT
UID:lesson(816)-semester(022026-052026)-candle@candle.fmph.uniba.sk
DTSTAMP:20260424T212402Z
CATEGORIES:Prednáška
DESCRIPTION:Prednáška\n\nVyučujúci:\n - I. Damborská\n
DTSTART;TZID=Europe/Bratislava:20260217T090000
DTEND;TZID=Europe/Bratislava:20260217T103000
LOCATION:F1-360
RRULE:FREQ=WEEKLY;UNTIL=20260523T000000Z
SUMMARY:Metódy analýzy v meteorológii a klimatológii
END:VEVENT
BEGIN:VEVENT
UID:lesson(817)-semester(022026-052026)-candle@candle.fmph.uniba.sk
DTSTAMP:20260424T212402Z
CATEGORIES:Cvičenie
DESCRIPTION:Cvičenie\n\nVyučujúci:\n - D. Frnda\n
DTSTART;TZID=Europe/Bratislava:20260217T104000
DTEND;TZID=Europe/Bratislava:20260217T112500
LOCATION:F1-360
RRULE:FREQ=WEEKLY;UNTIL=20260523T000000Z
SUMMARY:Metódy analýzy v meteorológii a klimatológii
END:VEVENT
BEGIN:VEVENT
UID:lesson(1055)-semester(022026-052026)-candle@candle.fmph.uniba.sk
DTSTAMP:20260424T212402Z
CATEGORIES:Seminár
DESCRIPTION:Seminár\n\nVyučujúci:\n - I. Damborská\n
DTSTART;TZID=Europe/Bratislava:20260217T122000
DTEND;TZID=Europe/Bratislava:20260217T135000
LOCATION:F1-360
RRULE:FREQ=WEEKLY;UNTIL=20260523T000000Z
SUMMARY:Seminár z aplikovanej meteorológie (2)
END:VEVENT
BEGIN:VEVENT
UID:lesson(1170)-semester(022026-052026)-candle@candle.fmph.uniba.sk
DTSTAMP:20260424T212402Z
CATEGORIES:Prednáška
DESCRIPTION:Prednáška\n\nVyučujúci:\n - M. Lapin\n
DTSTART;TZID=Europe/Bratislava:20260218T090000
DTEND;TZID=Europe/Bratislava:20260218T103000
LOCATION:F1-360
RRULE:FREQ=WEEKLY;UNTIL=20260523T000000Z
SUMMARY:Klimatické zmeny\, ich príčiny a dôsledky
END:VEVENT
BEGIN:VEVENT
UID:lesson(1171)-semester(022026-052026)-candle@candle.fmph.uniba.sk
DTSTAMP:20260424T212402Z
CATEGORIES:Seminár
DESCRIPTION:Seminár\n\nVyučujúci:\n - M. Lapin\n
DTSTART;TZID=Europe/Bratislava:20260218T104000
DTEND;TZID=Europe/Bratislava:20260218T112500
LOCATION:F1-360
RRULE:FREQ=WEEKLY;UNTIL=20260523T000000Z
SUMMARY:Klimatické zmeny\, ich príčiny a dôsledky
END:VEVENT
BEGIN:VEVENT
UID:lesson(2062)-semester(022026-052026)-candle@candle.fmph.uniba.sk
DTSTAMP:20260424T212402Z
CATEGORIES:Prednáška
DESCRIPTION:Prednáška\n\nVyučujúci:\n - M. Jurašek\n
DTSTART;TZID=Europe/Bratislava:20260218T140000
DTEND;TZID=Europe/Bratislava:20260218T153000
LOCATION:F1-360
RRULE:FREQ=WEEKLY;UNTIL=20260523T000000Z
SUMMARY:Metódy diaľkovej detekcie v meteorológii
END:VEVENT
BEGIN:VEVENT
UID:lesson(819)-semester(022026-052026)-candle@candle.fmph.uniba.sk
DTSTAMP:20260424T212402Z
CATEGORIES:Prednáška
DESCRIPTION:Prednáška\n\nVyučujúci:\n - M. Šinger\n
DTSTART;TZID=Europe/Bratislava:20260218T154000
DTEND;TZID=Europe/Bratislava:20260218T175500
LOCATION:F1-360
RRULE:FREQ=WEEKLY;UNTIL=20260523T000000Z
SUMMARY:Synoptická meteorológia (2)
END:VEVENT
BEGIN:VEVENT
UID:lesson(820)-semester(022026-052026)-candle@candle.fmph.uniba.sk
DTSTAMP:20260424T212402Z
CATEGORIES:Prednáška
DESCRIPTION:Prednáška\n\nVyučujúci:\n - I. Damborská\n
DTSTART;TZID=Europe/Bratislava:20260219T090000
DTEND;TZID=Europe/Bratislava:20260219T103000
LOCATION:F1-360
RRULE:FREQ=WEEKLY;UNTIL=20260523T000000Z
SUMMARY:Fyzika hraničnej vrstvy atmosféry
END:VEVENT
BEGIN:VEVENT
UID:lesson(821)-semester(022026-052026)-candle@candle.fmph.uniba.sk
DTSTAMP:20260424T212402Z
CATEGORIES:Cvičenie
DESCRIPTION:Cvičenie\n\nVyučujúci:\n - I. Damborská\n
DTSTART;TZID=Europe/Bratislava:20260219T104000
DTEND;TZID=Europe/Bratislava:20260219T112500
LOCATION:F1-360
RRULE:FREQ=WEEKLY;UNTIL=20260523T000000Z
SUMMARY:Fyzika hraničnej vrstvy atmosféry
END:VEVENT
BEGIN:VEVENT
UID:lesson(2063)-semester(022026-052026)-candle@candle.fmph.uniba.sk
DTSTAMP:20260424T212402Z
CATEGORIES:Prednáška
DESCRIPTION:Prednáška\n\nVyučujúci:\n - M. Petrovič\n
DTSTART;TZID=Europe/Bratislava:20260219T113000
DTEND;TZID=Europe/Bratislava:20260219T130000
LOCATION:F1-360
RRULE:FREQ=WEEKLY;UNTIL=20260523T000000Z
SUMMARY:Základy dynamickej meteorológie
END:VEVENT
END:VCALENDAR
