BEGIN:VCALENDAR
VERSION:2.0
PRODID:-//candle.fmph.uniba.sk//NONSGML kigkonsult.se iCalcreator 2.16.12//
METHOD:PUBLISH
X-WR-CALNAME:F1-358
X-WR-CALDESC:Rozvrh hodín vyexportovaný pomocou Candle\, https://github.com
 /fmfi-svt/candle
X-WR-TIMEZONE:Europe/Bratislava
BEGIN:VEVENT
UID:lesson(1052)-semester(022026-052026)-candle@candle.fmph.uniba.sk
DTSTAMP:20260424T212404Z
CATEGORIES:Labák
DESCRIPTION:Labák\n\nVyučujúci:\n - J. Bartok\n
DTSTART;TZID=Europe/Bratislava:20260216T095000
DTEND;TZID=Europe/Bratislava:20260216T112000
LOCATION:F1-358
RRULE:FREQ=WEEKLY;UNTIL=20260523T000000Z
SUMMARY:Praktikum z meracích a pozorovacích metód v meteorológii
END:VEVENT
BEGIN:VEVENT
UID:lesson(1169)-semester(022026-052026)-candle@candle.fmph.uniba.sk
DTSTAMP:20260424T212404Z
CATEGORIES:Prednáška
DESCRIPTION:Prednáška\n\nVyučujúci:\n - M. Gera\n
DTSTART;TZID=Europe/Bratislava:20260219T113000
DTEND;TZID=Europe/Bratislava:20260219T134500
LOCATION:F1-358
RRULE:FREQ=WEEKLY;UNTIL=20260523T000000Z
SUMMARY:Vybrané kapitoly z dynamickej a numerickej meteorológie
END:VEVENT
END:VCALENDAR
