BEGIN:VCALENDAR
VERSION:2.0
PRODID:-//candle.fmph.uniba.sk//NONSGML kigkonsult.se iCalcreator 2.16.12//
METHOD:PUBLISH
X-WR-CALNAME:F1-328
X-WR-CALDESC:Rozvrh hodín vyexportovaný pomocou Candle\, https://github.com
 /fmfi-svt/candle
X-WR-TIMEZONE:Europe/Bratislava
BEGIN:VEVENT
UID:lesson(370)-semester(022026-052026)-candle@candle.fmph.uniba.sk
DTSTAMP:20260424T212404Z
CATEGORIES:Prednáška
DESCRIPTION:Prednáška\n\nVyučujúci:\n - P. Kostolányi\n
DTSTART;TZID=Europe/Bratislava:20260216T095000
DTEND;TZID=Europe/Bratislava:20260216T112000
LOCATION:F1-328
RRULE:FREQ=WEEKLY;UNTIL=20260523T000000Z
SUMMARY:Programovanie (2) v Jave
END:VEVENT
BEGIN:VEVENT
UID:lesson(281)-semester(022026-052026)-candle@candle.fmph.uniba.sk
DTSTAMP:20260424T212404Z
CATEGORIES:Prednáška
DESCRIPTION:Prednáška\n\nVyučujúci:\n - F. Gyárfáš\n - I. Uhliarik\n
DTSTART;TZID=Europe/Bratislava:20260216T113000
DTEND;TZID=Europe/Bratislava:20260216T130000
LOCATION:F1-328
RRULE:FREQ=WEEKLY;UNTIL=20260523T000000Z
SUMMARY:Extrémne programovanie
END:VEVENT
BEGIN:VEVENT
UID:lesson(285)-semester(022026-052026)-candle@candle.fmph.uniba.sk
DTSTAMP:20260424T212404Z
CATEGORIES:Seminár
DESCRIPTION:Seminár\n\nVyučujúci:\n - A. Blaho\n
DTSTART;TZID=Europe/Bratislava:20260217T104000
DTEND;TZID=Europe/Bratislava:20260217T112500
LOCATION:F1-328
RRULE:FREQ=WEEKLY;UNTIL=20260523T000000Z
SUMMARY:Bakalársky seminár
END:VEVENT
BEGIN:VEVENT
UID:lesson(286)-semester(022026-052026)-candle@candle.fmph.uniba.sk
DTSTAMP:20260424T212404Z
CATEGORIES:Seminár
DESCRIPTION:Seminár\n\nVyučujúci:\n - A. Blaho\n
DTSTART;TZID=Europe/Bratislava:20260217T113000
DTEND;TZID=Europe/Bratislava:20260217T121500
LOCATION:F1-328
RRULE:FREQ=WEEKLY;UNTIL=20260523T000000Z
SUMMARY:Bakalársky seminár
END:VEVENT
BEGIN:VEVENT
UID:lesson(1181)-semester(022026-052026)-candle@candle.fmph.uniba.sk
DTSTAMP:20260424T212404Z
CATEGORIES:Seminár
DESCRIPTION:Seminár\n\nVyučujúci:\n - A. Blaho\n
DTSTART;TZID=Europe/Bratislava:20260217T122000
DTEND;TZID=Europe/Bratislava:20260217T130500
LOCATION:F1-328
RRULE:FREQ=WEEKLY;UNTIL=20260523T000000Z
SUMMARY:Bakalársky seminár
END:VEVENT
BEGIN:VEVENT
UID:lesson(99)-semester(022026-052026)-candle@candle.fmph.uniba.sk
DTSTAMP:20260424T212404Z
CATEGORIES:Cvičenie
DESCRIPTION:Cvičenie\n\nVyučujúci:\n - M. Bátorová\n
DTSTART;TZID=Europe/Bratislava:20260217T131000
DTEND;TZID=Europe/Bratislava:20260217T144000
LOCATION:F1-328
RRULE:FREQ=WEEKLY;UNTIL=20260523T000000Z
SUMMARY:Doplnkové cvičenia z matematiky (2)
END:VEVENT
BEGIN:VEVENT
UID:lesson(105)-semester(022026-052026)-candle@candle.fmph.uniba.sk
DTSTAMP:20260424T212404Z
CATEGORIES:Cvičenie
DESCRIPTION:Cvičenie\n\nVyučujúci:\n - M. Bátorová\n
DTSTART;TZID=Europe/Bratislava:20260217T131000
DTEND;TZID=Europe/Bratislava:20260217T144000
LOCATION:F1-328
RRULE:FREQ=WEEKLY;UNTIL=20260523T000000Z
SUMMARY:Doplnkové cvičenia z matematiky (2)
END:VEVENT
BEGIN:VEVENT
UID:lesson(436)-semester(022026-052026)-candle@candle.fmph.uniba.sk
DTSTAMP:20260424T212404Z
CATEGORIES:Prednáška
DESCRIPTION:Prednáška\n\nVyučujúci:\n - J. Szolgayová\n
DTSTART;TZID=Europe/Bratislava:20260217T145000
DTEND;TZID=Europe/Bratislava:20260217T162000
LOCATION:F1-328
RRULE:FREQ=WEEKLY;UNTIL=20260523T000000Z
SUMMARY:Úvod do vysokoškolskej matematiky (2)
END:VEVENT
BEGIN:VEVENT
UID:lesson(616)-semester(022026-052026)-candle@candle.fmph.uniba.sk
DTSTAMP:20260424T212404Z
CATEGORIES:Cvičenie
DESCRIPTION:Cvičenie\n\nVyučujúci:\n - P. Maták\n - P. Rusnák\n - V. Kráľov
 ič\n
DTSTART;TZID=Europe/Bratislava:20260217T163000
DTEND;TZID=Europe/Bratislava:20260217T180000
LOCATION:F1-328
RRULE:FREQ=WEEKLY;UNTIL=20260523T000000Z
SUMMARY:Cvičenie z mechaniky (2)
END:VEVENT
BEGIN:VEVENT
UID:lesson(372)-semester(022026-052026)-candle@candle.fmph.uniba.sk
DTSTAMP:20260424T212404Z
CATEGORIES:Prednáška
DESCRIPTION:Prednáška\n\nVyučujúci:\n - D. Bernát\n
DTSTART;TZID=Europe/Bratislava:20260218T090000
DTEND;TZID=Europe/Bratislava:20260218T111500
LOCATION:F1-328
RRULE:FREQ=WEEKLY;UNTIL=20260523T000000Z
SUMMARY:Operačné systémy
END:VEVENT
BEGIN:VEVENT
UID:lesson(101)-semester(022026-052026)-candle@candle.fmph.uniba.sk
DTSTAMP:20260424T212404Z
CATEGORIES:Kurz
DESCRIPTION:Kurz\n\nVyučujúci:\n - M. Bátorová\n
DTSTART;TZID=Europe/Bratislava:20260218T113000
DTEND;TZID=Europe/Bratislava:20260218T130000
LOCATION:F1-328
RRULE:FREQ=WEEKLY;UNTIL=20260523T000000Z
SUMMARY:Základy matematiky (2)
END:VEVENT
BEGIN:VEVENT
UID:lesson(106)-semester(022026-052026)-candle@candle.fmph.uniba.sk
DTSTAMP:20260424T212404Z
CATEGORIES:Kurz
DESCRIPTION:Kurz\n\nVyučujúci:\n - M. Bátorová\n
DTSTART;TZID=Europe/Bratislava:20260218T113000
DTEND;TZID=Europe/Bratislava:20260218T130000
LOCATION:F1-328
RRULE:FREQ=WEEKLY;UNTIL=20260523T000000Z
SUMMARY:Základy matematiky (2)
END:VEVENT
BEGIN:VEVENT
UID:lesson(851)-semester(022026-052026)-candle@candle.fmph.uniba.sk
DTSTAMP:20260424T212404Z
CATEGORIES:Cvičenie
DESCRIPTION:Cvičenie\n\nVyučujúci:\n - J. Hrdina\n
DTSTART;TZID=Europe/Bratislava:20260218T145000
DTEND;TZID=Europe/Bratislava:20260218T162000
LOCATION:F1-328
RRULE:FREQ=WEEKLY;UNTIL=20260523T000000Z
SUMMARY:Cvičenie z algebry a geometrie (2)
END:VEVENT
BEGIN:VEVENT
UID:lesson(860)-semester(022026-052026)-candle@candle.fmph.uniba.sk
DTSTAMP:20260424T212404Z
CATEGORIES:Cvičenie
DESCRIPTION:Cvičenie\n\nVyučujúci:\n - M. Poturnay\n
DTSTART;TZID=Europe/Bratislava:20260218T163000
DTEND;TZID=Europe/Bratislava:20260218T171500
LOCATION:F1-328
RRULE:FREQ=WEEKLY;UNTIL=20260523T000000Z
SUMMARY:Algebra a geometria (2)
END:VEVENT
BEGIN:VEVENT
UID:lesson(861)-semester(022026-052026)-candle@candle.fmph.uniba.sk
DTSTAMP:20260424T212404Z
CATEGORIES:Cvičenie
DESCRIPTION:Cvičenie\n\nVyučujúci:\n - M. Poturnay\n
DTSTART;TZID=Europe/Bratislava:20260218T172000
DTEND;TZID=Europe/Bratislava:20260218T180500
LOCATION:F1-328
RRULE:FREQ=WEEKLY;UNTIL=20260523T000000Z
SUMMARY:Cvičenie z algebry (2)
END:VEVENT
BEGIN:VEVENT
UID:lesson(102)-semester(022026-052026)-candle@candle.fmph.uniba.sk
DTSTAMP:20260424T212404Z
CATEGORIES:Kurz
DESCRIPTION:Kurz\n\nVyučujúci:\n - M. Bátorová\n
DTSTART;TZID=Europe/Bratislava:20260219T113000
DTEND;TZID=Europe/Bratislava:20260219T130000
LOCATION:F1-328
RRULE:FREQ=WEEKLY;UNTIL=20260523T000000Z
SUMMARY:Základy matematiky (2)
END:VEVENT
BEGIN:VEVENT
UID:lesson(107)-semester(022026-052026)-candle@candle.fmph.uniba.sk
DTSTAMP:20260424T212404Z
CATEGORIES:Kurz
DESCRIPTION:Kurz\n\nVyučujúci:\n - M. Bátorová\n
DTSTART;TZID=Europe/Bratislava:20260219T113000
DTEND;TZID=Europe/Bratislava:20260219T130000
LOCATION:F1-328
RRULE:FREQ=WEEKLY;UNTIL=20260523T000000Z
SUMMARY:Základy matematiky (2)
END:VEVENT
BEGIN:VEVENT
UID:lesson(1150)-semester(022026-052026)-candle@candle.fmph.uniba.sk
DTSTAMP:20260424T212404Z
CATEGORIES:Cvičenie
DESCRIPTION:Cvičenie\n\nPoznámka: raz za 2 týždne\n\nVyučujúci:\n - J. Rajn
 ík\n
DTSTART;TZID=Europe/Bratislava:20260219T154000
DTEND;TZID=Europe/Bratislava:20260219T171000
LOCATION:F1-328
RRULE:FREQ=WEEKLY;UNTIL=20260523T000000Z
SUMMARY:Tvorba efektívnych algoritmov
END:VEVENT
END:VCALENDAR
