BEGIN:VCALENDAR
VERSION:2.0
PRODID:-//candle.fmph.uniba.sk//NONSGML kigkonsult.se iCalcreator 2.16.12//
METHOD:PUBLISH
X-WR-CALNAME:F1-327
X-WR-CALDESC:Rozvrh hodín vyexportovaný pomocou Candle\, https://github.com
 /fmfi-svt/candle
X-WR-TIMEZONE:Europe/Bratislava
BEGIN:VEVENT
UID:lesson(633)-semester(022026-052026)-candle@candle.fmph.uniba.sk
DTSTAMP:20260424T212353Z
CATEGORIES:Prednáška
DESCRIPTION:Prednáška\n\nVyučujúci:\n - R. Breier\n - T. Ženiš\n
DTSTART;TZID=Europe/Bratislava:20260216T095000
DTEND;TZID=Europe/Bratislava:20260216T112000
LOCATION:F1-327
RRULE:FREQ=WEEKLY;UNTIL=20260523T000000Z
SUMMARY:Modelovanie interakcie žiarenia s látkou
END:VEVENT
BEGIN:VEVENT
UID:lesson(623)-semester(022026-052026)-candle@candle.fmph.uniba.sk
DTSTAMP:20260424T212353Z
CATEGORIES:Prednáška
DESCRIPTION:Prednáška\n\nVyučujúci:\n - M. Ješkovský\n - J. Bartok\n
DTSTART;TZID=Europe/Bratislava:20260216T163000
DTEND;TZID=Europe/Bratislava:20260216T180000
LOCATION:F1-327
RRULE:FREQ=WEEKLY;UNTIL=20260523T000000Z
SUMMARY:Analytické metódy environmentálnej fyziky (2)
END:VEVENT
BEGIN:VEVENT
UID:lesson(627)-semester(022026-052026)-candle@candle.fmph.uniba.sk
DTSTAMP:20260424T212353Z
CATEGORIES:Prednáška
DESCRIPTION:Prednáška\n\nVyučujúci:\n - J. Masarik\n
DTSTART;TZID=Europe/Bratislava:20260217T081000
DTEND;TZID=Europe/Bratislava:20260217T094000
LOCATION:F1-327
RRULE:FREQ=WEEKLY;UNTIL=20260523T000000Z
SUMMARY:Fyzika elementárnych častíc
END:VEVENT
BEGIN:VEVENT
UID:lesson(631)-semester(022026-052026)-candle@candle.fmph.uniba.sk
DTSTAMP:20260424T212353Z
CATEGORIES:Prednáška
DESCRIPTION:Prednáška\n\nVyučujúci:\n - M. Dubovský\n
DTSTART;TZID=Europe/Bratislava:20260217T095000
DTEND;TZID=Europe/Bratislava:20260217T112000
LOCATION:F1-327
RRULE:FREQ=WEEKLY;UNTIL=20260523T000000Z
SUMMARY:Modelovanie experimentu
END:VEVENT
BEGIN:VEVENT
UID:lesson(635)-semester(022026-052026)-candle@candle.fmph.uniba.sk
DTSTAMP:20260424T212353Z
CATEGORIES:Seminár
DESCRIPTION:Seminár\n\nVyučujúci:\n - J. Masarik\n
DTSTART;TZID=Europe/Bratislava:20260217T122000
DTEND;TZID=Europe/Bratislava:20260217T135000
LOCATION:F1-327
RRULE:FREQ=WEEKLY;UNTIL=20260523T000000Z
SUMMARY:Diplomový seminár (3)
END:VEVENT
BEGIN:VEVENT
UID:lesson(1057)-semester(022026-052026)-candle@candle.fmph.uniba.sk
DTSTAMP:20260424T212353Z
CATEGORIES:Výber/Vol
DESCRIPTION:Výber/Vol\n\nVyučujúci:\n - J. Masarik\n - R. Breier\n
DTSTART;TZID=Europe/Bratislava:20260217T140000
DTEND;TZID=Europe/Bratislava:20260217T153000
LOCATION:F1-327
RRULE:FREQ=WEEKLY;UNTIL=20260523T000000Z
SUMMARY:Nukleárna geofyzika a astrofyzika
END:VEVENT
BEGIN:VEVENT
UID:lesson(1058)-semester(022026-052026)-candle@candle.fmph.uniba.sk
DTSTAMP:20260424T212353Z
CATEGORIES:Výber/Vol
DESCRIPTION:Výber/Vol\n\nVyučujúci:\n - S. Tokár\n
DTSTART;TZID=Europe/Bratislava:20260217T154000
DTEND;TZID=Europe/Bratislava:20260217T162500
LOCATION:F1-327
RRULE:FREQ=WEEKLY;UNTIL=20260523T000000Z
SUMMARY:Štandardný model z pohľadu experimentátora
END:VEVENT
BEGIN:VEVENT
UID:lesson(1059)-semester(022026-052026)-candle@candle.fmph.uniba.sk
DTSTAMP:20260424T212353Z
CATEGORIES:Výber/Vol
DESCRIPTION:Výber/Vol\n\nVyučujúci:\n - P. Bartoš\n
DTSTART;TZID=Europe/Bratislava:20260217T163000
DTEND;TZID=Europe/Bratislava:20260217T171500
LOCATION:F1-327
RRULE:FREQ=WEEKLY;UNTIL=20260523T000000Z
SUMMARY:Štandardný model z pohľadu experimentátora
END:VEVENT
BEGIN:VEVENT
UID:lesson(628)-semester(022026-052026)-candle@candle.fmph.uniba.sk
DTSTAMP:20260424T212353Z
CATEGORIES:Cvičenie
DESCRIPTION:Cvičenie\n\nVyučujúci:\n - P. Bartoš\n
DTSTART;TZID=Europe/Bratislava:20260218T090000
DTEND;TZID=Europe/Bratislava:20260218T103000
LOCATION:F1-327
RRULE:FREQ=WEEKLY;UNTIL=20260523T000000Z
SUMMARY:Fyzika elementárnych častíc
END:VEVENT
BEGIN:VEVENT
UID:lesson(630)-semester(022026-052026)-candle@candle.fmph.uniba.sk
DTSTAMP:20260424T212353Z
CATEGORIES:Cvičenie
DESCRIPTION:Cvičenie\n\nVyučujúci:\n - B. Andel\n
DTSTART;TZID=Europe/Bratislava:20260218T104000
DTEND;TZID=Europe/Bratislava:20260218T121000
LOCATION:F1-327
RRULE:FREQ=WEEKLY;UNTIL=20260523T000000Z
SUMMARY:Jadrové reakcie
END:VEVENT
BEGIN:VEVENT
UID:lesson(634)-semester(022026-052026)-candle@candle.fmph.uniba.sk
DTSTAMP:20260424T212353Z
CATEGORIES:Seminár
DESCRIPTION:Seminár\n\nVyučujúci:\n - J. Masarik\n
DTSTART;TZID=Europe/Bratislava:20260218T122000
DTEND;TZID=Europe/Bratislava:20260218T130500
LOCATION:F1-327
RRULE:FREQ=WEEKLY;UNTIL=20260523T000000Z
SUMMARY:Diplomový seminár (1)
END:VEVENT
BEGIN:VEVENT
UID:lesson(923)-semester(022026-052026)-candle@candle.fmph.uniba.sk
DTSTAMP:20260424T212353Z
CATEGORIES:Prednáška
DESCRIPTION:Prednáška\n\nVyučujúci:\n - S. Antalic\n
DTSTART;TZID=Europe/Bratislava:20260218T154000
DTEND;TZID=Europe/Bratislava:20260218T171000
LOCATION:F1-327
RRULE:FREQ=WEEKLY;UNTIL=20260523T000000Z
SUMMARY:Pokročilá jadrová fyzika
END:VEVENT
BEGIN:VEVENT
UID:lesson(1060)-semester(022026-052026)-candle@candle.fmph.uniba.sk
DTSTAMP:20260424T212353Z
CATEGORIES:Výber/Vol
DESCRIPTION:Výber/Vol\n\nVyučujúci:\n - S. Antalic\n
DTSTART;TZID=Europe/Bratislava:20260219T081000
DTEND;TZID=Europe/Bratislava:20260219T094000
LOCATION:F1-327
RRULE:FREQ=WEEKLY;UNTIL=20260523T000000Z
SUMMARY:Metódy štúdia jadrovej štruktúry
END:VEVENT
BEGIN:VEVENT
UID:lesson(629)-semester(022026-052026)-candle@candle.fmph.uniba.sk
DTSTAMP:20260424T212353Z
CATEGORIES:Prednáška
DESCRIPTION:Prednáška\n\nVyučujúci:\n - S. Antalic\n
DTSTART;TZID=Europe/Bratislava:20260219T095000
DTEND;TZID=Europe/Bratislava:20260219T112000
LOCATION:F1-327
RRULE:FREQ=WEEKLY;UNTIL=20260523T000000Z
SUMMARY:Jadrové reakcie
END:VEVENT
BEGIN:VEVENT
UID:lesson(626)-semester(022026-052026)-candle@candle.fmph.uniba.sk
DTSTAMP:20260424T212353Z
CATEGORIES:Prednáška
DESCRIPTION:Prednáška\n\nVyučujúci:\n - M. Pikna\n
DTSTART;TZID=Europe/Bratislava:20260219T122000
DTEND;TZID=Europe/Bratislava:20260219T135000
LOCATION:F1-327
RRULE:FREQ=WEEKLY;UNTIL=20260523T000000Z
SUMMARY:Experimentálne metódy jadrovej fyziky (2)
END:VEVENT
BEGIN:VEVENT
UID:lesson(632)-semester(022026-052026)-candle@candle.fmph.uniba.sk
DTSTAMP:20260424T212353Z
CATEGORIES:Prednáška
DESCRIPTION:Prednáška\n\nVyučujúci:\n - R. Dvornický\n
DTSTART;TZID=Europe/Bratislava:20260219T140000
DTEND;TZID=Europe/Bratislava:20260219T153000
LOCATION:F1-327
RRULE:FREQ=WEEKLY;UNTIL=20260523T000000Z
SUMMARY:Teória jadra
END:VEVENT
END:VCALENDAR
