BEGIN:VCALENDAR
VERSION:2.0
PRODID:-//candle.fmph.uniba.sk//NONSGML kigkonsult.se iCalcreator 2.16.12//
METHOD:PUBLISH
X-WR-CALNAME:F1-246
X-WR-CALDESC:Rozvrh hodín vyexportovaný pomocou Candle\, https://github.com
 /fmfi-svt/candle
X-WR-TIMEZONE:Europe/Bratislava
BEGIN:VEVENT
UID:lesson(721)-semester(022026-052026)-candle@candle.fmph.uniba.sk
DTSTAMP:20260424T212415Z
CATEGORIES:Cvičenie
DESCRIPTION:Cvičenie\n\nVyučujúci:\n - A. Barnes\n
DTSTART;TZID=Europe/Bratislava:20260216T145000
DTEND;TZID=Europe/Bratislava:20260216T162000
LOCATION:F1-246
RRULE:FREQ=WEEKLY;UNTIL=20260523T000000Z
SUMMARY:Slovenský jazyk pre zahraničných študentov (2)
END:VEVENT
BEGIN:VEVENT
UID:lesson(722)-semester(022026-052026)-candle@candle.fmph.uniba.sk
DTSTAMP:20260424T212415Z
CATEGORIES:Cvičenie
DESCRIPTION:Cvičenie\n\nVyučujúci:\n - A. Barnes\n
DTSTART;TZID=Europe/Bratislava:20260216T145000
DTEND;TZID=Europe/Bratislava:20260216T162000
LOCATION:F1-246
RRULE:FREQ=WEEKLY;UNTIL=20260523T000000Z
SUMMARY:Slovenský jazyk pre zahraničných študentov (4)
END:VEVENT
BEGIN:VEVENT
UID:lesson(723)-semester(022026-052026)-candle@candle.fmph.uniba.sk
DTSTAMP:20260424T212415Z
CATEGORIES:Cvičenie
DESCRIPTION:Cvičenie\n\nVyučujúci:\n - A. Barnes\n
DTSTART;TZID=Europe/Bratislava:20260216T163000
DTEND;TZID=Europe/Bratislava:20260216T180000
LOCATION:F1-246
RRULE:FREQ=WEEKLY;UNTIL=20260523T000000Z
SUMMARY:Anglický jazyk (2)
END:VEVENT
BEGIN:VEVENT
UID:lesson(730)-semester(022026-052026)-candle@candle.fmph.uniba.sk
DTSTAMP:20260424T212415Z
CATEGORIES:Cvičenie
DESCRIPTION:Cvičenie\n\nVyučujúci:\n - A. Barnes\n
DTSTART;TZID=Europe/Bratislava:20260217T095000
DTEND;TZID=Europe/Bratislava:20260217T112000
LOCATION:F1-246
RRULE:FREQ=WEEKLY;UNTIL=20260523T000000Z
SUMMARY:Konverzačný kurz anglického jazyka (2)
END:VEVENT
BEGIN:VEVENT
UID:lesson(731)-semester(022026-052026)-candle@candle.fmph.uniba.sk
DTSTAMP:20260424T212415Z
CATEGORIES:Cvičenie
DESCRIPTION:Cvičenie\n\nVyučujúci:\n - A. Barnes\n
DTSTART;TZID=Europe/Bratislava:20260217T113000
DTEND;TZID=Europe/Bratislava:20260217T130000
LOCATION:F1-246
RRULE:FREQ=WEEKLY;UNTIL=20260523T000000Z
SUMMARY:Slovenský jazyk pre zahraničných študentov (2)
END:VEVENT
BEGIN:VEVENT
UID:lesson(732)-semester(022026-052026)-candle@candle.fmph.uniba.sk
DTSTAMP:20260424T212415Z
CATEGORIES:Cvičenie
DESCRIPTION:Cvičenie\n\nVyučujúci:\n - A. Barnes\n
DTSTART;TZID=Europe/Bratislava:20260217T113000
DTEND;TZID=Europe/Bratislava:20260217T130000
LOCATION:F1-246
RRULE:FREQ=WEEKLY;UNTIL=20260523T000000Z
SUMMARY:Slovenský jazyk pre zahraničných študentov (4)
END:VEVENT
BEGIN:VEVENT
UID:lesson(738)-semester(022026-052026)-candle@candle.fmph.uniba.sk
DTSTAMP:20260424T212415Z
CATEGORIES:Cvičenie
DESCRIPTION:Cvičenie\n\nVyučujúci:\n - A. Maďarová\n
DTSTART;TZID=Europe/Bratislava:20260218T081000
DTEND;TZID=Europe/Bratislava:20260218T094000
LOCATION:F1-246
RRULE:FREQ=WEEKLY;UNTIL=20260523T000000Z
SUMMARY:Anglický jazyk (4)
END:VEVENT
BEGIN:VEVENT
UID:lesson(739)-semester(022026-052026)-candle@candle.fmph.uniba.sk
DTSTAMP:20260424T212415Z
CATEGORIES:Cvičenie
DESCRIPTION:Cvičenie\n\nVyučujúci:\n - A. Maďarová\n
DTSTART;TZID=Europe/Bratislava:20260218T095000
DTEND;TZID=Europe/Bratislava:20260218T112000
LOCATION:F1-246
RRULE:FREQ=WEEKLY;UNTIL=20260523T000000Z
SUMMARY:Anglický jazyk (4)
END:VEVENT
BEGIN:VEVENT
UID:lesson(741)-semester(022026-052026)-candle@candle.fmph.uniba.sk
DTSTAMP:20260424T212415Z
CATEGORIES:Cvičenie
DESCRIPTION:Cvičenie\n\nVyučujúci:\n - A. Barnes\n
DTSTART;TZID=Europe/Bratislava:20260218T113000
DTEND;TZID=Europe/Bratislava:20260218T130000
LOCATION:F1-246
RRULE:FREQ=WEEKLY;UNTIL=20260523T000000Z
SUMMARY:Slovenský jazyk pre zahraničných študentov (4)
END:VEVENT
BEGIN:VEVENT
UID:lesson(740)-semester(022026-052026)-candle@candle.fmph.uniba.sk
DTSTAMP:20260424T212415Z
CATEGORIES:Cvičenie
DESCRIPTION:Cvičenie\n\nVyučujúci:\n - A. Barnes\n
DTSTART;TZID=Europe/Bratislava:20260218T113000
DTEND;TZID=Europe/Bratislava:20260218T130000
LOCATION:F1-246
RRULE:FREQ=WEEKLY;UNTIL=20260523T000000Z
SUMMARY:Slovenský jazyk pre zahraničných študentov (2)
END:VEVENT
BEGIN:VEVENT
UID:lesson(742)-semester(022026-052026)-candle@candle.fmph.uniba.sk
DTSTAMP:20260424T212415Z
CATEGORIES:Cvičenie
DESCRIPTION:Cvičenie\n\nVyučujúci:\n - A. Barnes\n
DTSTART;TZID=Europe/Bratislava:20260218T131000
DTEND;TZID=Europe/Bratislava:20260218T144000
LOCATION:F1-246
RRULE:FREQ=WEEKLY;UNTIL=20260523T000000Z
SUMMARY:Konverzačný kurz anglického jazyka (2)
END:VEVENT
BEGIN:VEVENT
UID:lesson(747)-semester(022026-052026)-candle@candle.fmph.uniba.sk
DTSTAMP:20260424T212415Z
CATEGORIES:Cvičenie
DESCRIPTION:Cvičenie\n\nVyučujúci:\n - Ľ. Kožehubová\n
DTSTART;TZID=Europe/Bratislava:20260219T095000
DTEND;TZID=Europe/Bratislava:20260219T112000
LOCATION:F1-246
RRULE:FREQ=WEEKLY;UNTIL=20260523T000000Z
SUMMARY:Francúzsky jazyk (2)
END:VEVENT
BEGIN:VEVENT
UID:lesson(748)-semester(022026-052026)-candle@candle.fmph.uniba.sk
DTSTAMP:20260424T212415Z
CATEGORIES:Cvičenie
DESCRIPTION:Cvičenie\n\nVyučujúci:\n - Ľ. Kožehubová\n
DTSTART;TZID=Europe/Bratislava:20260219T095000
DTEND;TZID=Europe/Bratislava:20260219T112000
LOCATION:F1-246
RRULE:FREQ=WEEKLY;UNTIL=20260523T000000Z
SUMMARY:Francúzsky jazyk (4)
END:VEVENT
BEGIN:VEVENT
UID:lesson(750)-semester(022026-052026)-candle@candle.fmph.uniba.sk
DTSTAMP:20260424T212415Z
CATEGORIES:Cvičenie
DESCRIPTION:Cvičenie\n\nVyučujúci:\n - Ľ. Kožehubová\n
DTSTART;TZID=Europe/Bratislava:20260219T113000
DTEND;TZID=Europe/Bratislava:20260219T130000
LOCATION:F1-246
RRULE:FREQ=WEEKLY;UNTIL=20260523T000000Z
SUMMARY:Francúzsky jazyk (4)
END:VEVENT
BEGIN:VEVENT
UID:lesson(749)-semester(022026-052026)-candle@candle.fmph.uniba.sk
DTSTAMP:20260424T212415Z
CATEGORIES:Cvičenie
DESCRIPTION:Cvičenie\n\nVyučujúci:\n - Ľ. Kožehubová\n
DTSTART;TZID=Europe/Bratislava:20260219T113000
DTEND;TZID=Europe/Bratislava:20260219T130000
LOCATION:F1-246
RRULE:FREQ=WEEKLY;UNTIL=20260523T000000Z
SUMMARY:Francúzsky jazyk (2)
END:VEVENT
BEGIN:VEVENT
UID:lesson(754)-semester(022026-052026)-candle@candle.fmph.uniba.sk
DTSTAMP:20260424T212415Z
CATEGORIES:Cvičenie
DESCRIPTION:Cvičenie\n\nVyučujúci:\n - A. Barnes\n
DTSTART;TZID=Europe/Bratislava:20260219T131000
DTEND;TZID=Europe/Bratislava:20260219T144000
LOCATION:F1-246
RRULE:FREQ=WEEKLY;UNTIL=20260523T000000Z
SUMMARY:Anglický jazyk pre doktorandov (2)
END:VEVENT
BEGIN:VEVENT
UID:lesson(755)-semester(022026-052026)-candle@candle.fmph.uniba.sk
DTSTAMP:20260424T212415Z
CATEGORIES:Cvičenie
DESCRIPTION:Cvičenie\n\nVyučujúci:\n - A. Barnes\n
DTSTART;TZID=Europe/Bratislava:20260219T145000
DTEND;TZID=Europe/Bratislava:20260219T162000
LOCATION:F1-246
RRULE:FREQ=WEEKLY;UNTIL=20260523T000000Z
SUMMARY:Anglický jazyk pre doktorandov (2)
END:VEVENT
BEGIN:VEVENT
UID:lesson(763)-semester(022026-052026)-candle@candle.fmph.uniba.sk
DTSTAMP:20260424T212415Z
CATEGORIES:Cvičenie
DESCRIPTION:Cvičenie\n\nVyučujúci:\n - V. Medárová\n
DTSTART;TZID=Europe/Bratislava:20260220T081000
DTEND;TZID=Europe/Bratislava:20260220T094000
LOCATION:F1-246
RRULE:FREQ=WEEKLY;UNTIL=20260523T000000Z
SUMMARY:Anglický jazyk (4)
END:VEVENT
BEGIN:VEVENT
UID:lesson(764)-semester(022026-052026)-candle@candle.fmph.uniba.sk
DTSTAMP:20260424T212415Z
CATEGORIES:Cvičenie
DESCRIPTION:Cvičenie\n\nVyučujúci:\n - V. Medárová\n
DTSTART;TZID=Europe/Bratislava:20260220T095000
DTEND;TZID=Europe/Bratislava:20260220T112000
LOCATION:F1-246
RRULE:FREQ=WEEKLY;UNTIL=20260523T000000Z
SUMMARY:Anglický jazyk (4)
END:VEVENT
END:VCALENDAR
