BEGIN:VCALENDAR
VERSION:2.0
PRODID:-//candle.fmph.uniba.sk//NONSGML kigkonsult.se iCalcreator 2.16.12//
METHOD:PUBLISH
X-WR-CALNAME:F1-112
X-WR-CALDESC:Rozvrh hodín vyexportovaný pomocou Candle\, https://github.com
 /fmfi-svt/candle
X-WR-TIMEZONE:Europe/Bratislava
BEGIN:VEVENT
UID:lesson(1024)-semester(022026-052026)-candle@candle.fmph.uniba.sk
DTSTAMP:20260424T212427Z
CATEGORIES:Kurz
DESCRIPTION:Kurz\n\nVyučujúci:\n - J. Šilha\n - K. Sabolová\n
DTSTART;TZID=Europe/Bratislava:20260216T090000
DTEND;TZID=Europe/Bratislava:20260216T111500
LOCATION:F1-112
RRULE:FREQ=WEEKLY;UNTIL=20260523T000000Z
SUMMARY:Výpočtová technika v astronómii (1)
END:VEVENT
BEGIN:VEVENT
UID:lesson(1025)-semester(022026-052026)-candle@candle.fmph.uniba.sk
DTSTAMP:20260424T212427Z
CATEGORIES:Prednáška
DESCRIPTION:Prednáška\n\nVyučujúci:\n - R. Nagy\n
DTSTART;TZID=Europe/Bratislava:20260216T113000
DTEND;TZID=Europe/Bratislava:20260216T134500
LOCATION:F1-112
RRULE:FREQ=WEEKLY;UNTIL=20260523T000000Z
SUMMARY:Teoretická astrofyzika (2)
END:VEVENT
BEGIN:VEVENT
UID:lesson(1026)-semester(022026-052026)-candle@candle.fmph.uniba.sk
DTSTAMP:20260424T212427Z
CATEGORIES:Cvičenie
DESCRIPTION:Cvičenie\n\nVyučujúci:\n - J. Ramaj\n
DTSTART;TZID=Europe/Bratislava:20260216T163000
DTEND;TZID=Europe/Bratislava:20260216T180000
LOCATION:F1-112
RRULE:FREQ=WEEKLY;UNTIL=20260523T000000Z
SUMMARY:Teoretická astrofyzika (2)
END:VEVENT
BEGIN:VEVENT
UID:lesson(1027)-semester(022026-052026)-candle@candle.fmph.uniba.sk
DTSTAMP:20260424T212427Z
CATEGORIES:Kurz
DESCRIPTION:Kurz\n\nVyučujúci:\n - L. Kornoš\n
DTSTART;TZID=Europe/Bratislava:20260217T090000
DTEND;TZID=Europe/Bratislava:20260217T111500
LOCATION:F1-112
RRULE:FREQ=WEEKLY;UNTIL=20260523T000000Z
SUMMARY:Nebeská mechanika (2)
END:VEVENT
BEGIN:VEVENT
UID:lesson(1028)-semester(022026-052026)-candle@candle.fmph.uniba.sk
DTSTAMP:20260424T212427Z
CATEGORIES:Kurz
DESCRIPTION:Kurz\n\nVyučujúci:\n - J. Klačka\n
DTSTART;TZID=Europe/Bratislava:20260217T122000
DTEND;TZID=Europe/Bratislava:20260217T135000
LOCATION:F1-112
RRULE:FREQ=WEEKLY;UNTIL=20260523T000000Z
SUMMARY:Galaktická a mimogalaktická astronómia (1)
END:VEVENT
BEGIN:VEVENT
UID:lesson(1029)-semester(022026-052026)-candle@candle.fmph.uniba.sk
DTSTAMP:20260424T212427Z
CATEGORIES:Prednáška
DESCRIPTION:Prednáška\n\nVyučujúci:\n - J. Tóth\n
DTSTART;TZID=Europe/Bratislava:20260217T140000
DTEND;TZID=Europe/Bratislava:20260217T153000
LOCATION:F1-112
RRULE:FREQ=WEEKLY;UNTIL=20260523T000000Z
SUMMARY:Vybrané kapitoly z dejín astronómie
END:VEVENT
BEGIN:VEVENT
UID:lesson(1030)-semester(022026-052026)-candle@candle.fmph.uniba.sk
DTSTAMP:20260424T212427Z
CATEGORIES:Prednáška
DESCRIPTION:Prednáška\n\nVyučujúci:\n - E. Lilly\n
DTSTART;TZID=Europe/Bratislava:20260218T090000
DTEND;TZID=Europe/Bratislava:20260218T103000
LOCATION:F1-112
RRULE:FREQ=WEEKLY;UNTIL=20260523T000000Z
SUMMARY:Kométy
END:VEVENT
BEGIN:VEVENT
UID:lesson(1031)-semester(022026-052026)-candle@candle.fmph.uniba.sk
DTSTAMP:20260424T212427Z
CATEGORIES:Prednáška
DESCRIPTION:Prednáška\n\nVyučujúci:\n - J. Tóth\n - P. Matlovič\n
DTSTART;TZID=Europe/Bratislava:20260218T104000
DTEND;TZID=Europe/Bratislava:20260218T121000
LOCATION:F1-112
RRULE:FREQ=WEEKLY;UNTIL=20260523T000000Z
SUMMARY:Medziplanetárna hmota (2)
END:VEVENT
BEGIN:VEVENT
UID:lesson(1032)-semester(022026-052026)-candle@candle.fmph.uniba.sk
DTSTAMP:20260424T212427Z
CATEGORIES:Seminár
DESCRIPTION:Seminár\n\nVyučujúci:\n - L. Kornoš\n - R. Nagy\n
DTSTART;TZID=Europe/Bratislava:20260218T131000
DTEND;TZID=Europe/Bratislava:20260218T144000
LOCATION:F1-112
RRULE:FREQ=WEEKLY;UNTIL=20260523T000000Z
SUMMARY:Seminár z astronómie a astrofyziky (2)
END:VEVENT
BEGIN:VEVENT
UID:lesson(1043)-semester(022026-052026)-candle@candle.fmph.uniba.sk
DTSTAMP:20260424T212427Z
CATEGORIES:Seminár
DESCRIPTION:Seminár\n\nVyučujúci:\n - J. Tóth\n - R. Nagy\n
DTSTART;TZID=Europe/Bratislava:20260218T131000
DTEND;TZID=Europe/Bratislava:20260218T144000
LOCATION:F1-112
RRULE:FREQ=WEEKLY;UNTIL=20260523T000000Z
SUMMARY:Seminár z astronómie a astrofyziky (8)
END:VEVENT
BEGIN:VEVENT
UID:lesson(1042)-semester(022026-052026)-candle@candle.fmph.uniba.sk
DTSTAMP:20260424T212427Z
CATEGORIES:Seminár
DESCRIPTION:Seminár\n\nVyučujúci:\n - J. Tóth\n - R. Nagy\n
DTSTART;TZID=Europe/Bratislava:20260218T131000
DTEND;TZID=Europe/Bratislava:20260218T144000
LOCATION:F1-112
RRULE:FREQ=WEEKLY;UNTIL=20260523T000000Z
SUMMARY:Seminár z astronómie a astrofyziky (6)
END:VEVENT
BEGIN:VEVENT
UID:lesson(1041)-semester(022026-052026)-candle@candle.fmph.uniba.sk
DTSTAMP:20260424T212427Z
CATEGORIES:Seminár
DESCRIPTION:Seminár\n\nVyučujúci:\n - J. Tóth\n - R. Nagy\n
DTSTART;TZID=Europe/Bratislava:20260218T131000
DTEND;TZID=Europe/Bratislava:20260218T144000
LOCATION:F1-112
RRULE:FREQ=WEEKLY;UNTIL=20260523T000000Z
SUMMARY:Seminár z astronómie a astrofyziky (4)
END:VEVENT
BEGIN:VEVENT
UID:lesson(1040)-semester(022026-052026)-candle@candle.fmph.uniba.sk
DTSTAMP:20260424T212427Z
CATEGORIES:Seminár
DESCRIPTION:Seminár\n\nVyučujúci:\n - J. Tóth\n - R. Nagy\n
DTSTART;TZID=Europe/Bratislava:20260218T131000
DTEND;TZID=Europe/Bratislava:20260218T144000
LOCATION:F1-112
RRULE:FREQ=WEEKLY;UNTIL=20260523T000000Z
SUMMARY:Seminár z astronómie a astrofyziky (2)
END:VEVENT
BEGIN:VEVENT
UID:lesson(1038)-semester(022026-052026)-candle@candle.fmph.uniba.sk
DTSTAMP:20260424T212427Z
CATEGORIES:Seminár
DESCRIPTION:Seminár\n\nVyučujúci:\n - L. Kornoš\n - R. Nagy\n
DTSTART;TZID=Europe/Bratislava:20260218T131000
DTEND;TZID=Europe/Bratislava:20260218T144000
LOCATION:F1-112
RRULE:FREQ=WEEKLY;UNTIL=20260523T000000Z
SUMMARY:Seminár z astronómie a astrofyziky (4)
END:VEVENT
BEGIN:VEVENT
UID:lesson(1033)-semester(022026-052026)-candle@candle.fmph.uniba.sk
DTSTAMP:20260424T212427Z
CATEGORIES:Kurz
DESCRIPTION:Kurz\n\nVyučujúci:\n - J. Klačka\n
DTSTART;TZID=Europe/Bratislava:20260219T090000
DTEND;TZID=Europe/Bratislava:20260219T111500
LOCATION:F1-112
RRULE:FREQ=WEEKLY;UNTIL=20260523T000000Z
SUMMARY:Galaktická a mimogalaktická astronómia (1)
END:VEVENT
BEGIN:VEVENT
UID:lesson(1034)-semester(022026-052026)-candle@candle.fmph.uniba.sk
DTSTAMP:20260424T212427Z
CATEGORIES:Prednáška
DESCRIPTION:Prednáška\n\nVyučujúci:\n - R. Nagy\n
DTSTART;TZID=Europe/Bratislava:20260219T122000
DTEND;TZID=Europe/Bratislava:20260219T135000
LOCATION:F1-112
RRULE:FREQ=WEEKLY;UNTIL=20260523T000000Z
SUMMARY:Kozmická elektrodynamika (2)
END:VEVENT
BEGIN:VEVENT
UID:lesson(1035)-semester(022026-052026)-candle@candle.fmph.uniba.sk
DTSTAMP:20260424T212427Z
CATEGORIES:Prednáška
DESCRIPTION:Prednáška\n\nVyučujúci:\n - J. Tóth\n
DTSTART;TZID=Europe/Bratislava:20260219T140000
DTEND;TZID=Europe/Bratislava:20260219T153000
LOCATION:F1-112
RRULE:FREQ=WEEKLY;UNTIL=20260523T000000Z
SUMMARY:Fyzika planét
END:VEVENT
BEGIN:VEVENT
UID:lesson(1036)-semester(022026-052026)-candle@candle.fmph.uniba.sk
DTSTAMP:20260424T212427Z
CATEGORIES:Prednáška
DESCRIPTION:Prednáška\n\nVyučujúci:\n - J. Budaj\n
DTSTART;TZID=Europe/Bratislava:20260219T154000
DTEND;TZID=Europe/Bratislava:20260219T171000
LOCATION:F1-112
RRULE:FREQ=WEEKLY;UNTIL=20260523T000000Z
SUMMARY:Vybrané problémy z astrofyziky
END:VEVENT
BEGIN:VEVENT
UID:lesson(1044)-semester(022026-052026)-candle@candle.fmph.uniba.sk
DTSTAMP:20260424T212427Z
CATEGORIES:Prednáška
DESCRIPTION:Prednáška\n\nVyučujúci:\n - L. Kornoš\n - P. Matlovič\n
DTSTART;TZID=Europe/Bratislava:20260220T090000
DTEND;TZID=Europe/Bratislava:20260220T103000
LOCATION:F1-112
RRULE:FREQ=WEEKLY;UNTIL=20260523T000000Z
SUMMARY:Populácia malých telies slnečnej sústavy (2)
END:VEVENT
BEGIN:VEVENT
UID:lesson(1039)-semester(022026-052026)-candle@candle.fmph.uniba.sk
DTSTAMP:20260424T212427Z
CATEGORIES:Nezadaný typ
DESCRIPTION:Nezadaný typ\n\nVyučujúci:\n - L. Kornoš\n - J. Klačka\n - J. T
 óth\n
DTSTART;TZID=Europe/Bratislava:20260220T145000
DTEND;TZID=Europe/Bratislava:20260220T162000
LOCATION:F1-112
RRULE:FREQ=WEEKLY;UNTIL=20260523T000000Z
SUMMARY:Diplomová práca
END:VEVENT
BEGIN:VEVENT
UID:lesson(1037)-semester(022026-052026)-candle@candle.fmph.uniba.sk
DTSTAMP:20260424T212427Z
CATEGORIES:Labák
DESCRIPTION:Labák\n\nVyučujúci:\n - L. Kornoš\n - Š. Gajdoš\n - A. Galád\n
DTSTART;TZID=Europe/Bratislava:20260220T163000
DTEND;TZID=Europe/Bratislava:20260220T180000
LOCATION:F1-112
RRULE:FREQ=WEEKLY;UNTIL=20260523T000000Z
SUMMARY:Laboratórne práce (1)
END:VEVENT
END:VCALENDAR
