BEGIN:VCALENDAR
VERSION:2.0
PRODID:-//candle.fmph.uniba.sk//NONSGML kigkonsult.se iCalcreator 2.16.12//
METHOD:PUBLISH
X-WR-CALNAME:Ch2-130
X-WR-CALDESC:Rozvrh hodín vyexportovaný pomocou Candle\, https://github.com
 /fmfi-svt/candle
X-WR-TIMEZONE:Europe/Bratislava
BEGIN:VEVENT
UID:lesson(1064)-semester(022026-052026)-candle@candle.fmph.uniba.sk
DTSTAMP:20260424T212416Z
CATEGORIES:Prednáška
DESCRIPTION:Prednáška\n\nVyučujúci:\n - PriFUK\n
DTSTART;TZID=Europe/Bratislava:20260217T131000
DTEND;TZID=Europe/Bratislava:20260217T144000
LOCATION:Ch2-130
RRULE:FREQ=WEEKLY;UNTIL=20260523T000000Z
SUMMARY:Moc\, priestor a konflikt - základy politickej geografie a geopolit
 iky
END:VEVENT
END:VCALENDAR
