BEGIN:VCALENDAR
VERSION:2.0
PRODID:-//candle.fmph.uniba.sk//NONSGML kigkonsult.se iCalcreator 2.16.12//
METHOD:PUBLISH
X-WR-CALNAME:Ch1-3
X-WR-CALDESC:Rozvrh hodín vyexportovaný pomocou Candle\, https://github.com
 /fmfi-svt/candle
X-WR-TIMEZONE:Europe/Bratislava
BEGIN:VEVENT
UID:lesson(122)-semester(022026-052026)-candle@candle.fmph.uniba.sk
DTSTAMP:20260424T193134Z
CATEGORIES:Cvičenie
DESCRIPTION:Cvičenie\n\nVyučujúci:\n - B. Bertóková\n
DTSTART;TZID=Europe/Bratislava:20260217T095000
DTEND;TZID=Europe/Bratislava:20260217T112000
LOCATION:Ch1-3
RRULE:FREQ=WEEKLY;UNTIL=20260523T000000Z
SUMMARY:Matematika pre biológov
END:VEVENT
BEGIN:VEVENT
UID:lesson(1180)-semester(022026-052026)-candle@candle.fmph.uniba.sk
DTSTAMP:20260424T193134Z
CATEGORIES:Cvičenie
DESCRIPTION:Cvičenie\n\nVyučujúci:\n - B. Bertóková\n
DTSTART;TZID=Europe/Bratislava:20260217T095000
DTEND;TZID=Europe/Bratislava:20260217T112000
LOCATION:Ch1-3
RRULE:FREQ=WEEKLY;UNTIL=20260523T000000Z
SUMMARY:Matematika pre biológov
END:VEVENT
BEGIN:VEVENT
UID:lesson(123)-semester(022026-052026)-candle@candle.fmph.uniba.sk
DTSTAMP:20260424T193134Z
CATEGORIES:Cvičenie
DESCRIPTION:Cvičenie\n\nVyučujúci:\n - B. Bertóková\n
DTSTART;TZID=Europe/Bratislava:20260217T113000
DTEND;TZID=Europe/Bratislava:20260217T130000
LOCATION:Ch1-3
RRULE:FREQ=WEEKLY;UNTIL=20260523T000000Z
SUMMARY:Matematika pre biológov
END:VEVENT
BEGIN:VEVENT
UID:lesson(1092)-semester(022026-052026)-candle@candle.fmph.uniba.sk
DTSTAMP:20260424T193134Z
CATEGORIES:Prednáška
DESCRIPTION:Prednáška\n\nVyučujúci:\n - PriFUK\n
DTSTART;TZID=Europe/Bratislava:20260218T131000
DTEND;TZID=Europe/Bratislava:20260218T144000
LOCATION:Ch1-3
RRULE:FREQ=WEEKLY;UNTIL=20260523T000000Z
SUMMARY:Komplexná humánna geografia v ére globalizácie
END:VEVENT
BEGIN:VEVENT
UID:lesson(1093)-semester(022026-052026)-candle@candle.fmph.uniba.sk
DTSTAMP:20260424T193134Z
CATEGORIES:Prednáška
DESCRIPTION:Prednáška\n\nVyučujúci:\n - PriFUK\n
DTSTART;TZID=Europe/Bratislava:20260218T145000
DTEND;TZID=Europe/Bratislava:20260218T162000
LOCATION:Ch1-3
RRULE:FREQ=WEEKLY;UNTIL=20260523T000000Z
SUMMARY:Geoekológia a krajinné syntézy
END:VEVENT
BEGIN:VEVENT
UID:lesson(126)-semester(022026-052026)-candle@candle.fmph.uniba.sk
DTSTAMP:20260424T193134Z
CATEGORIES:Cvičenie
DESCRIPTION:Cvičenie\n\nVyučujúci:\n - L. Moravský\n
DTSTART;TZID=Europe/Bratislava:20260219T131000
DTEND;TZID=Europe/Bratislava:20260219T152500
LOCATION:Ch1-3
RRULE:FREQ=WEEKLY;UNTIL=20260523T000000Z
SUMMARY:Fyzika pre chémiu
END:VEVENT
END:VCALENDAR
