BEGIN:VCALENDAR
VERSION:2.0
PRODID:-//candle.fmph.uniba.sk//NONSGML kigkonsult.se iCalcreator 2.16.12//
METHOD:PUBLISH
X-WR-CALNAME:C
X-WR-CALDESC:Rozvrh hodín vyexportovaný pomocou Candle\, https://github.com
 /fmfi-svt/candle
X-WR-TIMEZONE:Europe/Bratislava
BEGIN:VEVENT
UID:lesson(424)-semester(022026-052026)-candle@candle.fmph.uniba.sk
DTSTAMP:20260424T193107Z
CATEGORIES:Prednáška
DESCRIPTION:Prednáška\n\nVyučujúci:\n - Z. Chladná\n
DTSTART;TZID=Europe/Bratislava:20260216T090000
DTEND;TZID=Europe/Bratislava:20260216T103000
LOCATION:C
RRULE:FREQ=WEEKLY;UNTIL=20260523T000000Z
SUMMARY:Podnikové financie
END:VEVENT
BEGIN:VEVENT
UID:lesson(425)-semester(022026-052026)-candle@candle.fmph.uniba.sk
DTSTAMP:20260424T193107Z
CATEGORIES:Cvičenie
DESCRIPTION:Cvičenie\n\nVyučujúci:\n - Z. Chladná\n
DTSTART;TZID=Europe/Bratislava:20260216T104000
DTEND;TZID=Europe/Bratislava:20260216T121000
LOCATION:C
RRULE:FREQ=WEEKLY;UNTIL=20260523T000000Z
SUMMARY:Podnikové financie
END:VEVENT
BEGIN:VEVENT
UID:lesson(443)-semester(022026-052026)-candle@candle.fmph.uniba.sk
DTSTAMP:20260424T193107Z
CATEGORIES:Prednáška
DESCRIPTION:Prednáška\n\nVyučujúci:\n - J. Kováč\n
DTSTART;TZID=Europe/Bratislava:20260217T090000
DTEND;TZID=Europe/Bratislava:20260217T103000
LOCATION:C
RRULE:FREQ=WEEKLY;UNTIL=20260523T000000Z
SUMMARY:Matematická štatistika
END:VEVENT
BEGIN:VEVENT
UID:lesson(444)-semester(022026-052026)-candle@candle.fmph.uniba.sk
DTSTAMP:20260424T193107Z
CATEGORIES:Kurz
DESCRIPTION:Kurz\n\nVyučujúci:\n - J. Kováč\n
DTSTART;TZID=Europe/Bratislava:20260217T104000
DTEND;TZID=Europe/Bratislava:20260217T121000
LOCATION:C
RRULE:FREQ=WEEKLY;UNTIL=20260523T000000Z
SUMMARY:Počítačová štatistika
END:VEVENT
BEGIN:VEVENT
UID:lesson(226)-semester(022026-052026)-candle@candle.fmph.uniba.sk
DTSTAMP:20260424T193107Z
CATEGORIES:Prednáška
DESCRIPTION:Prednáška\n\nVyučujúci:\n - R. Kollár\n
DTSTART;TZID=Europe/Bratislava:20260217T131000
DTEND;TZID=Europe/Bratislava:20260217T144000
LOCATION:C
RRULE:FREQ=WEEKLY;UNTIL=20260523T000000Z
SUMMARY:Matematická analýza (2)
END:VEVENT
BEGIN:VEVENT
UID:lesson(302)-semester(022026-052026)-candle@candle.fmph.uniba.sk
DTSTAMP:20260424T193107Z
CATEGORIES:Prednáška
DESCRIPTION:Prednáška\n\nVyučujúci:\n - S. Rosa\n
DTSTART;TZID=Europe/Bratislava:20260217T154000
DTEND;TZID=Europe/Bratislava:20260217T171000
LOCATION:C
RRULE:FREQ=WEEKLY;UNTIL=20260523T000000Z
SUMMARY:Redukcia dimenzie dát
END:VEVENT
BEGIN:VEVENT
UID:lesson(864)-semester(022026-052026)-candle@candle.fmph.uniba.sk
DTSTAMP:20260424T193107Z
CATEGORIES:Cvičenie
DESCRIPTION:Cvičenie\n\nVyučujúci:\n - M. Poturnay\n
DTSTART;TZID=Europe/Bratislava:20260218T081000
DTEND;TZID=Europe/Bratislava:20260218T094000
LOCATION:C
RRULE:FREQ=WEEKLY;UNTIL=20260523T000000Z
SUMMARY:Algebra a geometria (2)
END:VEVENT
BEGIN:VEVENT
UID:lesson(862)-semester(022026-052026)-candle@candle.fmph.uniba.sk
DTSTAMP:20260424T193107Z
CATEGORIES:Cvičenie
DESCRIPTION:Cvičenie\n\nVyučujúci:\n - M. Poturnay\n
DTSTART;TZID=Europe/Bratislava:20260218T081000
DTEND;TZID=Europe/Bratislava:20260218T085500
LOCATION:C
RRULE:FREQ=WEEKLY;UNTIL=20260523T000000Z
SUMMARY:Algebra a geometria (2)
END:VEVENT
BEGIN:VEVENT
UID:lesson(863)-semester(022026-052026)-candle@candle.fmph.uniba.sk
DTSTAMP:20260424T193107Z
CATEGORIES:Cvičenie
DESCRIPTION:Cvičenie\n\nVyučujúci:\n - M. Poturnay\n
DTSTART;TZID=Europe/Bratislava:20260218T090000
DTEND;TZID=Europe/Bratislava:20260218T094500
LOCATION:C
RRULE:FREQ=WEEKLY;UNTIL=20260523T000000Z
SUMMARY:Cvičenie z algebry (2)
END:VEVENT
BEGIN:VEVENT
UID:lesson(298)-semester(022026-052026)-candle@candle.fmph.uniba.sk
DTSTAMP:20260424T193107Z
CATEGORIES:Cvičenie
DESCRIPTION:Cvičenie\n\nVyučujúci:\n - J. Guričan\n
DTSTART;TZID=Europe/Bratislava:20260218T095000
DTEND;TZID=Europe/Bratislava:20260218T112000
LOCATION:C
RRULE:FREQ=WEEKLY;UNTIL=20260523T000000Z
SUMMARY:Algebra (3)
END:VEVENT
BEGIN:VEVENT
UID:lesson(430)-semester(022026-052026)-candle@candle.fmph.uniba.sk
DTSTAMP:20260424T193107Z
CATEGORIES:Cvičenie
DESCRIPTION:Cvičenie\n\nVyučujúci:\n - J. Pekár\n
DTSTART;TZID=Europe/Bratislava:20260218T113000
DTEND;TZID=Europe/Bratislava:20260218T130000
LOCATION:C
RRULE:FREQ=WEEKLY;UNTIL=20260523T000000Z
SUMMARY:Experimentálna ekonómia
END:VEVENT
BEGIN:VEVENT
UID:lesson(303)-semester(022026-052026)-candle@candle.fmph.uniba.sk
DTSTAMP:20260424T193107Z
CATEGORIES:Cvičenie
DESCRIPTION:Cvičenie\n\nVyučujúci:\n - S. Rosa\n
DTSTART;TZID=Europe/Bratislava:20260218T131000
DTEND;TZID=Europe/Bratislava:20260218T135500
LOCATION:C
RRULE:FREQ=WEEKLY;UNTIL=20260523T000000Z
SUMMARY:Redukcia dimenzie dát
END:VEVENT
BEGIN:VEVENT
UID:lesson(498)-semester(022026-052026)-candle@candle.fmph.uniba.sk
DTSTAMP:20260424T193107Z
CATEGORIES:Seminár
DESCRIPTION:Seminár\n\nPoznámka: KAFZM\n\nVyučujúci:\n - M. Janda\n - R. Na
 gy\n
DTSTART;TZID=Europe/Bratislava:20260218T145000
DTEND;TZID=Europe/Bratislava:20260218T153500
LOCATION:C
RRULE:FREQ=WEEKLY;UNTIL=20260523T000000Z
SUMMARY:Seminár pracoviska (1)
END:VEVENT
BEGIN:VEVENT
UID:lesson(287)-semester(022026-052026)-candle@candle.fmph.uniba.sk
DTSTAMP:20260424T193107Z
CATEGORIES:Kurz
DESCRIPTION:Kurz\n\nVyučujúci:\n - Ľ. Šešera\n
DTSTART;TZID=Europe/Bratislava:20260218T154000
DTEND;TZID=Europe/Bratislava:20260218T184000
LOCATION:C
RRULE:FREQ=WEEKLY;UNTIL=20260523T000000Z
SUMMARY:Vývoj natívnych aplikácií pre Cloud
END:VEVENT
BEGIN:VEVENT
UID:lesson(417)-semester(022026-052026)-candle@candle.fmph.uniba.sk
DTSTAMP:20260424T193107Z
CATEGORIES:Prednáška
DESCRIPTION:Prednáška\n\nVyučujúci:\n - J. Boďa\n
DTSTART;TZID=Europe/Bratislava:20260219T081000
DTEND;TZID=Europe/Bratislava:20260219T102500
LOCATION:C
RRULE:FREQ=WEEKLY;UNTIL=20260523T000000Z
SUMMARY:Ekonómia (2)
END:VEVENT
BEGIN:VEVENT
UID:lesson(875)-semester(022026-052026)-candle@candle.fmph.uniba.sk
DTSTAMP:20260424T193107Z
CATEGORIES:Kurz
DESCRIPTION:Kurz\n\nVyučujúci:\n - Ľ. Šešera\n
DTSTART;TZID=Europe/Bratislava:20260219T113000
DTEND;TZID=Europe/Bratislava:20260219T143000
LOCATION:C
RRULE:FREQ=WEEKLY;UNTIL=20260523T000000Z
SUMMARY:Techniky softvérovej analýzy
END:VEVENT
BEGIN:VEVENT
UID:lesson(288)-semester(022026-052026)-candle@candle.fmph.uniba.sk
DTSTAMP:20260424T193107Z
CATEGORIES:Prednáška
DESCRIPTION:Prednáška\n\nVyučujúci:\n - D. Gruska\n
DTSTART;TZID=Europe/Bratislava:20260219T145000
DTEND;TZID=Europe/Bratislava:20260219T175000
LOCATION:C
RRULE:FREQ=WEEKLY;UNTIL=20260523T000000Z
SUMMARY:Programovanie paralelných a distribuovaných systémov
END:VEVENT
END:VCALENDAR
