BEGIN:VCALENDAR
VERSION:2.0
PRODID:-//candle.fmph.uniba.sk//NONSGML kigkonsult.se iCalcreator 2.16.12//
METHOD:PUBLISH
X-WR-CALNAME:B2-302
X-WR-CALDESC:Rozvrh hodín vyexportovaný pomocou Candle\, https://github.com
 /fmfi-svt/candle
X-WR-TIMEZONE:Europe/Bratislava
BEGIN:VEVENT
UID:lesson(1067)-semester(022026-052026)-candle@candle.fmph.uniba.sk
DTSTAMP:20260424T212429Z
CATEGORIES:Cvičenie
DESCRIPTION:Cvičenie\n\nPoznámka: Blokovo - 18.2.\, 25.2.\, 4.3.\, 11.3.\, 
 18.3.\, 25.3.\, 1.4.\, 13.5. 2026\n\nVyučujúci:\n - PriFUK\n
DTSTART;TZID=Europe/Bratislava:20260218T113000
DTEND;TZID=Europe/Bratislava:20260218T130000
LOCATION:B2-302
RRULE:FREQ=WEEKLY;UNTIL=20260523T000000Z
SUMMARY:Moc\, priestor a konflikt - základy politickej geografie a geopolit
 iky
END:VEVENT
BEGIN:VEVENT
UID:lesson(1096)-semester(022026-052026)-candle@candle.fmph.uniba.sk
DTSTAMP:20260424T212429Z
CATEGORIES:Prednáška
DESCRIPTION:Prednáška\n\nVyučujúci:\n - PriFUK\n
DTSTART;TZID=Europe/Bratislava:20260219T090000
DTEND;TZID=Europe/Bratislava:20260219T094500
LOCATION:B2-302
RRULE:FREQ=WEEKLY;UNTIL=20260523T000000Z
SUMMARY:Projektový manažment a jeho aplikácie
END:VEVENT
BEGIN:VEVENT
UID:lesson(1098)-semester(022026-052026)-candle@candle.fmph.uniba.sk
DTSTAMP:20260424T212429Z
CATEGORIES:Cvičenie
DESCRIPTION:Cvičenie\n\nVyučujúci:\n - PriFUK\n
DTSTART;TZID=Europe/Bratislava:20260219T095000
DTEND;TZID=Europe/Bratislava:20260219T112000
LOCATION:B2-302
RRULE:FREQ=WEEKLY;UNTIL=20260523T000000Z
SUMMARY:Projektový manažment a jeho aplikácie
END:VEVENT
END:VCALENDAR
