BEGIN:VCALENDAR
VERSION:2.0
PRODID:-//candle.fmph.uniba.sk//NONSGML kigkonsult.se iCalcreator 2.16.12//
METHOD:PUBLISH
X-WR-CALNAME:B2-201
X-WR-CALDESC:Rozvrh hodín vyexportovaný pomocou Candle\, https://github.com
 /fmfi-svt/candle
X-WR-TIMEZONE:Europe/Bratislava
BEGIN:VEVENT
UID:lesson(1062)-semester(022026-052026)-candle@candle.fmph.uniba.sk
DTSTAMP:20260424T212419Z
CATEGORIES:Prednáška
DESCRIPTION:Prednáška\n\nVyučujúci:\n - PriFUK\n
DTSTART;TZID=Europe/Bratislava:20260216T090000
DTEND;TZID=Europe/Bratislava:20260216T103000
LOCATION:B2-201
RRULE:FREQ=WEEKLY;UNTIL=20260523T000000Z
SUMMARY:Geoinformatika pre humánnu geografiu a demografiu
END:VEVENT
BEGIN:VEVENT
UID:lesson(1063)-semester(022026-052026)-candle@candle.fmph.uniba.sk
DTSTAMP:20260424T212419Z
CATEGORIES:Cvičenie
DESCRIPTION:Cvičenie\n\nVyučujúci:\n - PriFUK\n
DTSTART;TZID=Europe/Bratislava:20260216T104000
DTEND;TZID=Europe/Bratislava:20260216T112500
LOCATION:B2-201
RRULE:FREQ=WEEKLY;UNTIL=20260523T000000Z
SUMMARY:Geoinformatika pre humánnu geografiu a demografiu
END:VEVENT
BEGIN:VEVENT
UID:lesson(1088)-semester(022026-052026)-candle@candle.fmph.uniba.sk
DTSTAMP:20260424T212419Z
CATEGORIES:Prednáška
DESCRIPTION:Prednáška\n\nVyučujúci:\n - PriFUK\n
DTSTART;TZID=Europe/Bratislava:20260217T104000
DTEND;TZID=Europe/Bratislava:20260217T121000
LOCATION:B2-201
RRULE:FREQ=WEEKLY;UNTIL=20260523T000000Z
SUMMARY:Aktuálne problémy demografie Slovenska
END:VEVENT
BEGIN:VEVENT
UID:lesson(1089)-semester(022026-052026)-candle@candle.fmph.uniba.sk
DTSTAMP:20260424T212419Z
CATEGORIES:Cvičenie
DESCRIPTION:Cvičenie\n\nVyučujúci:\n - PriFUK\n
DTSTART;TZID=Europe/Bratislava:20260217T122000
DTEND;TZID=Europe/Bratislava:20260217T130500
LOCATION:B2-201
RRULE:FREQ=WEEKLY;UNTIL=20260523T000000Z
SUMMARY:Aktuálne problémy demografie Slovenska
END:VEVENT
END:VCALENDAR
