BEGIN:VCALENDAR
VERSION:2.0
PRODID:-//candle.fmph.uniba.sk//NONSGML kigkonsult.se iCalcreator 2.16.12//
METHOD:PUBLISH
X-WR-CALNAME:B1-501
X-WR-CALDESC:Rozvrh hodín vyexportovaný pomocou Candle\, https://github.com
 /fmfi-svt/candle
X-WR-TIMEZONE:Europe/Bratislava
BEGIN:VEVENT
UID:lesson(152)-semester(022026-052026)-candle@candle.fmph.uniba.sk
DTSTAMP:20260424T193157Z
CATEGORIES:Prednáška
DESCRIPTION:Prednáška\n\nVyučujúci:\n - PriFUK\n
DTSTART;TZID=Europe/Bratislava:20260216T113000
DTEND;TZID=Europe/Bratislava:20260216T130000
LOCATION:B1-501
RRULE:FREQ=WEEKLY;UNTIL=20260523T000000Z
SUMMARY:Genetika (3): Cytogenetika
END:VEVENT
END:VCALENDAR
