BEGIN:VCALENDAR
VERSION:2.0
PRODID:-//candle.fmph.uniba.sk//NONSGML kigkonsult.se iCalcreator 2.16.12//
METHOD:PUBLISH
X-WR-CALNAME:B1-435
X-WR-CALDESC:Rozvrh hodín vyexportovaný pomocou Candle\, https://github.com
 /fmfi-svt/candle
X-WR-TIMEZONE:Europe/Bratislava
BEGIN:VEVENT
UID:lesson(1082)-semester(022026-052026)-candle@candle.fmph.uniba.sk
DTSTAMP:20260424T193215Z
CATEGORIES:Prednáška
DESCRIPTION:Prednáška\n\nVyučujúci:\n - PriFUK\n
DTSTART;TZID=Europe/Bratislava:20260217T095000
DTEND;TZID=Europe/Bratislava:20260217T112000
LOCATION:B1-435
RRULE:FREQ=WEEKLY;UNTIL=20260523T000000Z
SUMMARY:Makroregióny Zeme
END:VEVENT
BEGIN:VEVENT
UID:lesson(1084)-semester(022026-052026)-candle@candle.fmph.uniba.sk
DTSTAMP:20260424T193215Z
CATEGORIES:Prednáška
DESCRIPTION:Prednáška\n\nVyučujúci:\n - PriFUK\n
DTSTART;TZID=Europe/Bratislava:20260218T131000
DTEND;TZID=Europe/Bratislava:20260218T144000
LOCATION:B1-435
RRULE:FREQ=WEEKLY;UNTIL=20260523T000000Z
SUMMARY:Geografia cestovného ruchu a jej aktuálne problémy
END:VEVENT
BEGIN:VEVENT
UID:lesson(1085)-semester(022026-052026)-candle@candle.fmph.uniba.sk
DTSTAMP:20260424T193215Z
CATEGORIES:Cvičenie
DESCRIPTION:Cvičenie\n\nVyučujúci:\n - PriFUK\n
DTSTART;TZID=Europe/Bratislava:20260218T163000
DTEND;TZID=Europe/Bratislava:20260218T171500
LOCATION:B1-435
RRULE:FREQ=WEEKLY;UNTIL=20260523T000000Z
SUMMARY:Základné cvičenia z geomorfológie
END:VEVENT
BEGIN:VEVENT
UID:lesson(1095)-semester(022026-052026)-candle@candle.fmph.uniba.sk
DTSTAMP:20260424T193215Z
CATEGORIES:Prednáška
DESCRIPTION:Prednáška\n\nVyučujúci:\n - PriFUK\n
DTSTART;TZID=Europe/Bratislava:20260219T081000
DTEND;TZID=Europe/Bratislava:20260219T094000
LOCATION:B1-435
RRULE:FREQ=WEEKLY;UNTIL=20260523T000000Z
SUMMARY:Geopolitický vývoj sveta po roku 1945
END:VEVENT
BEGIN:VEVENT
UID:lesson(1097)-semester(022026-052026)-candle@candle.fmph.uniba.sk
DTSTAMP:20260424T193215Z
CATEGORIES:Prednáška
DESCRIPTION:Prednáška\n\nVyučujúci:\n - PriFUK\n
DTSTART;TZID=Europe/Bratislava:20260219T095000
DTEND;TZID=Europe/Bratislava:20260219T103500
LOCATION:B1-435
RRULE:FREQ=WEEKLY;UNTIL=20260523T000000Z
SUMMARY:Kartografia\, GIS a DPZ
END:VEVENT
BEGIN:VEVENT
UID:lesson(1099)-semester(022026-052026)-candle@candle.fmph.uniba.sk
DTSTAMP:20260424T193215Z
CATEGORIES:Cvičenie
DESCRIPTION:Cvičenie\n\nVyučujúci:\n - PriFUK\n
DTSTART;TZID=Europe/Bratislava:20260219T104000
DTEND;TZID=Europe/Bratislava:20260219T121000
LOCATION:B1-435
RRULE:FREQ=WEEKLY;UNTIL=20260523T000000Z
SUMMARY:Kartografia\, GIS a DPZ
END:VEVENT
BEGIN:VEVENT
UID:lesson(1072)-semester(022026-052026)-candle@candle.fmph.uniba.sk
DTSTAMP:20260424T193215Z
CATEGORIES:Cvičenie
DESCRIPTION:Cvičenie\n\nPoznámka: párny týždeň\n\nVyučujúci:\n - PriFUK\n
DTSTART;TZID=Europe/Bratislava:20260220T090000
DTEND;TZID=Europe/Bratislava:20260220T103000
LOCATION:B1-435
RRULE:FREQ=WEEKLY;UNTIL=20260523T000000Z
SUMMARY:Meteorológia\, klimatológia a hydrológia
END:VEVENT
BEGIN:VEVENT
UID:lesson(1074)-semester(022026-052026)-candle@candle.fmph.uniba.sk
DTSTAMP:20260424T193215Z
CATEGORIES:Prednáška
DESCRIPTION:Prednáška\n\nVyučujúci:\n - PriFUK\n
DTSTART;TZID=Europe/Bratislava:20260220T104000
DTEND;TZID=Europe/Bratislava:20260220T121000
LOCATION:B1-435
RRULE:FREQ=WEEKLY;UNTIL=20260523T000000Z
SUMMARY:Ekonomická geografia
END:VEVENT
END:VCALENDAR
