BEGIN:VCALENDAR
VERSION:2.0
PRODID:-//candle.fmph.uniba.sk//NONSGML kigkonsult.se iCalcreator 2.16.12//
METHOD:PUBLISH
X-WR-CALNAME:B1-319
X-WR-CALDESC:Rozvrh hodín vyexportovaný pomocou Candle\, https://github.com
 /fmfi-svt/candle
X-WR-TIMEZONE:Europe/Bratislava
BEGIN:VEVENT
UID:lesson(1100)-semester(022026-052026)-candle@candle.fmph.uniba.sk
DTSTAMP:20260424T212352Z
CATEGORIES:Seminár
DESCRIPTION:Seminár\n\nVyučujúci:\n - PriFUK\n
DTSTART;TZID=Europe/Bratislava:20260219T122000
DTEND;TZID=Europe/Bratislava:20260219T135000
LOCATION:B1-319
RRULE:FREQ=WEEKLY;UNTIL=20260523T000000Z
SUMMARY:Vyučovanie geografie s podporou digitálnych technológií
END:VEVENT
END:VCALENDAR
