BEGIN:VCALENDAR
VERSION:2.0
PRODID:-//candle.fmph.uniba.sk//NONSGML kigkonsult.se iCalcreator 2.16.12//
METHOD:PUBLISH
X-WR-CALNAME:B
X-WR-CALDESC:Rozvrh hodín vyexportovaný pomocou Candle\, https://github.com
 /fmfi-svt/candle
X-WR-TIMEZONE:Europe/Bratislava
BEGIN:VEVENT
UID:lesson(277)-semester(022026-052026)-candle@candle.fmph.uniba.sk
DTSTAMP:20260424T193049Z
CATEGORIES:Prednáška
DESCRIPTION:Prednáška\n\nVyučujúci:\n - P. Borovanský\n
DTSTART;TZID=Europe/Bratislava:20260216T081000
DTEND;TZID=Europe/Bratislava:20260216T094000
LOCATION:B
RRULE:FREQ=WEEKLY;UNTIL=20260523T000000Z
SUMMARY:Programovanie (4)
END:VEVENT
BEGIN:VEVENT
UID:lesson(234)-semester(022026-052026)-candle@candle.fmph.uniba.sk
DTSTAMP:20260424T193049Z
CATEGORIES:Prednáška
DESCRIPTION:Prednáška\n\nVyučujúci:\n - M. Winczer\n
DTSTART;TZID=Europe/Bratislava:20260216T095000
DTEND;TZID=Europe/Bratislava:20260216T112000
LOCATION:B
RRULE:FREQ=WEEKLY;UNTIL=20260523T000000Z
SUMMARY:Úvod do teoretickej informatiky
END:VEVENT
BEGIN:VEVENT
UID:lesson(232)-semester(022026-052026)-candle@candle.fmph.uniba.sk
DTSTAMP:20260424T193049Z
CATEGORIES:Kurz
DESCRIPTION:Kurz\n\nVyučujúci:\n - J. Mazák\n - J. Kľuka\n
DTSTART;TZID=Europe/Bratislava:20260216T113000
DTEND;TZID=Europe/Bratislava:20260216T130000
LOCATION:B
RRULE:FREQ=WEEKLY;UNTIL=20260523T000000Z
SUMMARY:Úvod do matematickej logiky
END:VEVENT
BEGIN:VEVENT
UID:lesson(233)-semester(022026-052026)-candle@candle.fmph.uniba.sk
DTSTAMP:20260424T193049Z
CATEGORIES:Prednáška
DESCRIPTION:Prednáška\n\nVyučujúci:\n - J. Mazák\n - J. Kľuka\n
DTSTART;TZID=Europe/Bratislava:20260216T113000
DTEND;TZID=Europe/Bratislava:20260216T130000
LOCATION:B
RRULE:FREQ=WEEKLY;UNTIL=20260523T000000Z
SUMMARY:Logika pre informatikov
END:VEVENT
BEGIN:VEVENT
UID:lesson(309)-semester(022026-052026)-candle@candle.fmph.uniba.sk
DTSTAMP:20260424T193049Z
CATEGORIES:Prednáška
DESCRIPTION:Prednáška\n\nVyučujúci:\n - Ľ. Salanci\n
DTSTART;TZID=Europe/Bratislava:20260217T081000
DTEND;TZID=Europe/Bratislava:20260217T094000
LOCATION:B
RRULE:FREQ=WEEKLY;UNTIL=20260523T000000Z
SUMMARY:Programovanie (2)
END:VEVENT
BEGIN:VEVENT
UID:lesson(492)-semester(022026-052026)-candle@candle.fmph.uniba.sk
DTSTAMP:20260424T193049Z
CATEGORIES:Prednáška
DESCRIPTION:Prednáška\n\nVyučujúci:\n - E. Viszus\n
DTSTART;TZID=Europe/Bratislava:20260217T095000
DTEND;TZID=Europe/Bratislava:20260217T112000
LOCATION:B
RRULE:FREQ=WEEKLY;UNTIL=20260523T000000Z
SUMMARY:Základy matematiky (2)
END:VEVENT
BEGIN:VEVENT
UID:lesson(482)-semester(022026-052026)-candle@candle.fmph.uniba.sk
DTSTAMP:20260424T193049Z
CATEGORIES:Prednáška
DESCRIPTION:Prednáška\n\nVyučujúci:\n - K. Boďová\n
DTSTART;TZID=Europe/Bratislava:20260217T113000
DTEND;TZID=Europe/Bratislava:20260217T130000
LOCATION:B
RRULE:FREQ=WEEKLY;UNTIL=20260523T000000Z
SUMMARY:Algoritmy na sieťach
END:VEVENT
BEGIN:VEVENT
UID:lesson(481)-semester(022026-052026)-candle@candle.fmph.uniba.sk
DTSTAMP:20260424T193049Z
CATEGORIES:Prednáška
DESCRIPTION:Prednáška\n\nVyučujúci:\n - K. Boďová\n
DTSTART;TZID=Europe/Bratislava:20260217T113000
DTEND;TZID=Europe/Bratislava:20260217T130000
LOCATION:B
RRULE:FREQ=WEEKLY;UNTIL=20260523T000000Z
SUMMARY:Veda o sieťach
END:VEVENT
BEGIN:VEVENT
UID:lesson(358)-semester(022026-052026)-candle@candle.fmph.uniba.sk
DTSTAMP:20260424T193049Z
CATEGORIES:Prednáška
DESCRIPTION:Prednáška\n\nVyučujúci:\n - D. Olejár\n - M. Rjaško\n
DTSTART;TZID=Europe/Bratislava:20260217T145000
DTEND;TZID=Europe/Bratislava:20260217T170500
LOCATION:B
RRULE:FREQ=WEEKLY;UNTIL=20260523T000000Z
SUMMARY:Úvod do informačnej bezpečnosti
END:VEVENT
BEGIN:VEVENT
UID:lesson(90)-semester(022026-052026)-candle@candle.fmph.uniba.sk
DTSTAMP:20260424T193049Z
CATEGORIES:Nezadaný typ
DESCRIPTION:Nezadaný typ\n\nVyučujúci:\n - \n
DTSTART;TZID=Europe/Bratislava:20260217T181000
DTEND;TZID=Europe/Bratislava:20260217T194000
LOCATION:B
RRULE:FREQ=WEEKLY;UNTIL=20260523T000000Z
SUMMARY:písomky
END:VEVENT
BEGIN:VEVENT
UID:lesson(480)-semester(022026-052026)-candle@candle.fmph.uniba.sk
DTSTAMP:20260424T193049Z
CATEGORIES:Cvičenie
DESCRIPTION:Cvičenie\n\nVyučujúci:\n - K. Boďová\n
DTSTART;TZID=Europe/Bratislava:20260218T081000
DTEND;TZID=Europe/Bratislava:20260218T094000
LOCATION:B
RRULE:FREQ=WEEKLY;UNTIL=20260523T000000Z
SUMMARY:Veda o sieťach
END:VEVENT
BEGIN:VEVENT
UID:lesson(479)-semester(022026-052026)-candle@candle.fmph.uniba.sk
DTSTAMP:20260424T193049Z
CATEGORIES:Cvičenie
DESCRIPTION:Cvičenie\n\nVyučujúci:\n - K. Boďová\n
DTSTART;TZID=Europe/Bratislava:20260218T081000
DTEND;TZID=Europe/Bratislava:20260218T094000
LOCATION:B
RRULE:FREQ=WEEKLY;UNTIL=20260523T000000Z
SUMMARY:Algoritmy na sieťach
END:VEVENT
BEGIN:VEVENT
UID:lesson(371)-semester(022026-052026)-candle@candle.fmph.uniba.sk
DTSTAMP:20260424T193049Z
CATEGORIES:Prednáška
DESCRIPTION:Prednáška\n\nVyučujúci:\n - E. Mačajová\n
DTSTART;TZID=Europe/Bratislava:20260218T095000
DTEND;TZID=Europe/Bratislava:20260218T112000
LOCATION:B
RRULE:FREQ=WEEKLY;UNTIL=20260523T000000Z
SUMMARY:Úvod do kombinatoriky a teórie grafov
END:VEVENT
BEGIN:VEVENT
UID:lesson(262)-semester(022026-052026)-candle@candle.fmph.uniba.sk
DTSTAMP:20260424T193049Z
CATEGORIES:Prednáška
DESCRIPTION:Prednáška\n\nVyučujúci:\n - R. Jajcay\n
DTSTART;TZID=Europe/Bratislava:20260218T113000
DTEND;TZID=Europe/Bratislava:20260218T130000
LOCATION:B
RRULE:FREQ=WEEKLY;UNTIL=20260523T000000Z
SUMMARY:Lineárna algebra
END:VEVENT
BEGIN:VEVENT
UID:lesson(885)-semester(022026-052026)-candle@candle.fmph.uniba.sk
DTSTAMP:20260424T193049Z
CATEGORIES:Cvičenie
DESCRIPTION:Cvičenie\n\nVyučujúci:\n - D. Daniel\n
DTSTART;TZID=Europe/Bratislava:20260218T154000
DTEND;TZID=Europe/Bratislava:20260218T175500
LOCATION:B
RRULE:FREQ=WEEKLY;UNTIL=20260523T000000Z
SUMMARY:Matematická analýza
END:VEVENT
BEGIN:VEVENT
UID:lesson(96)-semester(022026-052026)-candle@candle.fmph.uniba.sk
DTSTAMP:20260424T193049Z
CATEGORIES:Nezadaný typ
DESCRIPTION:Nezadaný typ\n\nVyučujúci:\n - \n
DTSTART;TZID=Europe/Bratislava:20260218T181000
DTEND;TZID=Europe/Bratislava:20260218T194000
LOCATION:B
RRULE:FREQ=WEEKLY;UNTIL=20260523T000000Z
SUMMARY:písomky
END:VEVENT
BEGIN:VEVENT
UID:lesson(432)-semester(022026-052026)-candle@candle.fmph.uniba.sk
DTSTAMP:20260424T193049Z
CATEGORIES:Prednáška
DESCRIPTION:Prednáška\n\nVyučujúci:\n - J. Somorčík\n
DTSTART;TZID=Europe/Bratislava:20260219T081000
DTEND;TZID=Europe/Bratislava:20260219T094000
LOCATION:B
RRULE:FREQ=WEEKLY;UNTIL=20260523T000000Z
SUMMARY:Počítačová štatistika
END:VEVENT
BEGIN:VEVENT
UID:lesson(350)-semester(022026-052026)-candle@candle.fmph.uniba.sk
DTSTAMP:20260424T193049Z
CATEGORIES:Prednáška
DESCRIPTION:Prednáška\n\nVyučujúci:\n - M. Anderle\n
DTSTART;TZID=Europe/Bratislava:20260219T095000
DTEND;TZID=Europe/Bratislava:20260219T120500
LOCATION:B
RRULE:FREQ=WEEKLY;UNTIL=20260523T000000Z
SUMMARY:Tvorba efektívnych algoritmov
END:VEVENT
BEGIN:VEVENT
UID:lesson(305)-semester(022026-052026)-candle@candle.fmph.uniba.sk
DTSTAMP:20260424T193049Z
CATEGORIES:Cvičenie
DESCRIPTION:Cvičenie\n\nVyučujúci:\n - B. Stehlíková\n
DTSTART;TZID=Europe/Bratislava:20260219T131000
DTEND;TZID=Europe/Bratislava:20260219T144000
LOCATION:B
RRULE:FREQ=WEEKLY;UNTIL=20260523T000000Z
SUMMARY:Riešenie úloh z pravdepodobnosti a štatistiky v jazyku R
END:VEVENT
BEGIN:VEVENT
UID:lesson(304)-semester(022026-052026)-candle@candle.fmph.uniba.sk
DTSTAMP:20260424T193049Z
CATEGORIES:Cvičenie
DESCRIPTION:Cvičenie\n\nVyučujúci:\n - B. Stehlíková\n
DTSTART;TZID=Europe/Bratislava:20260219T131000
DTEND;TZID=Europe/Bratislava:20260219T144000
LOCATION:B
RRULE:FREQ=WEEKLY;UNTIL=20260523T000000Z
SUMMARY:Metódy riešenia úloh z pravdepodobnosti a štatistiky
END:VEVENT
BEGIN:VEVENT
UID:lesson(822)-semester(022026-052026)-candle@candle.fmph.uniba.sk
DTSTAMP:20260424T193049Z
CATEGORIES:Cvičenie
DESCRIPTION:Cvičenie\n\nPoznámka: raz za 2 týždne\n\nVyučujúci:\n - D. Bern
 át\n
DTSTART;TZID=Europe/Bratislava:20260219T154000
DTEND;TZID=Europe/Bratislava:20260219T171000
LOCATION:B
RRULE:FREQ=WEEKLY;UNTIL=20260523T000000Z
SUMMARY:Operačné systémy
END:VEVENT
BEGIN:VEVENT
UID:lesson(291)-semester(022026-052026)-candle@candle.fmph.uniba.sk
DTSTAMP:20260424T193049Z
CATEGORIES:Seminár
DESCRIPTION:Seminár\n\nVyučujúci:\n - R. Ďurikovič\n - F. Dráček\n - M. Ono
 ja\n
DTSTART;TZID=Europe/Bratislava:20260220T081000
DTEND;TZID=Europe/Bratislava:20260220T094000
LOCATION:B
RRULE:FREQ=WEEKLY;UNTIL=20260523T000000Z
SUMMARY:Projektový seminár (1)
END:VEVENT
BEGIN:VEVENT
UID:lesson(419)-semester(022026-052026)-candle@candle.fmph.uniba.sk
DTSTAMP:20260424T193049Z
CATEGORIES:Prednáška
DESCRIPTION:Prednáška\n\nVyučujúci:\n - D. Ševčovič\n
DTSTART;TZID=Europe/Bratislava:20260220T095000
DTEND;TZID=Europe/Bratislava:20260220T112000
LOCATION:B
RRULE:FREQ=WEEKLY;UNTIL=20260523T000000Z
SUMMARY:Matematická analýza (4)
END:VEVENT
END:VCALENDAR
