BEGIN:VCALENDAR
VERSION:2.0
PRODID:-//candle.fmph.uniba.sk//NONSGML kigkonsult.se iCalcreator 2.16.12//
METHOD:PUBLISH
X-WR-CALNAME:1muMAIN_k
X-WR-CALDESC:Rozvrh hodín vyexportovaný pomocou Candle\, https://github.com
 /fmfi-svt/candle
X-WR-TIMEZONE:Europe/Bratislava
BEGIN:VEVENT
UID:lesson(25)-semester(022026-052026)-candle@candle.fmph.uniba.sk
DTSTAMP:20260424T231803Z
CATEGORIES:Prednáška
DESCRIPTION:Prednáška\n\nVyučujúci:\n - A. Hrušecká\n
DTSTART;TZID=Europe/Bratislava:20260217T081000
DTEND;TZID=Europe/Bratislava:20260217T094000
LOCATION:I-32
RRULE:FREQ=WEEKLY;UNTIL=20260523T000000Z
SUMMARY:Programovanie (2)
END:VEVENT
BEGIN:VEVENT
UID:lesson(26)-semester(022026-052026)-candle@candle.fmph.uniba.sk
DTSTAMP:20260424T231803Z
CATEGORIES:Cvičenie
DESCRIPTION:Cvičenie\n\nVyučujúci:\n - A. Hrušecká\n - N. Kováčová\n
DTSTART;TZID=Europe/Bratislava:20260217T095000
DTEND;TZID=Europe/Bratislava:20260217T112000
LOCATION:I-H3
RRULE:FREQ=WEEKLY;UNTIL=20260523T000000Z
SUMMARY:Programovanie (2)
END:VEVENT
BEGIN:VEVENT
UID:lesson(70)-semester(022026-052026)-candle@candle.fmph.uniba.sk
DTSTAMP:20260424T231803Z
CATEGORIES:Výber/Vol
DESCRIPTION:Výber/Vol\n\nVyučujúci:\n - M. Dillingerová\n
DTSTART;TZID=Europe/Bratislava:20260217T095000
DTEND;TZID=Europe/Bratislava:20260217T112000
LOCATION:M-VII
RRULE:FREQ=WEEKLY;UNTIL=20260523T000000Z
SUMMARY:Netradičné formy vyučovania
END:VEVENT
BEGIN:VEVENT
UID:lesson(18)-semester(022026-052026)-candle@candle.fmph.uniba.sk
DTSTAMP:20260424T231803Z
CATEGORIES:Prednáška
DESCRIPTION:Prednáška\n\nVyučujúci:\n - E. Paulisová\n
DTSTART;TZID=Europe/Bratislava:20260217T131000
DTEND;TZID=Europe/Bratislava:20260217T144000
LOCATION:Ch1-2
RRULE:FREQ=WEEKLY;UNTIL=20260523T000000Z
SUMMARY:Psychológia pre učiteľov (2)
END:VEVENT
BEGIN:VEVENT
UID:lesson(40)-semester(022026-052026)-candle@candle.fmph.uniba.sk
DTSTAMP:20260424T231803Z
CATEGORIES:Seminár
DESCRIPTION:Seminár\n\nVyučujúci:\n - N. Kováčová\n
DTSTART;TZID=Europe/Bratislava:20260218T145000
DTEND;TZID=Europe/Bratislava:20260218T162000
LOCATION:F1-248
RRULE:FREQ=WEEKLY;UNTIL=20260523T000000Z
SUMMARY:Propedeutika vyučovania informatiky (2)
END:VEVENT
BEGIN:VEVENT
UID:lesson(36)-semester(022026-052026)-candle@candle.fmph.uniba.sk
DTSTAMP:20260424T231803Z
CATEGORIES:Prednáška
DESCRIPTION:Prednáška\n\nVyučujúci:\n - L. Budinská\n
DTSTART;TZID=Europe/Bratislava:20260219T131000
DTEND;TZID=Europe/Bratislava:20260219T135500
LOCATION:I-9
RRULE:FREQ=WEEKLY;UNTIL=20260523T000000Z
SUMMARY:Teoretické základy výchovy
END:VEVENT
BEGIN:VEVENT
UID:lesson(37)-semester(022026-052026)-candle@candle.fmph.uniba.sk
DTSTAMP:20260424T231803Z
CATEGORIES:Cvičenie
DESCRIPTION:Cvičenie\n\nVyučujúci:\n - L. Budinská\n
DTSTART;TZID=Europe/Bratislava:20260219T140000
DTEND;TZID=Europe/Bratislava:20260219T144500
LOCATION:I-9
RRULE:FREQ=WEEKLY;UNTIL=20260523T000000Z
SUMMARY:Teoretické základy výchovy
END:VEVENT
BEGIN:VEVENT
UID:lesson(24)-semester(022026-052026)-candle@candle.fmph.uniba.sk
DTSTAMP:20260424T231803Z
CATEGORIES:Cvičenie
DESCRIPTION:Cvičenie\n\nVyučujúci:\n - E. Paulisová\n
DTSTART;TZID=Europe/Bratislava:20260220T095000
DTEND;TZID=Europe/Bratislava:20260220T112000
LOCATION:G-111
RRULE:FREQ=WEEKLY;UNTIL=20260523T000000Z
SUMMARY:Psychológia pre učiteľov (2)
END:VEVENT
END:VCALENDAR
