BEGIN:VCALENDAR
VERSION:2.0
PRODID:-//candle.fmph.uniba.sk//NONSGML kigkonsult.se iCalcreator 2.16.12//
METHOD:PUBLISH
X-WR-CALNAME:3pMB
X-WR-CALDESC:Rozvrh hodín vyexportovaný pomocou Candle\, https://github.com
 /fmfi-svt/candle
X-WR-TIMEZONE:Europe/Bratislava
BEGIN:VEVENT
UID:lesson(110)-semester(022026-052026)-candle@candle.fmph.uniba.sk
DTSTAMP:20260424T212247Z
CATEGORIES:Prednáška
DESCRIPTION:Prednáška\n\nVyučujúci:\n - M. Zvarík\n - Z. Garaiová\n
DTSTART;TZID=Europe/Bratislava:20260216T095000
DTEND;TZID=Europe/Bratislava:20260216T112000
LOCATION:Ch1-2
RRULE:FREQ=WEEKLY;UNTIL=20260523T000000Z
SUMMARY:Biofyzika
END:VEVENT
BEGIN:VEVENT
UID:lesson(114)-semester(022026-052026)-candle@candle.fmph.uniba.sk
DTSTAMP:20260424T212247Z
CATEGORIES:Cvičenie
DESCRIPTION:Cvičenie\n\nVyučujúci:\n - M. Zvarík\n - Z. Garaiová\n
DTSTART;TZID=Europe/Bratislava:20260216T140000
DTEND;TZID=Europe/Bratislava:20260216T153000
LOCATION:B1-305
RRULE:FREQ=WEEKLY;UNTIL=20260523T000000Z
SUMMARY:Biofyzika
END:VEVENT
END:VCALENDAR
