BEGIN:VCALENDAR
VERSION:2.0
PRODID:-//candle.fmph.uniba.sk//NONSGML kigkonsult.se iCalcreator 2.16.12//
METHOD:PUBLISH
X-WR-CALNAME:3TEFk
X-WR-CALDESC:Rozvrh hodín vyexportovaný pomocou Candle\, https://github.com
 /fmfi-svt/candle
X-WR-TIMEZONE:Europe/Bratislava
BEGIN:VEVENT
UID:lesson(620)-semester(022026-052026)-candle@candle.fmph.uniba.sk
DTSTAMP:20260424T193109Z
CATEGORIES:Prednáška
DESCRIPTION:Prednáška\n\nVyučujúci:\n - P. Papp\n
DTSTART;TZID=Europe/Bratislava:20260216T090000
DTEND;TZID=Europe/Bratislava:20260216T094500
LOCATION:M-XII
RRULE:FREQ=WEEKLY;UNTIL=20260523T000000Z
SUMMARY:Počítačová fyzika
END:VEVENT
BEGIN:VEVENT
UID:lesson(1166)-semester(022026-052026)-candle@candle.fmph.uniba.sk
DTSTAMP:20260424T193109Z
CATEGORIES:Prednáška
DESCRIPTION:Prednáška\n\nPoznámka: CENAM\, miestnosť upresní vyučujúci\n\nV
 yučujúci:\n - M. Mikula\n
DTSTART;TZID=Europe/Bratislava:20260216T095000
DTEND;TZID=Europe/Bratislava:20260216T112000
LOCATION:F2-KEF
RRULE:FREQ=WEEKLY;UNTIL=20260523T000000Z
SUMMARY:Náuka o materiáloch
END:VEVENT
BEGIN:VEVENT
UID:lesson(1017)-semester(022026-052026)-candle@candle.fmph.uniba.sk
DTSTAMP:20260424T193109Z
CATEGORIES:Prednáška
DESCRIPTION:Prednáška\n\nVyučujúci:\n - P. Čermák\n
DTSTART;TZID=Europe/Bratislava:20260216T122000
DTEND;TZID=Europe/Bratislava:20260216T135000
LOCATION:F2-167
RRULE:FREQ=WEEKLY;UNTIL=20260523T000000Z
SUMMARY:Optika
END:VEVENT
BEGIN:VEVENT
UID:lesson(4)-semester(022026-052026)-candle@candle.fmph.uniba.sk
DTSTAMP:20260424T193109Z
CATEGORIES:Cvičenie
DESCRIPTION:Cvičenie\n\nVyučujúci:\n - \n
DTSTART;TZID=Europe/Bratislava:20260217T081000
DTEND;TZID=Europe/Bratislava:20260217T124000
LOCATION:KTVS
RRULE:FREQ=WEEKLY;UNTIL=20260523T000000Z
SUMMARY:Telesná výchova a šport (4)
END:VEVENT
BEGIN:VEVENT
UID:lesson(678)-semester(022026-052026)-candle@candle.fmph.uniba.sk
DTSTAMP:20260424T193109Z
CATEGORIES:Labák
DESCRIPTION:Labák\n\nPoznámka: rozdelenie do skupín určuje vyučujúci\n\nVyu
 čujúci:\n - B. Grančič\n
DTSTART;TZID=Europe/Bratislava:20260217T104000
DTEND;TZID=Europe/Bratislava:20260217T125500
LOCATION:F2-086
RRULE:FREQ=WEEKLY;UNTIL=20260523T000000Z
SUMMARY:Praktikum z elektriny a magnetizmu
END:VEVENT
BEGIN:VEVENT
UID:lesson(616)-semester(022026-052026)-candle@candle.fmph.uniba.sk
DTSTAMP:20260424T193109Z
CATEGORIES:Cvičenie
DESCRIPTION:Cvičenie\n\nVyučujúci:\n - P. Maták\n - P. Rusnák\n - V. Kráľov
 ič\n
DTSTART;TZID=Europe/Bratislava:20260217T163000
DTEND;TZID=Europe/Bratislava:20260217T180000
LOCATION:F1-328
RRULE:FREQ=WEEKLY;UNTIL=20260523T000000Z
SUMMARY:Cvičenie z mechaniky (2)
END:VEVENT
BEGIN:VEVENT
UID:lesson(2)-semester(022026-052026)-candle@candle.fmph.uniba.sk
DTSTAMP:20260424T193109Z
CATEGORIES:Nezadaný typ
DESCRIPTION:Nezadaný typ\n\nVyučujúci:\n - \n
DTSTART;TZID=Europe/Bratislava:20260217T181000
DTEND;TZID=Europe/Bratislava:20260217T194000
LOCATION: 
RRULE:FREQ=WEEKLY;UNTIL=20260523T000000Z
SUMMARY:písomky
END:VEVENT
BEGIN:VEVENT
UID:lesson(672)-semester(022026-052026)-candle@candle.fmph.uniba.sk
DTSTAMP:20260424T193109Z
CATEGORIES:Cvičenie
DESCRIPTION:Cvičenie\n\nVyučujúci:\n - S. Kern\n
DTSTART;TZID=Europe/Bratislava:20260218T095000
DTEND;TZID=Europe/Bratislava:20260218T112000
LOCATION:F1-108
RRULE:FREQ=WEEKLY;UNTIL=20260523T000000Z
SUMMARY:Moderná fyzika
END:VEVENT
BEGIN:VEVENT
UID:lesson(682)-semester(022026-052026)-candle@candle.fmph.uniba.sk
DTSTAMP:20260424T193109Z
CATEGORIES:Prednáška
DESCRIPTION:Prednáška\n\nVyučujúci:\n - M. Maheľ\n
DTSTART;TZID=Europe/Bratislava:20260218T122000
DTEND;TZID=Europe/Bratislava:20260218T135000
LOCATION:F2-272
RRULE:FREQ=WEEKLY;UNTIL=20260523T000000Z
SUMMARY:Elektronika
END:VEVENT
BEGIN:VEVENT
UID:lesson(499)-semester(022026-052026)-candle@candle.fmph.uniba.sk
DTSTAMP:20260424T193109Z
CATEGORIES:Prednáška
DESCRIPTION:Prednáška\n\nVyučujúci:\n - P. Neilinger\n
DTSTART;TZID=Europe/Bratislava:20260218T140000
DTEND;TZID=Europe/Bratislava:20260218T153000
LOCATION:M-VI
RRULE:FREQ=WEEKLY;UNTIL=20260523T000000Z
SUMMARY:Moderná fyzika
END:VEVENT
BEGIN:VEVENT
UID:lesson(1010)-semester(022026-052026)-candle@candle.fmph.uniba.sk
DTSTAMP:20260424T193109Z
CATEGORIES:Prednáška
DESCRIPTION:Prednáška\n\nVyučujúci:\n - P. Čermák\n
DTSTART;TZID=Europe/Bratislava:20260219T090000
DTEND;TZID=Europe/Bratislava:20260219T103000
LOCATION:F2-051
RRULE:FREQ=WEEKLY;UNTIL=20260523T000000Z
SUMMARY:Optika
END:VEVENT
BEGIN:VEVENT
UID:lesson(334)-semester(022026-052026)-candle@candle.fmph.uniba.sk
DTSTAMP:20260424T193109Z
CATEGORIES:Prednáška
DESCRIPTION:Prednáška\n\nVyučujúci:\n - P. Neilinger\n
DTSTART;TZID=Europe/Bratislava:20260219T104000
DTEND;TZID=Europe/Bratislava:20260219T121000
LOCATION:M-IV
RRULE:FREQ=WEEKLY;UNTIL=20260523T000000Z
SUMMARY:Moderná fyzika
END:VEVENT
BEGIN:VEVENT
UID:lesson(683)-semester(022026-052026)-candle@candle.fmph.uniba.sk
DTSTAMP:20260424T193109Z
CATEGORIES:Prednáška
DESCRIPTION:Prednáška\n\nVyučujúci:\n - M. Maheľ\n
DTSTART;TZID=Europe/Bratislava:20260219T131000
DTEND;TZID=Europe/Bratislava:20260219T144000
LOCATION:F2-272
RRULE:FREQ=WEEKLY;UNTIL=20260523T000000Z
SUMMARY:Elektronika
END:VEVENT
BEGIN:VEVENT
UID:lesson(599)-semester(022026-052026)-candle@candle.fmph.uniba.sk
DTSTAMP:20260424T193109Z
CATEGORIES:Cvičenie
DESCRIPTION:Cvičenie\n\nVyučujúci:\n - D. Melicherová\n
DTSTART;TZID=Europe/Bratislava:20260220T090000
DTEND;TZID=Europe/Bratislava:20260220T103000
LOCATION:F2-T3
RRULE:FREQ=WEEKLY;UNTIL=20260523T000000Z
SUMMARY:Počítačová fyzika
END:VEVENT
BEGIN:VEVENT
UID:lesson(1020)-semester(022026-052026)-candle@candle.fmph.uniba.sk
DTSTAMP:20260424T193109Z
CATEGORIES:Cvičenie
DESCRIPTION:Cvičenie\n\nVyučujúci:\n - P. Čermák\n
DTSTART;TZID=Europe/Bratislava:20260220T122000
DTEND;TZID=Europe/Bratislava:20260220T135000
LOCATION:F2-167
RRULE:FREQ=WEEKLY;UNTIL=20260523T000000Z
SUMMARY:Optika
END:VEVENT
END:VCALENDAR
