BEGIN:VCALENDAR
VERSION:2.0
PRODID:-//candle.fmph.uniba.sk//NONSGML kigkonsult.se iCalcreator 2.16.12//
METHOD:PUBLISH
X-WR-CALNAME:3PMA
X-WR-CALDESC:Rozvrh hodín vyexportovaný pomocou Candle\, https://github.com
 /fmfi-svt/candle
X-WR-TIMEZONE:Europe/Bratislava
BEGIN:VEVENT
UID:lesson(424)-semester(022026-052026)-candle@candle.fmph.uniba.sk
DTSTAMP:20260424T231800Z
CATEGORIES:Prednáška
DESCRIPTION:Prednáška\n\nVyučujúci:\n - Z. Chladná\n
DTSTART;TZID=Europe/Bratislava:20260216T090000
DTEND;TZID=Europe/Bratislava:20260216T103000
LOCATION:C
RRULE:FREQ=WEEKLY;UNTIL=20260523T000000Z
SUMMARY:Podnikové financie
END:VEVENT
BEGIN:VEVENT
UID:lesson(425)-semester(022026-052026)-candle@candle.fmph.uniba.sk
DTSTAMP:20260424T231800Z
CATEGORIES:Cvičenie
DESCRIPTION:Cvičenie\n\nVyučujúci:\n - Z. Chladná\n
DTSTART;TZID=Europe/Bratislava:20260216T104000
DTEND;TZID=Europe/Bratislava:20260216T121000
LOCATION:C
RRULE:FREQ=WEEKLY;UNTIL=20260523T000000Z
SUMMARY:Podnikové financie
END:VEVENT
BEGIN:VEVENT
UID:lesson(300)-semester(022026-052026)-candle@candle.fmph.uniba.sk
DTSTAMP:20260424T231800Z
CATEGORIES:Prednáška
DESCRIPTION:Prednáška\n\nVyučujúci:\n - J. Somorčík\n
DTSTART;TZID=Europe/Bratislava:20260217T081000
DTEND;TZID=Europe/Bratislava:20260217T094000
LOCATION:F1
RRULE:FREQ=WEEKLY;UNTIL=20260523T000000Z
SUMMARY:Ekonometria
END:VEVENT
BEGIN:VEVENT
UID:lesson(325)-semester(022026-052026)-candle@candle.fmph.uniba.sk
DTSTAMP:20260424T231800Z
CATEGORIES:Prednáška
DESCRIPTION:Prednáška\n\nVyučujúci:\n - P. Bokes\n
DTSTART;TZID=Europe/Bratislava:20260217T095000
DTEND;TZID=Europe/Bratislava:20260217T112000
LOCATION:M-V
RRULE:FREQ=WEEKLY;UNTIL=20260523T000000Z
SUMMARY:Teória pravdepodobnosti
END:VEVENT
BEGIN:VEVENT
UID:lesson(481)-semester(022026-052026)-candle@candle.fmph.uniba.sk
DTSTAMP:20260424T231800Z
CATEGORIES:Prednáška
DESCRIPTION:Prednáška\n\nVyučujúci:\n - K. Boďová\n
DTSTART;TZID=Europe/Bratislava:20260217T113000
DTEND;TZID=Europe/Bratislava:20260217T130000
LOCATION:B
RRULE:FREQ=WEEKLY;UNTIL=20260523T000000Z
SUMMARY:Veda o sieťach
END:VEVENT
BEGIN:VEVENT
UID:lesson(552)-semester(022026-052026)-candle@candle.fmph.uniba.sk
DTSTAMP:20260424T231800Z
CATEGORIES:Prednáška
DESCRIPTION:Prednáška\n\nVyučujúci:\n - G. Szűcs\n
DTSTART;TZID=Europe/Bratislava:20260217T140000
DTEND;TZID=Europe/Bratislava:20260217T153000
LOCATION:M-125
RRULE:FREQ=WEEKLY;UNTIL=20260523T000000Z
SUMMARY:Pravdepodobnostné modely v poisťovníctve
END:VEVENT
BEGIN:VEVENT
UID:lesson(556)-semester(022026-052026)-candle@candle.fmph.uniba.sk
DTSTAMP:20260424T231800Z
CATEGORIES:Cvičenie
DESCRIPTION:Cvičenie\n\nVyučujúci:\n - G. Szűcs\n
DTSTART;TZID=Europe/Bratislava:20260217T154000
DTEND;TZID=Europe/Bratislava:20260217T162500
LOCATION:M-125
RRULE:FREQ=WEEKLY;UNTIL=20260523T000000Z
SUMMARY:Pravdepodobnostné modely v poisťovníctve
END:VEVENT
BEGIN:VEVENT
UID:lesson(480)-semester(022026-052026)-candle@candle.fmph.uniba.sk
DTSTAMP:20260424T231800Z
CATEGORIES:Cvičenie
DESCRIPTION:Cvičenie\n\nVyučujúci:\n - K. Boďová\n
DTSTART;TZID=Europe/Bratislava:20260218T081000
DTEND;TZID=Europe/Bratislava:20260218T094000
LOCATION:B
RRULE:FREQ=WEEKLY;UNTIL=20260523T000000Z
SUMMARY:Veda o sieťach
END:VEVENT
BEGIN:VEVENT
UID:lesson(326)-semester(022026-052026)-candle@candle.fmph.uniba.sk
DTSTAMP:20260424T231800Z
CATEGORIES:Prednáška
DESCRIPTION:Prednáška\n\nVyučujúci:\n - P. Bokes\n
DTSTART;TZID=Europe/Bratislava:20260218T095000
DTEND;TZID=Europe/Bratislava:20260218T112000
LOCATION:M-V
RRULE:FREQ=WEEKLY;UNTIL=20260523T000000Z
SUMMARY:Diferenčné a diferenciálne rovnice
END:VEVENT
BEGIN:VEVENT
UID:lesson(553)-semester(022026-052026)-candle@candle.fmph.uniba.sk
DTSTAMP:20260424T231800Z
CATEGORIES:Prednáška
DESCRIPTION:Prednáška\n\nVyučujúci:\n - G. Szűcs\n
DTSTART;TZID=Europe/Bratislava:20260218T113000
DTEND;TZID=Europe/Bratislava:20260218T130000
LOCATION:M-125
RRULE:FREQ=WEEKLY;UNTIL=20260523T000000Z
SUMMARY:Poistná matematika (2)
END:VEVENT
BEGIN:VEVENT
UID:lesson(5)-semester(022026-052026)-candle@candle.fmph.uniba.sk
DTSTAMP:20260424T231800Z
CATEGORIES:Cvičenie
DESCRIPTION:Cvičenie\n\nVyučujúci:\n - \n
DTSTART;TZID=Europe/Bratislava:20260218T131000
DTEND;TZID=Europe/Bratislava:20260218T182500
LOCATION:KTVS
RRULE:FREQ=WEEKLY;UNTIL=20260523T000000Z
SUMMARY:Telesná výchova a šport (6)
END:VEVENT
BEGIN:VEVENT
UID:lesson(636)-semester(022026-052026)-candle@candle.fmph.uniba.sk
DTSTAMP:20260424T231800Z
CATEGORIES:Cvičenie
DESCRIPTION:Cvičenie\n\nVyučujúci:\n - A. Hlubinová\n
DTSTART;TZID=Europe/Bratislava:20260219T081000
DTEND;TZID=Europe/Bratislava:20260219T094000
LOCATION:F1-109
RRULE:FREQ=WEEKLY;UNTIL=20260523T000000Z
SUMMARY:Diferenčné a diferenciálne rovnice
END:VEVENT
BEGIN:VEVENT
UID:lesson(555)-semester(022026-052026)-candle@candle.fmph.uniba.sk
DTSTAMP:20260424T231800Z
CATEGORIES:Cvičenie
DESCRIPTION:Cvičenie\n\nVyučujúci:\n - G. Szűcs\n
DTSTART;TZID=Europe/Bratislava:20260219T095000
DTEND;TZID=Europe/Bratislava:20260219T112000
LOCATION:M-125
RRULE:FREQ=WEEKLY;UNTIL=20260523T000000Z
SUMMARY:Poistná matematika (2)
END:VEVENT
BEGIN:VEVENT
UID:lesson(572)-semester(022026-052026)-candle@candle.fmph.uniba.sk
DTSTAMP:20260424T231800Z
CATEGORIES:Prednáška
DESCRIPTION:Prednáška\n\nVyučujúci:\n - S. Rosa\n
DTSTART;TZID=Europe/Bratislava:20260219T113000
DTEND;TZID=Europe/Bratislava:20260219T130000
LOCATION:M-VIII
RRULE:FREQ=WEEKLY;UNTIL=20260523T000000Z
SUMMARY:Optimalizačné a výpočtové metódy
END:VEVENT
BEGIN:VEVENT
UID:lesson(528)-semester(022026-052026)-candle@candle.fmph.uniba.sk
DTSTAMP:20260424T231800Z
CATEGORIES:Cvičenie
DESCRIPTION:Cvičenie\n\nVyučujúci:\n - P. Somogyi\n
DTSTART;TZID=Europe/Bratislava:20260219T140000
DTEND;TZID=Europe/Bratislava:20260219T153000
LOCATION:M-VIII
RRULE:FREQ=WEEKLY;UNTIL=20260523T000000Z
SUMMARY:Ekonometria
END:VEVENT
BEGIN:VEVENT
UID:lesson(554)-semester(022026-052026)-candle@candle.fmph.uniba.sk
DTSTAMP:20260424T231800Z
CATEGORIES:Seminár
DESCRIPTION:Seminár\n\nVyučujúci:\n - G. Szűcs\n
DTSTART;TZID=Europe/Bratislava:20260219T154000
DTEND;TZID=Europe/Bratislava:20260219T171000
LOCATION:M-125
RRULE:FREQ=WEEKLY;UNTIL=20260523T000000Z
SUMMARY:Bakalársky seminár
END:VEVENT
END:VCALENDAR
