BEGIN:VCALENDAR
VERSION:2.0
PRODID:-//candle.fmph.uniba.sk//NONSGML kigkonsult.se iCalcreator 2.16.12//
METHOD:PUBLISH
X-WR-CALNAME:3MATn
X-WR-CALDESC:Rozvrh hodín vyexportovaný pomocou Candle\, https://github.com
 /fmfi-svt/candle
X-WR-TIMEZONE:Europe/Bratislava
BEGIN:VEVENT
UID:lesson(477)-semester(022026-052026)-candle@candle.fmph.uniba.sk
DTSTAMP:20260424T231822Z
CATEGORIES:Prednáška
DESCRIPTION:Prednáška\n\nVyučujúci:\n - J. Pačuta\n
DTSTART;TZID=Europe/Bratislava:20260216T095000
DTEND;TZID=Europe/Bratislava:20260216T112000
LOCATION:F1-108
RRULE:FREQ=WEEKLY;UNTIL=20260523T000000Z
SUMMARY:Teória funkcií komplexnej premennej
END:VEVENT
BEGIN:VEVENT
UID:lesson(783)-semester(022026-052026)-candle@candle.fmph.uniba.sk
DTSTAMP:20260424T231822Z
CATEGORIES:Prednáška
DESCRIPTION:Prednáška\n\nVyučujúci:\n - Ľ. Balko\n
DTSTART;TZID=Europe/Bratislava:20260216T113000
DTEND;TZID=Europe/Bratislava:20260216T130000
LOCATION:M-X
RRULE:FREQ=WEEKLY;UNTIL=20260523T000000Z
SUMMARY:Numerické metódy lineárnej algebry
END:VEVENT
BEGIN:VEVENT
UID:lesson(646)-semester(022026-052026)-candle@candle.fmph.uniba.sk
DTSTAMP:20260424T231822Z
CATEGORIES:Cvičenie
DESCRIPTION:Cvičenie\n\nVyučujúci:\n - L. Rosová\n
DTSTART;TZID=Europe/Bratislava:20260216T163000
DTEND;TZID=Europe/Bratislava:20260216T180000
LOCATION:I-H6
RRULE:FREQ=WEEKLY;UNTIL=20260523T000000Z
SUMMARY:Analýza a vizualizácia dát
END:VEVENT
BEGIN:VEVENT
UID:lesson(325)-semester(022026-052026)-candle@candle.fmph.uniba.sk
DTSTAMP:20260424T231822Z
CATEGORIES:Prednáška
DESCRIPTION:Prednáška\n\nVyučujúci:\n - P. Bokes\n
DTSTART;TZID=Europe/Bratislava:20260217T095000
DTEND;TZID=Europe/Bratislava:20260217T112000
LOCATION:M-V
RRULE:FREQ=WEEKLY;UNTIL=20260523T000000Z
SUMMARY:Teória pravdepodobnosti
END:VEVENT
BEGIN:VEVENT
UID:lesson(475)-semester(022026-052026)-candle@candle.fmph.uniba.sk
DTSTAMP:20260424T231822Z
CATEGORIES:Prednáška
DESCRIPTION:Prednáška\n\nVyučujúci:\n - J. Pačuta\n
DTSTART;TZID=Europe/Bratislava:20260218T081000
DTEND;TZID=Europe/Bratislava:20260218T094000
LOCATION:F1-108
RRULE:FREQ=WEEKLY;UNTIL=20260523T000000Z
SUMMARY:Teória funkcií komplexnej premennej
END:VEVENT
BEGIN:VEVENT
UID:lesson(5)-semester(022026-052026)-candle@candle.fmph.uniba.sk
DTSTAMP:20260424T231822Z
CATEGORIES:Cvičenie
DESCRIPTION:Cvičenie\n\nVyučujúci:\n - \n
DTSTART;TZID=Europe/Bratislava:20260218T131000
DTEND;TZID=Europe/Bratislava:20260218T182500
LOCATION:KTVS
RRULE:FREQ=WEEKLY;UNTIL=20260523T000000Z
SUMMARY:Telesná výchova a šport (6)
END:VEVENT
BEGIN:VEVENT
UID:lesson(784)-semester(022026-052026)-candle@candle.fmph.uniba.sk
DTSTAMP:20260424T231822Z
CATEGORIES:Cvičenie
DESCRIPTION:Cvičenie\n\nVyučujúci:\n - T. Rusin\n
DTSTART;TZID=Europe/Bratislava:20260218T140000
DTEND;TZID=Europe/Bratislava:20260218T153000
LOCATION:M-120
RRULE:FREQ=WEEKLY;UNTIL=20260523T000000Z
SUMMARY:Numerické metódy lineárnej algebry
END:VEVENT
BEGIN:VEVENT
UID:lesson(771)-semester(022026-052026)-candle@candle.fmph.uniba.sk
DTSTAMP:20260424T231822Z
CATEGORIES:Prednáška
DESCRIPTION:Prednáška\n\nVyučujúci:\n - J. Tekel\n
DTSTART;TZID=Europe/Bratislava:20260218T154000
DTEND;TZID=Europe/Bratislava:20260218T171000
LOCATION:M-V
RRULE:FREQ=WEEKLY;UNTIL=20260523T000000Z
SUMMARY:Základy fyziky (2)
END:VEVENT
BEGIN:VEVENT
UID:lesson(772)-semester(022026-052026)-candle@candle.fmph.uniba.sk
DTSTAMP:20260424T231822Z
CATEGORIES:Cvičenie
DESCRIPTION:Cvičenie\n\nVyučujúci:\n - J. Tekel\n
DTSTART;TZID=Europe/Bratislava:20260218T172000
DTEND;TZID=Europe/Bratislava:20260218T180500
LOCATION:M-V
RRULE:FREQ=WEEKLY;UNTIL=20260523T000000Z
SUMMARY:Základy fyziky (2)
END:VEVENT
BEGIN:VEVENT
UID:lesson(787)-semester(022026-052026)-candle@candle.fmph.uniba.sk
DTSTAMP:20260424T231822Z
CATEGORIES:Cvičenie
DESCRIPTION:Cvičenie\n\nVyučujúci:\n - K. Rostás\n
DTSTART;TZID=Europe/Bratislava:20260219T090000
DTEND;TZID=Europe/Bratislava:20260219T103000
LOCATION:M-102
RRULE:FREQ=WEEKLY;UNTIL=20260523T000000Z
SUMMARY:Klasické metódy riešenia parciálnych diferenciálnych rovníc
END:VEVENT
BEGIN:VEVENT
UID:lesson(785)-semester(022026-052026)-candle@candle.fmph.uniba.sk
DTSTAMP:20260424T231822Z
CATEGORIES:Prednáška
DESCRIPTION:Prednáška\n\nVyučujúci:\n - J. Filo\n
DTSTART;TZID=Europe/Bratislava:20260219T104000
DTEND;TZID=Europe/Bratislava:20260219T121000
LOCATION:M-109
RRULE:FREQ=WEEKLY;UNTIL=20260523T000000Z
SUMMARY:Klasické metódy riešenia parciálnych diferenciálnych rovníc
END:VEVENT
BEGIN:VEVENT
UID:lesson(473)-semester(022026-052026)-candle@candle.fmph.uniba.sk
DTSTAMP:20260424T231822Z
CATEGORIES:Výber/Vol
DESCRIPTION:Výber/Vol\n\nVyučujúci:\n - J. Pačuta\n
DTSTART;TZID=Europe/Bratislava:20260219T122000
DTEND;TZID=Europe/Bratislava:20260219T135000
LOCATION:M-IV
RRULE:FREQ=WEEKLY;UNTIL=20260523T000000Z
SUMMARY:Cvičenie z komplexnej analýzy
END:VEVENT
BEGIN:VEVENT
UID:lesson(469)-semester(022026-052026)-candle@candle.fmph.uniba.sk
DTSTAMP:20260424T231822Z
CATEGORIES:Prednáška
DESCRIPTION:Prednáška\n\nVyučujúci:\n - J. Jaroš\n
DTSTART;TZID=Europe/Bratislava:20260219T140000
DTEND;TZID=Europe/Bratislava:20260219T153000
LOCATION:M-IV
RRULE:FREQ=WEEKLY;UNTIL=20260523T000000Z
SUMMARY:Biomatematika (2)
END:VEVENT
END:VCALENDAR
