BEGIN:VCALENDAR
VERSION:2.0
PRODID:-//candle.fmph.uniba.sk//NONSGML kigkonsult.se iCalcreator 2.16.12//
METHOD:PUBLISH
X-WR-CALNAME:3FYZ
X-WR-CALDESC:Rozvrh hodín vyexportovaný pomocou Candle\, https://github.com
 /fmfi-svt/candle
X-WR-TIMEZONE:Europe/Bratislava
BEGIN:VEVENT
UID:lesson(581)-semester(022026-052026)-candle@candle.fmph.uniba.sk
DTSTAMP:20260424T212247Z
CATEGORIES:Labák
DESCRIPTION:Labák\n\nVyučujúci:\n - M. Ješkovský\n - B. Andel\n
DTSTART;TZID=Europe/Bratislava:20260216T095000
DTEND;TZID=Europe/Bratislava:20260216T120500
LOCATION:F2-s125
RRULE:FREQ=WEEKLY;UNTIL=20260523T000000Z
SUMMARY:Praktikum z atómovej a jadrovej fyziky
END:VEVENT
BEGIN:VEVENT
UID:lesson(867)-semester(022026-052026)-candle@candle.fmph.uniba.sk
DTSTAMP:20260424T212247Z
CATEGORIES:Cvičenie
DESCRIPTION:Cvičenie\n\nVyučujúci:\n - P. Papp\n - N. Arepalli\n
DTSTART;TZID=Europe/Bratislava:20260217T090000
DTEND;TZID=Europe/Bratislava:20260217T111500
LOCATION:M-XII
RRULE:FREQ=WEEKLY;UNTIL=20260523T000000Z
SUMMARY:Chemická fyzika
END:VEVENT
BEGIN:VEVENT
UID:lesson(681)-semester(022026-052026)-candle@candle.fmph.uniba.sk
DTSTAMP:20260424T212247Z
CATEGORIES:Cvičenie
DESCRIPTION:Cvičenie\n\nVyučujúci:\n - M. Horňák\n
DTSTART;TZID=Europe/Bratislava:20260217T113000
DTEND;TZID=Europe/Bratislava:20260217T130000
LOCATION:F2-223
RRULE:FREQ=WEEKLY;UNTIL=20260523T000000Z
SUMMARY:Úvod do fyziky tuhých látok
END:VEVENT
BEGIN:VEVENT
UID:lesson(621)-semester(022026-052026)-candle@candle.fmph.uniba.sk
DTSTAMP:20260424T212247Z
CATEGORIES:Prednáška
DESCRIPTION:Prednáška\n\nVyučujúci:\n - M. Janda\n - D. Kováčik\n
DTSTART;TZID=Europe/Bratislava:20260217T113000
DTEND;TZID=Europe/Bratislava:20260217T130000
LOCATION:F2-051
RRULE:FREQ=WEEKLY;UNTIL=20260523T000000Z
SUMMARY:Úvod do fyziky plazmy a elektrických výbojov
END:VEVENT
BEGIN:VEVENT
UID:lesson(344)-semester(022026-052026)-candle@candle.fmph.uniba.sk
DTSTAMP:20260424T212247Z
CATEGORIES:Prednáška
DESCRIPTION:Prednáška\n\nVyučujúci:\n - F. Jaroš\n
DTSTART;TZID=Europe/Bratislava:20260217T131000
DTEND;TZID=Europe/Bratislava:20260217T144000
LOCATION:F1-247
RRULE:FREQ=WEEKLY;UNTIL=20260523T000000Z
SUMMARY:Matematika (5)
END:VEVENT
BEGIN:VEVENT
UID:lesson(686)-semester(022026-052026)-candle@candle.fmph.uniba.sk
DTSTAMP:20260424T212247Z
CATEGORIES:Prednáška
DESCRIPTION:Prednáška\n\nVyučujúci:\n - T. Blažek\n
DTSTART;TZID=Europe/Bratislava:20260217T154000
DTEND;TZID=Europe/Bratislava:20260217T171000
LOCATION:F2-125
RRULE:FREQ=WEEKLY;UNTIL=20260523T000000Z
SUMMARY:Kvantová teória (2)
END:VEVENT
BEGIN:VEVENT
UID:lesson(679)-semester(022026-052026)-candle@candle.fmph.uniba.sk
DTSTAMP:20260424T212247Z
CATEGORIES:Prednáška
DESCRIPTION:Prednáška\n\nVyučujúci:\n - F. Herman\n
DTSTART;TZID=Europe/Bratislava:20260218T081000
DTEND;TZID=Europe/Bratislava:20260218T094000
LOCATION:F2-223
RRULE:FREQ=WEEKLY;UNTIL=20260523T000000Z
SUMMARY:Úvod do fyziky tuhých látok
END:VEVENT
BEGIN:VEVENT
UID:lesson(582)-semester(022026-052026)-candle@candle.fmph.uniba.sk
DTSTAMP:20260424T212247Z
CATEGORIES:Labák
DESCRIPTION:Labák\n\nVyučujúci:\n - T. Eckertová\n - M. Pikna\n
DTSTART;TZID=Europe/Bratislava:20260218T095000
DTEND;TZID=Europe/Bratislava:20260218T120500
LOCATION:F2-s125
RRULE:FREQ=WEEKLY;UNTIL=20260523T000000Z
SUMMARY:Praktikum z atómovej a jadrovej fyziky
END:VEVENT
BEGIN:VEVENT
UID:lesson(5)-semester(022026-052026)-candle@candle.fmph.uniba.sk
DTSTAMP:20260424T212247Z
CATEGORIES:Cvičenie
DESCRIPTION:Cvičenie\n\nVyučujúci:\n - \n
DTSTART;TZID=Europe/Bratislava:20260218T131000
DTEND;TZID=Europe/Bratislava:20260218T182500
LOCATION:KTVS
RRULE:FREQ=WEEKLY;UNTIL=20260523T000000Z
SUMMARY:Telesná výchova a šport (6)
END:VEVENT
BEGIN:VEVENT
UID:lesson(687)-semester(022026-052026)-candle@candle.fmph.uniba.sk
DTSTAMP:20260424T212247Z
CATEGORIES:Prednáška
DESCRIPTION:Prednáška\n\nVyučujúci:\n - T. Blažek\n
DTSTART;TZID=Europe/Bratislava:20260219T081000
DTEND;TZID=Europe/Bratislava:20260219T094000
LOCATION:F2-125
RRULE:FREQ=WEEKLY;UNTIL=20260523T000000Z
SUMMARY:Kvantová teória (2)
END:VEVENT
BEGIN:VEVENT
UID:lesson(788)-semester(022026-052026)-candle@candle.fmph.uniba.sk
DTSTAMP:20260424T212247Z
CATEGORIES:Výber/Vol
DESCRIPTION:Výber/Vol\n\nVyučujúci:\n - K. Rostás\n
DTSTART;TZID=Europe/Bratislava:20260219T090000
DTEND;TZID=Europe/Bratislava:20260219T103000
LOCATION:M-102
RRULE:FREQ=WEEKLY;UNTIL=20260523T000000Z
SUMMARY:Matematika (6)
END:VEVENT
BEGIN:VEVENT
UID:lesson(680)-semester(022026-052026)-candle@candle.fmph.uniba.sk
DTSTAMP:20260424T212247Z
CATEGORIES:Prednáška
DESCRIPTION:Prednáška\n\nVyučujúci:\n - F. Herman\n
DTSTART;TZID=Europe/Bratislava:20260219T095000
DTEND;TZID=Europe/Bratislava:20260219T112000
LOCATION:F2-223
RRULE:FREQ=WEEKLY;UNTIL=20260523T000000Z
SUMMARY:Úvod do fyziky tuhých látok
END:VEVENT
BEGIN:VEVENT
UID:lesson(786)-semester(022026-052026)-candle@candle.fmph.uniba.sk
DTSTAMP:20260424T212247Z
CATEGORIES:Výber/Vol
DESCRIPTION:Výber/Vol\n\nVyučujúci:\n - J. Filo\n
DTSTART;TZID=Europe/Bratislava:20260219T104000
DTEND;TZID=Europe/Bratislava:20260219T121000
LOCATION:M-109
RRULE:FREQ=WEEKLY;UNTIL=20260523T000000Z
SUMMARY:Matematika (6)
END:VEVENT
BEGIN:VEVENT
UID:lesson(834)-semester(022026-052026)-candle@candle.fmph.uniba.sk
DTSTAMP:20260424T212247Z
CATEGORIES:Seminár
DESCRIPTION:Seminár\n\nVyučujúci:\n - J. Kristek\n
DTSTART;TZID=Europe/Bratislava:20260219T113000
DTEND;TZID=Europe/Bratislava:20260219T130000
LOCATION:F1-109
RRULE:FREQ=WEEKLY;UNTIL=20260523T000000Z
SUMMARY:Seminár k bakalárskej práci
END:VEVENT
BEGIN:VEVENT
UID:lesson(658)-semester(022026-052026)-candle@candle.fmph.uniba.sk
DTSTAMP:20260424T212247Z
CATEGORIES:Prednáška
DESCRIPTION:Prednáška\n\nVyučujúci:\n - P. Papp\n - I. Sukuba\n - M. Melich
 erčík\n
DTSTART;TZID=Europe/Bratislava:20260219T131000
DTEND;TZID=Europe/Bratislava:20260219T152500
LOCATION:M-XII
RRULE:FREQ=WEEKLY;UNTIL=20260523T000000Z
SUMMARY:Chemická fyzika
END:VEVENT
BEGIN:VEVENT
UID:lesson(445)-semester(022026-052026)-candle@candle.fmph.uniba.sk
DTSTAMP:20260424T212247Z
CATEGORIES:Výber/Vol
DESCRIPTION:Výber/Vol\n\nVyučujúci:\n - I. Zabaikina\n
DTSTART;TZID=Europe/Bratislava:20260219T154000
DTEND;TZID=Europe/Bratislava:20260219T171000
LOCATION:M-VIII
RRULE:FREQ=WEEKLY;UNTIL=20260523T000000Z
SUMMARY:Matematika (5)
END:VEVENT
BEGIN:VEVENT
UID:lesson(688)-semester(022026-052026)-candle@candle.fmph.uniba.sk
DTSTAMP:20260424T212247Z
CATEGORIES:Cvičenie
DESCRIPTION:Cvičenie\n\nVyučujúci:\n - T. Blažek\n - T. Veľas\n
DTSTART;TZID=Europe/Bratislava:20260220T081000
DTEND;TZID=Europe/Bratislava:20260220T094000
LOCATION:F2-125
RRULE:FREQ=WEEKLY;UNTIL=20260523T000000Z
SUMMARY:Kvantová teória (2)
END:VEVENT
BEGIN:VEVENT
UID:lesson(694)-semester(022026-052026)-candle@candle.fmph.uniba.sk
DTSTAMP:20260424T212247Z
CATEGORIES:Prednáška
DESCRIPTION:Prednáška\n\nVyučujúci:\n - M. Janda\n - D. Kováčik\n
DTSTART;TZID=Europe/Bratislava:20260220T104000
DTEND;TZID=Europe/Bratislava:20260220T121000
LOCATION:F2-051
RRULE:FREQ=WEEKLY;UNTIL=20260523T000000Z
SUMMARY:Úvod do fyziky plazmy a elektrických výbojov
END:VEVENT
BEGIN:VEVENT
UID:lesson(695)-semester(022026-052026)-candle@candle.fmph.uniba.sk
DTSTAMP:20260424T212247Z
CATEGORIES:Cvičenie
DESCRIPTION:Cvičenie\n\nVyučujúci:\n - M. Janda\n - D. Kováčik\n
DTSTART;TZID=Europe/Bratislava:20260220T131000
DTEND;TZID=Europe/Bratislava:20260220T144000
LOCATION:F2-051
RRULE:FREQ=WEEKLY;UNTIL=20260523T000000Z
SUMMARY:Úvod do fyziky plazmy a elektrických výbojov
END:VEVENT
END:VCALENDAR
