BEGIN:VCALENDAR
VERSION:2.0
PRODID:-//candle.fmph.uniba.sk//NONSGML kigkonsult.se iCalcreator 2.16.12//
METHOD:PUBLISH
X-WR-CALNAME:2mPMS
X-WR-CALDESC:Rozvrh hodín vyexportovaný pomocou Candle\, https://github.com
 /fmfi-svt/candle
X-WR-TIMEZONE:Europe/Bratislava
BEGIN:VEVENT
UID:lesson(420)-semester(022026-052026)-candle@candle.fmph.uniba.sk
DTSTAMP:20260424T231836Z
CATEGORIES:Seminár
DESCRIPTION:Seminár\n\nVyučujúci:\n - P. Jurča\n
DTSTART;TZID=Europe/Bratislava:20260216T163000
DTEND;TZID=Europe/Bratislava:20260216T180000
LOCATION:M-X
RRULE:FREQ=WEEKLY;UNTIL=20260523T000000Z
SUMMARY:Kvantitatívne metódy v riadení rizík
END:VEVENT
BEGIN:VEVENT
UID:lesson(421)-semester(022026-052026)-candle@candle.fmph.uniba.sk
DTSTAMP:20260424T231836Z
CATEGORIES:Cvičenie
DESCRIPTION:Cvičenie\n\nVyučujúci:\n - P. Jurča\n
DTSTART;TZID=Europe/Bratislava:20260216T181000
DTEND;TZID=Europe/Bratislava:20260216T185500
LOCATION:M-X
RRULE:FREQ=WEEKLY;UNTIL=20260523T000000Z
SUMMARY:Kvantitatívne metódy v riadení rizík
END:VEVENT
BEGIN:VEVENT
UID:lesson(440)-semester(022026-052026)-candle@candle.fmph.uniba.sk
DTSTAMP:20260424T231836Z
CATEGORIES:Prednáška
DESCRIPTION:Prednáška\n\nVyučujúci:\n - L. Šánerová\n
DTSTART;TZID=Europe/Bratislava:20260217T081000
DTEND;TZID=Europe/Bratislava:20260217T094000
LOCATION:M-VII
RRULE:FREQ=WEEKLY;UNTIL=20260523T000000Z
SUMMARY:Aplikovaná dátová veda v SAS Viya
END:VEVENT
BEGIN:VEVENT
UID:lesson(442)-semester(022026-052026)-candle@candle.fmph.uniba.sk
DTSTAMP:20260424T231836Z
CATEGORIES:Prednáška
DESCRIPTION:Prednáška\n\nVyučujúci:\n - J. Somorčík\n
DTSTART;TZID=Europe/Bratislava:20260217T113000
DTEND;TZID=Europe/Bratislava:20260217T130000
LOCATION:M-IX
RRULE:FREQ=WEEKLY;UNTIL=20260523T000000Z
SUMMARY:Neparametrická štatistika
END:VEVENT
BEGIN:VEVENT
UID:lesson(518)-semester(022026-052026)-candle@candle.fmph.uniba.sk
DTSTAMP:20260424T231836Z
CATEGORIES:Prednáška
DESCRIPTION:Prednáška\n\nVyučujúci:\n - J. Kováč\n
DTSTART;TZID=Europe/Bratislava:20260217T131000
DTEND;TZID=Europe/Bratislava:20260217T144000
LOCATION:M-IX
RRULE:FREQ=WEEKLY;UNTIL=20260523T000000Z
SUMMARY:Bayesovské metódy (2)
END:VEVENT
BEGIN:VEVENT
UID:lesson(526)-semester(022026-052026)-candle@candle.fmph.uniba.sk
DTSTAMP:20260424T231836Z
CATEGORIES:Seminár
DESCRIPTION:Seminár\n\nVyučujúci:\n - R. Harman\n
DTSTART;TZID=Europe/Bratislava:20260218T090000
DTEND;TZID=Europe/Bratislava:20260218T111500
LOCATION:M-VI
RRULE:FREQ=WEEKLY;UNTIL=20260523T000000Z
SUMMARY:Diplomový seminár (2)
END:VEVENT
BEGIN:VEVENT
UID:lesson(836)-semester(022026-052026)-candle@candle.fmph.uniba.sk
DTSTAMP:20260424T231836Z
CATEGORIES:Prednáška
DESCRIPTION:Prednáška\n\nVyučujúci:\n - M. Kristeková\n
DTSTART;TZID=Europe/Bratislava:20260218T122000
DTEND;TZID=Europe/Bratislava:20260218T135000
LOCATION:M-XI
RRULE:FREQ=WEEKLY;UNTIL=20260523T000000Z
SUMMARY:Spracovanie digitálnych signálov
END:VEVENT
BEGIN:VEVENT
UID:lesson(434)-semester(022026-052026)-candle@candle.fmph.uniba.sk
DTSTAMP:20260424T231836Z
CATEGORIES:Prednáška
DESCRIPTION:Prednáška\n\nVyučujúci:\n - G. Szűcs\n - I. Melicherčík\n
DTSTART;TZID=Europe/Bratislava:20260218T154000
DTEND;TZID=Europe/Bratislava:20260218T171000
LOCATION:F1-247
RRULE:FREQ=WEEKLY;UNTIL=20260523T000000Z
SUMMARY:Dôchodkové poistenie a penzijné fondy
END:VEVENT
BEGIN:VEVENT
UID:lesson(439)-semester(022026-052026)-candle@candle.fmph.uniba.sk
DTSTAMP:20260424T231836Z
CATEGORIES:Prednáška
DESCRIPTION:Prednáška\n\nVyučujúci:\n - M. Trnovská\n
DTSTART;TZID=Europe/Bratislava:20260219T095000
DTEND;TZID=Europe/Bratislava:20260219T112000
LOCATION:M-III
RRULE:FREQ=WEEKLY;UNTIL=20260523T000000Z
SUMMARY:Konvexná optimalizácia
END:VEVENT
END:VCALENDAR
