BEGIN:VCALENDAR
VERSION:2.0
PRODID:-//candle.fmph.uniba.sk//NONSGML kigkonsult.se iCalcreator 2.16.12//
METHOD:PUBLISH
X-WR-CALNAME:2mINFs
X-WR-CALDESC:Rozvrh hodín vyexportovaný pomocou Candle\, https://github.com
 /fmfi-svt/candle
X-WR-TIMEZONE:Europe/Bratislava
BEGIN:VEVENT
UID:lesson(374)-semester(022026-052026)-candle@candle.fmph.uniba.sk
DTSTAMP:20260424T231823Z
CATEGORIES:Cvičenie
DESCRIPTION:Cvičenie\n\nVyučujúci:\n - J. Kostičová\n
DTSTART;TZID=Europe/Bratislava:20260216T095000
DTEND;TZID=Europe/Bratislava:20260216T112000
LOCATION:M-IV
RRULE:FREQ=WEEKLY;UNTIL=20260523T000000Z
SUMMARY:Tvorba internetových aplikácií
END:VEVENT
BEGIN:VEVENT
UID:lesson(368)-semester(022026-052026)-candle@candle.fmph.uniba.sk
DTSTAMP:20260424T231823Z
CATEGORIES:Prednáška
DESCRIPTION:Prednáška\n\nVyučujúci:\n - B. Rovan\n
DTSTART;TZID=Europe/Bratislava:20260217T081000
DTEND;TZID=Europe/Bratislava:20260217T094000
LOCATION:M-I
RRULE:FREQ=WEEKLY;UNTIL=20260523T000000Z
SUMMARY:Informatika a spoločnosť
END:VEVENT
BEGIN:VEVENT
UID:lesson(541)-semester(022026-052026)-candle@candle.fmph.uniba.sk
DTSTAMP:20260424T231823Z
CATEGORIES:Prednáška
DESCRIPTION:Prednáška\n\nVyučujúci:\n - R. Královič\n
DTSTART;TZID=Europe/Bratislava:20260217T095000
DTEND;TZID=Europe/Bratislava:20260217T112000
LOCATION:M-XI
RRULE:FREQ=WEEKLY;UNTIL=20260523T000000Z
SUMMARY:Efektívne paralelné algoritmy
END:VEVENT
BEGIN:VEVENT
UID:lesson(375)-semester(022026-052026)-candle@candle.fmph.uniba.sk
DTSTAMP:20260424T231823Z
CATEGORIES:Prednáška
DESCRIPTION:Prednáška\n\nVyučujúci:\n - R. Ostertág\n
DTSTART;TZID=Europe/Bratislava:20260217T113000
DTEND;TZID=Europe/Bratislava:20260217T130000
LOCATION:M-I
RRULE:FREQ=WEEKLY;UNTIL=20260523T000000Z
SUMMARY:Tvorba internetových aplikácií
END:VEVENT
BEGIN:VEVENT
UID:lesson(367)-semester(022026-052026)-candle@candle.fmph.uniba.sk
DTSTAMP:20260424T231823Z
CATEGORIES:Seminár
DESCRIPTION:Seminár\n\nVyučujúci:\n - D. Bernát\n - R. Královič\n
DTSTART;TZID=Europe/Bratislava:20260217T140000
DTEND;TZID=Europe/Bratislava:20260217T153000
LOCATION:M-III
RRULE:FREQ=WEEKLY;UNTIL=20260523T000000Z
SUMMARY:Magisterský projekt
END:VEVENT
BEGIN:VEVENT
UID:lesson(664)-semester(022026-052026)-candle@candle.fmph.uniba.sk
DTSTAMP:20260424T231823Z
CATEGORIES:Prednáška
DESCRIPTION:Prednáška\n\nVyučujúci:\n - R. Královič\n
DTSTART;TZID=Europe/Bratislava:20260217T154000
DTEND;TZID=Europe/Bratislava:20260217T171000
LOCATION:M-213
RRULE:FREQ=WEEKLY;UNTIL=20260523T000000Z
SUMMARY:Úvod do distribuovaných algoritmov
END:VEVENT
BEGIN:VEVENT
UID:lesson(289)-semester(022026-052026)-candle@candle.fmph.uniba.sk
DTSTAMP:20260424T231823Z
CATEGORIES:Prednáška
DESCRIPTION:Prednáška\n\nVyučujúci:\n - I. Farkaš\n
DTSTART;TZID=Europe/Bratislava:20260217T163000
DTEND;TZID=Europe/Bratislava:20260217T180000
LOCATION:F1-247
RRULE:FREQ=WEEKLY;UNTIL=20260523T000000Z
SUMMARY:Neurónové siete
END:VEVENT
BEGIN:VEVENT
UID:lesson(373)-semester(022026-052026)-candle@candle.fmph.uniba.sk
DTSTAMP:20260424T231823Z
CATEGORIES:Kurz
DESCRIPTION:Kurz\n\nVyučujúci:\n - R. Lukoťka\n - J. Kostičová\n
DTSTART;TZID=Europe/Bratislava:20260218T081000
DTEND;TZID=Europe/Bratislava:20260218T102500
LOCATION:M-VIII
RRULE:FREQ=WEEKLY;UNTIL=20260523T000000Z
SUMMARY:Princípy tvorby softvéru (3)
END:VEVENT
BEGIN:VEVENT
UID:lesson(666)-semester(022026-052026)-candle@candle.fmph.uniba.sk
DTSTAMP:20260424T231823Z
CATEGORIES:Výber/Vol
DESCRIPTION:Výber/Vol\n\nVyučujúci:\n - B. Rovan\n
DTSTART;TZID=Europe/Bratislava:20260218T081000
DTEND;TZID=Europe/Bratislava:20260218T094000
LOCATION:M-213
RRULE:FREQ=WEEKLY;UNTIL=20260523T000000Z
SUMMARY:Vybrané partie z teórie jazykov
END:VEVENT
BEGIN:VEVENT
UID:lesson(665)-semester(022026-052026)-candle@candle.fmph.uniba.sk
DTSTAMP:20260424T231823Z
CATEGORIES:Prednáška
DESCRIPTION:Prednáška\n\nVyučujúci:\n - R. Královič\n
DTSTART;TZID=Europe/Bratislava:20260218T095000
DTEND;TZID=Europe/Bratislava:20260218T112000
LOCATION:M-213
RRULE:FREQ=WEEKLY;UNTIL=20260523T000000Z
SUMMARY:Úvod do distribuovaných algoritmov
END:VEVENT
BEGIN:VEVENT
UID:lesson(365)-semester(022026-052026)-candle@candle.fmph.uniba.sk
DTSTAMP:20260424T231823Z
CATEGORIES:Seminár
DESCRIPTION:Seminár\n\nVyučujúci:\n - M. Stanek\n
DTSTART;TZID=Europe/Bratislava:20260218T113000
DTEND;TZID=Europe/Bratislava:20260218T130000
LOCATION:M-III
RRULE:FREQ=WEEKLY;UNTIL=20260523T000000Z
SUMMARY:Diplomový seminár (4)
END:VEVENT
BEGIN:VEVENT
UID:lesson(471)-semester(022026-052026)-candle@candle.fmph.uniba.sk
DTSTAMP:20260424T231823Z
CATEGORIES:Cvičenie
DESCRIPTION:Cvičenie\n\nVyučujúci:\n - P. Mihala\n
DTSTART;TZID=Europe/Bratislava:20260218T140000
DTEND;TZID=Europe/Bratislava:20260218T153000
LOCATION:M-XI
RRULE:FREQ=WEEKLY;UNTIL=20260523T000000Z
SUMMARY:Numerická matematika (1)
END:VEVENT
BEGIN:VEVENT
UID:lesson(547)-semester(022026-052026)-candle@candle.fmph.uniba.sk
DTSTAMP:20260424T231823Z
CATEGORIES:Prednáška
DESCRIPTION:Prednáška\n\nVyučujúci:\n - D. Olejár\n
DTSTART;TZID=Europe/Bratislava:20260218T145000
DTEND;TZID=Europe/Bratislava:20260218T162000
LOCATION:M-III
RRULE:FREQ=WEEKLY;UNTIL=20260523T000000Z
SUMMARY:Teória informácie a teória kódovania (2)
END:VEVENT
BEGIN:VEVENT
UID:lesson(669)-semester(022026-052026)-candle@candle.fmph.uniba.sk
DTSTAMP:20260424T231823Z
CATEGORIES:Kurz
DESCRIPTION:Kurz\n\nVyučujúci:\n - J. Janáček\n
DTSTART;TZID=Europe/Bratislava:20260218T163000
DTEND;TZID=Europe/Bratislava:20260218T184500
LOCATION:M-217
RRULE:FREQ=WEEKLY;UNTIL=20260523T000000Z
SUMMARY:Pokročilá administrácia Linuxu
END:VEVENT
BEGIN:VEVENT
UID:lesson(641)-semester(022026-052026)-candle@candle.fmph.uniba.sk
DTSTAMP:20260424T231823Z
CATEGORIES:Cvičenie
DESCRIPTION:Cvičenie\n\nVyučujúci:\n - I. Bečková\n - C. Pizarroso Troncoso
 \n
DTSTART;TZID=Europe/Bratislava:20260218T163000
DTEND;TZID=Europe/Bratislava:20260218T180000
LOCATION:I-H6
RRULE:FREQ=WEEKLY;UNTIL=20260523T000000Z
SUMMARY:Neurónové siete
END:VEVENT
BEGIN:VEVENT
UID:lesson(376)-semester(022026-052026)-candle@candle.fmph.uniba.sk
DTSTAMP:20260424T231823Z
CATEGORIES:Prednáška
DESCRIPTION:Prednáška\n\nVyučujúci:\n - J. Janáček\n - R. Ostertág\n - M. S
 tanek\n - M. Rjaško\n
DTSTART;TZID=Europe/Bratislava:20260219T081000
DTEND;TZID=Europe/Bratislava:20260219T094000
LOCATION:M-I
RRULE:FREQ=WEEKLY;UNTIL=20260523T000000Z
SUMMARY:Bezpečnosť IT infraštruktúry
END:VEVENT
BEGIN:VEVENT
UID:lesson(667)-semester(022026-052026)-candle@candle.fmph.uniba.sk
DTSTAMP:20260424T231823Z
CATEGORIES:Výber/Vol
DESCRIPTION:Výber/Vol\n\nVyučujúci:\n - B. Rovan\n
DTSTART;TZID=Europe/Bratislava:20260219T081000
DTEND;TZID=Europe/Bratislava:20260219T094000
LOCATION:M-213
RRULE:FREQ=WEEKLY;UNTIL=20260523T000000Z
SUMMARY:Vybrané partie z teórie jazykov
END:VEVENT
BEGIN:VEVENT
UID:lesson(663)-semester(022026-052026)-candle@candle.fmph.uniba.sk
DTSTAMP:20260424T231823Z
CATEGORIES:Kurz
DESCRIPTION:Kurz\n\nPoznámka: M-262\n\nVyučujúci:\n - T. Plachetka\n
DTSTART;TZID=Europe/Bratislava:20260219T095000
DTEND;TZID=Europe/Bratislava:20260219T125000
LOCATION:M-217
RRULE:FREQ=WEEKLY;UNTIL=20260523T000000Z
SUMMARY:Konkurentné a distribuované programovanie a systémy (2)
END:VEVENT
BEGIN:VEVENT
UID:lesson(260)-semester(022026-052026)-candle@candle.fmph.uniba.sk
DTSTAMP:20260424T231823Z
CATEGORIES:Kurz
DESCRIPTION:Kurz\n\nVyučujúci:\n - V. Boža\n
DTSTART;TZID=Europe/Bratislava:20260219T095000
DTEND;TZID=Europe/Bratislava:20260219T125000
LOCATION:M-I
RRULE:FREQ=WEEKLY;UNTIL=20260523T000000Z
SUMMARY:Moderné techniky strojového učenia
END:VEVENT
BEGIN:VEVENT
UID:lesson(439)-semester(022026-052026)-candle@candle.fmph.uniba.sk
DTSTAMP:20260424T231823Z
CATEGORIES:Prednáška
DESCRIPTION:Prednáška\n\nVyučujúci:\n - M. Trnovská\n
DTSTART;TZID=Europe/Bratislava:20260219T095000
DTEND;TZID=Europe/Bratislava:20260219T112000
LOCATION:M-III
RRULE:FREQ=WEEKLY;UNTIL=20260523T000000Z
SUMMARY:Konvexná optimalizácia
END:VEVENT
BEGIN:VEVENT
UID:lesson(855)-semester(022026-052026)-candle@candle.fmph.uniba.sk
DTSTAMP:20260424T231823Z
CATEGORIES:Kurz
DESCRIPTION:Kurz\n\nVyučujúci:\n - M. Stanek\n
DTSTART;TZID=Europe/Bratislava:20260219T095000
DTEND;TZID=Europe/Bratislava:20260219T120500
LOCATION:F1-247
RRULE:FREQ=WEEKLY;UNTIL=20260523T000000Z
SUMMARY:Testovanie bezpečnosti
END:VEVENT
BEGIN:VEVENT
UID:lesson(542)-semester(022026-052026)-candle@candle.fmph.uniba.sk
DTSTAMP:20260424T231823Z
CATEGORIES:Prednáška
DESCRIPTION:Prednáška\n\nVyučujúci:\n - R. Královič\n
DTSTART;TZID=Europe/Bratislava:20260219T113000
DTEND;TZID=Europe/Bratislava:20260219T130000
LOCATION:M-XI
RRULE:FREQ=WEEKLY;UNTIL=20260523T000000Z
SUMMARY:Efektívne paralelné algoritmy
END:VEVENT
BEGIN:VEVENT
UID:lesson(362)-semester(022026-052026)-candle@candle.fmph.uniba.sk
DTSTAMP:20260424T231823Z
CATEGORIES:Kurz
DESCRIPTION:Kurz\n\nVyučujúci:\n - T. Plachetka\n
DTSTART;TZID=Europe/Bratislava:20260220T081000
DTEND;TZID=Europe/Bratislava:20260220T111000
LOCATION:F1-109
RRULE:FREQ=WEEKLY;UNTIL=20260523T000000Z
SUMMARY:Databázy
END:VEVENT
END:VCALENDAR
