BEGIN:VCALENDAR
VERSION:2.0
PRODID:-//candle.fmph.uniba.sk//NONSGML kigkonsult.se iCalcreator 2.16.12//
METHOD:PUBLISH
X-WR-CALNAME:2mFTF
X-WR-CALDESC:Rozvrh hodín vyexportovaný pomocou Candle\, https://github.com
 /fmfi-svt/candle
X-WR-TIMEZONE:Europe/Bratislava
BEGIN:VEVENT
UID:lesson(966)-semester(022026-052026)-candle@candle.fmph.uniba.sk
DTSTAMP:20260424T231817Z
CATEGORIES:Seminár
DESCRIPTION:Seminár\n\nVyučujúci:\n - S. Kováčik\n - P. Maták\n - P. Mészár
 os\n
DTSTART;TZID=Europe/Bratislava:20260217T140000
DTEND;TZID=Europe/Bratislava:20260217T153000
LOCATION:F2-oTF
RRULE:FREQ=WEEKLY;UNTIL=20260523T000000Z
SUMMARY:Diplomový seminár (2)
END:VEVENT
BEGIN:VEVENT
UID:lesson(942)-semester(022026-052026)-candle@candle.fmph.uniba.sk
DTSTAMP:20260424T231817Z
CATEGORIES:Prednáška
DESCRIPTION:Prednáška\n\nVyučujúci:\n - J. Tekel\n
DTSTART;TZID=Europe/Bratislava:20260218T095000
DTEND;TZID=Europe/Bratislava:20260218T112000
LOCATION:F2-125
RRULE:FREQ=WEEKLY;UNTIL=20260523T000000Z
SUMMARY:Maticové modely v teoretickej fyzike
END:VEVENT
BEGIN:VEVENT
UID:lesson(953)-semester(022026-052026)-candle@candle.fmph.uniba.sk
DTSTAMP:20260424T231817Z
CATEGORIES:Prednáška
DESCRIPTION:Prednáška\n\nVyučujúci:\n - T. Blažek\n
DTSTART;TZID=Europe/Bratislava:20260220T140000
DTEND;TZID=Europe/Bratislava:20260220T161500
LOCATION:F2-125
RRULE:FREQ=WEEKLY;UNTIL=20260523T000000Z
SUMMARY:Vybrané kapitoly z kvantovej fyziky
END:VEVENT
END:VCALENDAR
