BEGIN:VCALENDAR
VERSION:2.0
PRODID:-//candle.fmph.uniba.sk//NONSGML kigkonsult.se iCalcreator 2.16.12//
METHOD:PUBLISH
X-WR-CALNAME:2INFk
X-WR-CALDESC:Rozvrh hodín vyexportovaný pomocou Candle\, https://github.com
 /fmfi-svt/candle
X-WR-TIMEZONE:Europe/Bratislava
BEGIN:VEVENT
UID:lesson(721)-semester(022026-052026)-candle@candle.fmph.uniba.sk
DTSTAMP:20260424T212248Z
CATEGORIES:Cvičenie
DESCRIPTION:Cvičenie\n\nVyučujúci:\n - A. Barnes\n
DTSTART;TZID=Europe/Bratislava:20260216T145000
DTEND;TZID=Europe/Bratislava:20260216T162000
LOCATION:F1-246
RRULE:FREQ=WEEKLY;UNTIL=20260523T000000Z
SUMMARY:Slovenský jazyk pre zahraničných študentov (2)
END:VEVENT
BEGIN:VEVENT
UID:lesson(722)-semester(022026-052026)-candle@candle.fmph.uniba.sk
DTSTAMP:20260424T212248Z
CATEGORIES:Cvičenie
DESCRIPTION:Cvičenie\n\nVyučujúci:\n - A. Barnes\n
DTSTART;TZID=Europe/Bratislava:20260216T145000
DTEND;TZID=Europe/Bratislava:20260216T162000
LOCATION:F1-246
RRULE:FREQ=WEEKLY;UNTIL=20260523T000000Z
SUMMARY:Slovenský jazyk pre zahraničných študentov (4)
END:VEVENT
BEGIN:VEVENT
UID:lesson(1)-semester(022026-052026)-candle@candle.fmph.uniba.sk
DTSTAMP:20260424T212248Z
CATEGORIES:Nezadaný typ
DESCRIPTION:Nezadaný typ\n\nVyučujúci:\n - \n
DTSTART;TZID=Europe/Bratislava:20260218T181000
DTEND;TZID=Europe/Bratislava:20260218T194000
LOCATION: 
RRULE:FREQ=WEEKLY;UNTIL=20260523T000000Z
SUMMARY:písomky
END:VEVENT
BEGIN:VEVENT
UID:lesson(3)-semester(022026-052026)-candle@candle.fmph.uniba.sk
DTSTAMP:20260424T212248Z
CATEGORIES:Cvičenie
DESCRIPTION:Cvičenie\n\nVyučujúci:\n - \n
DTSTART;TZID=Europe/Bratislava:20260219T131000
DTEND;TZID=Europe/Bratislava:20260219T182500
LOCATION:KTVS
RRULE:FREQ=WEEKLY;UNTIL=20260523T000000Z
SUMMARY:Telesná výchova a šport (2)
END:VEVENT
END:VCALENDAR
