BEGIN:VCALENDAR
VERSION:2.0
PRODID:-//candle.fmph.uniba.sk//NONSGML kigkonsult.se iCalcreator 2.16.12//
METHOD:PUBLISH
X-WR-CALNAME:2DRSFYZ
X-WR-CALDESC:Rozvrh hodín vyexportovaný pomocou Candle\, https://github.com
 /fmfi-svt/candle
X-WR-TIMEZONE:Europe/Bratislava
BEGIN:VEVENT
UID:lesson(706)-semester(022026-052026)-candle@candle.fmph.uniba.sk
DTSTAMP:20260425T010322Z
CATEGORIES:Kurz
DESCRIPTION:Kurz\n\nVyučujúci:\n - V. Haverlíková\n
DTSTART;TZID=Europe/Bratislava:20260216T095000
DTEND;TZID=Europe/Bratislava:20260216T120500
LOCATION:F1-145
RRULE:FREQ=WEEKLY;UNTIL=20260523T000000Z
SUMMARY:Dizajn neformálneho a informálneho fyzikálneho vzdelávania
END:VEVENT
BEGIN:VEVENT
UID:lesson(954)-semester(022026-052026)-candle@candle.fmph.uniba.sk
DTSTAMP:20260425T010322Z
CATEGORIES:Prednáška
DESCRIPTION:Prednáška\n\nVyučujúci:\n - T. Blažek\n - P. Maták\n
DTSTART;TZID=Europe/Bratislava:20260216T113000
DTEND;TZID=Europe/Bratislava:20260216T130000
LOCATION:F2-130
RRULE:FREQ=WEEKLY;UNTIL=20260523T000000Z
SUMMARY:Relativistická kvantová teória poľa (2)
END:VEVENT
BEGIN:VEVENT
UID:lesson(955)-semester(022026-052026)-candle@candle.fmph.uniba.sk
DTSTAMP:20260425T010322Z
CATEGORIES:Cvičenie
DESCRIPTION:Cvičenie\n\nVyučujúci:\n - T. Blažek\n - P. Maták\n
DTSTART;TZID=Europe/Bratislava:20260216T131000
DTEND;TZID=Europe/Bratislava:20260216T135500
LOCATION:F2-130
RRULE:FREQ=WEEKLY;UNTIL=20260523T000000Z
SUMMARY:Relativistická kvantová teória poľa (2)
END:VEVENT
BEGIN:VEVENT
UID:lesson(909)-semester(022026-052026)-candle@candle.fmph.uniba.sk
DTSTAMP:20260425T010322Z
CATEGORIES:Cvičenie
DESCRIPTION:Cvičenie\n\nVyučujúci:\n - D. Vrba\n
DTSTART;TZID=Europe/Bratislava:20260217T081000
DTEND;TZID=Europe/Bratislava:20260217T094000
LOCATION:F2-272
RRULE:FREQ=WEEKLY;UNTIL=20260523T000000Z
SUMMARY:Ab initio modelovanie materiálov
END:VEVENT
BEGIN:VEVENT
UID:lesson(705)-semester(022026-052026)-candle@candle.fmph.uniba.sk
DTSTAMP:20260425T010322Z
CATEGORIES:Kurz
DESCRIPTION:Kurz\n\nVyučujúci:\n - P. Demkanin\n
DTSTART;TZID=Europe/Bratislava:20260217T104000
DTEND;TZID=Europe/Bratislava:20260217T125500
LOCATION:F1-149
RRULE:FREQ=WEEKLY;UNTIL=20260523T000000Z
SUMMARY:Pokročilá teória obsahu a metód fyziky strednej školy
END:VEVENT
BEGIN:VEVENT
UID:lesson(2048)-semester(022026-052026)-candle@candle.fmph.uniba.sk
DTSTAMP:20260425T010322Z
CATEGORIES:Prednáška
DESCRIPTION:Prednáška\n\nPoznámka: CENAM\n\nVyučujúci:\n - T. Plecenik\n
DTSTART;TZID=Europe/Bratislava:20260217T122000
DTEND;TZID=Europe/Bratislava:20260217T130500
LOCATION:F2-KEF
RRULE:FREQ=WEEKLY;UNTIL=20260523T000000Z
SUMMARY:Moderné experimentálne metódy vo fyzike kondenzovaných látok (2)
END:VEVENT
BEGIN:VEVENT
UID:lesson(2049)-semester(022026-052026)-candle@candle.fmph.uniba.sk
DTSTAMP:20260425T010322Z
CATEGORIES:Seminár
DESCRIPTION:Seminár\n\nPoznámka: CENAM\n\nVyučujúci:\n - T. Plecenik\n
DTSTART;TZID=Europe/Bratislava:20260217T131000
DTEND;TZID=Europe/Bratislava:20260217T144000
LOCATION:F2-KEF
RRULE:FREQ=WEEKLY;UNTIL=20260523T000000Z
SUMMARY:Moderné experimentálne metódy vo fyzike kondenzovaných látok (2)
END:VEVENT
BEGIN:VEVENT
UID:lesson(948)-semester(022026-052026)-candle@candle.fmph.uniba.sk
DTSTAMP:20260425T010322Z
CATEGORIES:Seminár
DESCRIPTION:Seminár\n\nVyučujúci:\n - T. Blažek\n - P. Moczo\n
DTSTART;TZID=Europe/Bratislava:20260217T140000
DTEND;TZID=Europe/Bratislava:20260217T144500
LOCATION:F2-125
RRULE:FREQ=WEEKLY;UNTIL=20260523T000000Z
SUMMARY:Seminár pracoviska (1)
END:VEVENT
BEGIN:VEVENT
UID:lesson(949)-semester(022026-052026)-candle@candle.fmph.uniba.sk
DTSTAMP:20260425T010322Z
CATEGORIES:Seminár
DESCRIPTION:Seminár\n\nVyučujúci:\n - T. Blažek\n - P. Moczo\n
DTSTART;TZID=Europe/Bratislava:20260217T140000
DTEND;TZID=Europe/Bratislava:20260217T144500
LOCATION:F2-125
RRULE:FREQ=WEEKLY;UNTIL=20260523T000000Z
SUMMARY:Seminár pracoviska (2)
END:VEVENT
BEGIN:VEVENT
UID:lesson(951)-semester(022026-052026)-candle@candle.fmph.uniba.sk
DTSTAMP:20260425T010322Z
CATEGORIES:Seminár
DESCRIPTION:Seminár\n\nVyučujúci:\n - T. Blažek\n - P. Moczo\n
DTSTART;TZID=Europe/Bratislava:20260217T145000
DTEND;TZID=Europe/Bratislava:20260217T153500
LOCATION:F2-125
RRULE:FREQ=WEEKLY;UNTIL=20260523T000000Z
SUMMARY:Seminár pracoviska (4)
END:VEVENT
BEGIN:VEVENT
UID:lesson(950)-semester(022026-052026)-candle@candle.fmph.uniba.sk
DTSTAMP:20260425T010322Z
CATEGORIES:Seminár
DESCRIPTION:Seminár\n\nVyučujúci:\n - T. Blažek\n - P. Moczo\n
DTSTART;TZID=Europe/Bratislava:20260217T145000
DTEND;TZID=Europe/Bratislava:20260217T153500
LOCATION:F2-125
RRULE:FREQ=WEEKLY;UNTIL=20260523T000000Z
SUMMARY:Seminár pracoviska (3)
END:VEVENT
BEGIN:VEVENT
UID:lesson(1043)-semester(022026-052026)-candle@candle.fmph.uniba.sk
DTSTAMP:20260425T010322Z
CATEGORIES:Seminár
DESCRIPTION:Seminár\n\nVyučujúci:\n - J. Tóth\n - R. Nagy\n
DTSTART;TZID=Europe/Bratislava:20260218T131000
DTEND;TZID=Europe/Bratislava:20260218T144000
LOCATION:F1-112
RRULE:FREQ=WEEKLY;UNTIL=20260523T000000Z
SUMMARY:Seminár z astronómie a astrofyziky (8)
END:VEVENT
BEGIN:VEVENT
UID:lesson(1041)-semester(022026-052026)-candle@candle.fmph.uniba.sk
DTSTAMP:20260425T010322Z
CATEGORIES:Seminár
DESCRIPTION:Seminár\n\nVyučujúci:\n - J. Tóth\n - R. Nagy\n
DTSTART;TZID=Europe/Bratislava:20260218T131000
DTEND;TZID=Europe/Bratislava:20260218T144000
LOCATION:F1-112
RRULE:FREQ=WEEKLY;UNTIL=20260523T000000Z
SUMMARY:Seminár z astronómie a astrofyziky (4)
END:VEVENT
BEGIN:VEVENT
UID:lesson(1042)-semester(022026-052026)-candle@candle.fmph.uniba.sk
DTSTAMP:20260425T010322Z
CATEGORIES:Seminár
DESCRIPTION:Seminár\n\nVyučujúci:\n - J. Tóth\n - R. Nagy\n
DTSTART;TZID=Europe/Bratislava:20260218T131000
DTEND;TZID=Europe/Bratislava:20260218T144000
LOCATION:F1-112
RRULE:FREQ=WEEKLY;UNTIL=20260523T000000Z
SUMMARY:Seminár z astronómie a astrofyziky (6)
END:VEVENT
BEGIN:VEVENT
UID:lesson(910)-semester(022026-052026)-candle@candle.fmph.uniba.sk
DTSTAMP:20260425T010322Z
CATEGORIES:Prednáška
DESCRIPTION:Prednáška\n\nVyučujúci:\n - R. Martoňák\n
DTSTART;TZID=Europe/Bratislava:20260218T140000
DTEND;TZID=Europe/Bratislava:20260218T153000
LOCATION:F2-272
RRULE:FREQ=WEEKLY;UNTIL=20260523T000000Z
SUMMARY:Ab initio modelovanie materiálov
END:VEVENT
BEGIN:VEVENT
UID:lesson(496)-semester(022026-052026)-candle@candle.fmph.uniba.sk
DTSTAMP:20260425T010322Z
CATEGORIES:Prednáška
DESCRIPTION:Prednáška\n\nVyučujúci:\n - T. Hianik\n
DTSTART;TZID=Europe/Bratislava:20260218T154000
DTEND;TZID=Europe/Bratislava:20260218T175500
LOCATION:F1-326
RRULE:FREQ=WEEKLY;UNTIL=20260523T000000Z
SUMMARY:Molekulárna biofyzika
END:VEVENT
BEGIN:VEVENT
UID:lesson(964)-semester(022026-052026)-candle@candle.fmph.uniba.sk
DTSTAMP:20260425T010322Z
CATEGORIES:Prednáška
DESCRIPTION:Prednáška\n\nVyučujúci:\n - M. Fecko\n
DTSTART;TZID=Europe/Bratislava:20260218T163000
DTEND;TZID=Europe/Bratislava:20260218T180000
LOCATION:F2-130
RRULE:FREQ=WEEKLY;UNTIL=20260523T000000Z
SUMMARY:Matematické metódy teoretickej fyziky (2)
END:VEVENT
BEGIN:VEVENT
UID:lesson(983)-semester(022026-052026)-candle@candle.fmph.uniba.sk
DTSTAMP:20260425T010322Z
CATEGORIES:Prednáška
DESCRIPTION:Prednáška\n\nVyučujúci:\n - P. Veis\n
DTSTART;TZID=Europe/Bratislava:20260219T104000
DTEND;TZID=Europe/Bratislava:20260219T121000
LOCATION:F2-167
RRULE:FREQ=WEEKLY;UNTIL=20260523T000000Z
SUMMARY:Optická diagnostika plazmy
END:VEVENT
BEGIN:VEVENT
UID:lesson(981)-semester(022026-052026)-candle@candle.fmph.uniba.sk
DTSTAMP:20260425T010322Z
CATEGORIES:Prednáška
DESCRIPTION:Prednáška\n\nVyučujúci:\n - P. Veis\n
DTSTART;TZID=Europe/Bratislava:20260219T122000
DTEND;TZID=Europe/Bratislava:20260219T135000
LOCATION:F2-167
RRULE:FREQ=WEEKLY;UNTIL=20260523T000000Z
SUMMARY:Seminár pracoviska (8)
END:VEVENT
BEGIN:VEVENT
UID:lesson(980)-semester(022026-052026)-candle@candle.fmph.uniba.sk
DTSTAMP:20260425T010322Z
CATEGORIES:Prednáška
DESCRIPTION:Prednáška\n\nVyučujúci:\n - P. Veis\n
DTSTART;TZID=Europe/Bratislava:20260219T122000
DTEND;TZID=Europe/Bratislava:20260219T135000
LOCATION:F2-167
RRULE:FREQ=WEEKLY;UNTIL=20260523T000000Z
SUMMARY:Seminár pracoviska (6)
END:VEVENT
BEGIN:VEVENT
UID:lesson(979)-semester(022026-052026)-candle@candle.fmph.uniba.sk
DTSTAMP:20260425T010322Z
CATEGORIES:Prednáška
DESCRIPTION:Prednáška\n\nVyučujúci:\n - P. Veis\n
DTSTART;TZID=Europe/Bratislava:20260219T122000
DTEND;TZID=Europe/Bratislava:20260219T135000
LOCATION:F2-167
RRULE:FREQ=WEEKLY;UNTIL=20260523T000000Z
SUMMARY:Seminár pracoviska (4)
END:VEVENT
BEGIN:VEVENT
UID:lesson(754)-semester(022026-052026)-candle@candle.fmph.uniba.sk
DTSTAMP:20260425T010322Z
CATEGORIES:Cvičenie
DESCRIPTION:Cvičenie\n\nVyučujúci:\n - A. Barnes\n
DTSTART;TZID=Europe/Bratislava:20260219T131000
DTEND;TZID=Europe/Bratislava:20260219T144000
LOCATION:F1-246
RRULE:FREQ=WEEKLY;UNTIL=20260523T000000Z
SUMMARY:Anglický jazyk pre doktorandov (2)
END:VEVENT
BEGIN:VEVENT
UID:lesson(912)-semester(022026-052026)-candle@candle.fmph.uniba.sk
DTSTAMP:20260425T010322Z
CATEGORIES:Seminár
DESCRIPTION:Seminár\n\nVyučujúci:\n - R. Martoňák\n - T. Plecenik\n
DTSTART;TZID=Europe/Bratislava:20260219T140000
DTEND;TZID=Europe/Bratislava:20260219T153000
LOCATION:F1-108
RRULE:FREQ=WEEKLY;UNTIL=20260523T000000Z
SUMMARY:Seminár z fyziky kondenzovaných látok
END:VEVENT
BEGIN:VEVENT
UID:lesson(1016)-semester(022026-052026)-candle@candle.fmph.uniba.sk
DTSTAMP:20260425T010322Z
CATEGORIES:Seminár
DESCRIPTION:Seminár\n\nVyučujúci:\n - Š. Matejčík\n - A. Zahoranová\n
DTSTART;TZID=Europe/Bratislava:20260219T140000
DTEND;TZID=Europe/Bratislava:20260219T144500
LOCATION:F2-051
RRULE:FREQ=WEEKLY;UNTIL=20260523T000000Z
SUMMARY:Seminár pracoviska (8)
END:VEVENT
BEGIN:VEVENT
UID:lesson(1015)-semester(022026-052026)-candle@candle.fmph.uniba.sk
DTSTAMP:20260425T010322Z
CATEGORIES:Seminár
DESCRIPTION:Seminár\n\nVyučujúci:\n - Š. Matejčík\n - A. Zahoranová\n
DTSTART;TZID=Europe/Bratislava:20260219T140000
DTEND;TZID=Europe/Bratislava:20260219T144500
LOCATION:F2-051
RRULE:FREQ=WEEKLY;UNTIL=20260523T000000Z
SUMMARY:Seminár pracoviska (6)
END:VEVENT
BEGIN:VEVENT
UID:lesson(1014)-semester(022026-052026)-candle@candle.fmph.uniba.sk
DTSTAMP:20260425T010322Z
CATEGORIES:Seminár
DESCRIPTION:Seminár\n\nVyučujúci:\n - Š. Matejčík\n - A. Zahoranová\n
DTSTART;TZID=Europe/Bratislava:20260219T140000
DTEND;TZID=Europe/Bratislava:20260219T144500
LOCATION:F2-051
RRULE:FREQ=WEEKLY;UNTIL=20260523T000000Z
SUMMARY:Seminár pracoviska (4)
END:VEVENT
BEGIN:VEVENT
UID:lesson(755)-semester(022026-052026)-candle@candle.fmph.uniba.sk
DTSTAMP:20260425T010322Z
CATEGORIES:Cvičenie
DESCRIPTION:Cvičenie\n\nVyučujúci:\n - A. Barnes\n
DTSTART;TZID=Europe/Bratislava:20260219T145000
DTEND;TZID=Europe/Bratislava:20260219T162000
LOCATION:F1-246
RRULE:FREQ=WEEKLY;UNTIL=20260523T000000Z
SUMMARY:Anglický jazyk pre doktorandov (2)
END:VEVENT
BEGIN:VEVENT
UID:lesson(904)-semester(022026-052026)-candle@candle.fmph.uniba.sk
DTSTAMP:20260425T010322Z
CATEGORIES:Prednáška
DESCRIPTION:Prednáška\n\nVyučujúci:\n - M. Moško\n
DTSTART;TZID=Europe/Bratislava:20260220T090000
DTEND;TZID=Europe/Bratislava:20260220T111500
LOCATION:F2-272
RRULE:FREQ=WEEKLY;UNTIL=20260523T000000Z
SUMMARY:Elektróny v neusporiadaných a mezoskopických systémoch
END:VEVENT
BEGIN:VEVENT
UID:lesson(703)-semester(022026-052026)-candle@candle.fmph.uniba.sk
DTSTAMP:20260425T010322Z
CATEGORIES:Kurz
DESCRIPTION:Kurz\n\nVyučujúci:\n - R. Böhm\n
DTSTART;TZID=Europe/Bratislava:20260220T140000
DTEND;TZID=Europe/Bratislava:20260220T161500
LOCATION:F1-111
RRULE:FREQ=WEEKLY;UNTIL=20260523T000000Z
SUMMARY:Vybrané kapitoly environmentálnej fyziky
END:VEVENT
BEGIN:VEVENT
UID:lesson(952)-semester(022026-052026)-candle@candle.fmph.uniba.sk
DTSTAMP:20260425T010322Z
CATEGORIES:Prednáška
DESCRIPTION:Prednáška\n\nVyučujúci:\n - T. Blažek\n
DTSTART;TZID=Europe/Bratislava:20260220T172000
DTEND;TZID=Europe/Bratislava:20260220T185000
LOCATION:F2-125
RRULE:FREQ=WEEKLY;UNTIL=20260523T000000Z
SUMMARY:Kvantová optika
END:VEVENT
BEGIN:VEVENT
UID:lesson(970)-semester(022026-052026)-candle@candle.fmph.uniba.sk
DTSTAMP:20260425T010322Z
CATEGORIES:Prednáška
DESCRIPTION:Prednáška\n\nVyučujúci:\n - M. Krššák\n
DTSTART;TZID=Europe/Bratislava:20260220T172000
DTEND;TZID=Europe/Bratislava:20260220T185000
LOCATION:F2-130
RRULE:FREQ=WEEKLY;UNTIL=20260523T000000Z
SUMMARY:Teória gravitácie a kozmológia (2)
END:VEVENT
END:VCALENDAR
