BEGIN:VCALENDAR
VERSION:2.0
PRODID:-//candle.fmph.uniba.sk//NONSGML kigkonsult.se iCalcreator 2.16.12//
METHOD:PUBLISH
X-WR-CALNAME:1pmC-BX
X-WR-CALDESC:Rozvrh hodín vyexportovaný pomocou Candle\, https://github.com
 /fmfi-svt/candle
X-WR-TIMEZONE:Europe/Bratislava
BEGIN:VEVENT
UID:lesson(154)-semester(022026-052026)-candle@candle.fmph.uniba.sk
DTSTAMP:20260424T212424Z
CATEGORIES:Prednáška
DESCRIPTION:Prednáška\n\nVyučujúci:\n - PriFUK\n
DTSTART;TZID=Europe/Bratislava:20260216T145000
DTEND;TZID=Europe/Bratislava:20260216T162000
LOCATION:Ch1-222
RRULE:FREQ=WEEKLY;UNTIL=20260523T000000Z
SUMMARY:Genomika
END:VEVENT
END:VCALENDAR
